Alien-Build-Plugin-Fetch-Rewrite v0.02 Perl 5 v5.26.1 RC1 amd64-freebsd

Status
Pass
From
Slaven Rezić (SREZIC)
Dist
Alien-Build-Plugin-Fetch-Rewrite v0.02
Platform
Perl 5 v5.26.1 RC1 amd64-freebsd
Date
2017-09-11 22:13:59
ID
8302c8b6-973e-11e7-ac8c-df14d49e796d
This distribution has been tested as part of the CPAN Testers
project, supporting the Perl programming language.  See
http://wiki.cpantesters.org/ for more information or email
questions to cpan-testers-discuss@perl.org


--
Dear Graham Ollis,

This is a computer-generated report for Alien-Build-Plugin-Fetch-Rewrite-0.02
on perl 5.26.1, created by CPAN-Reporter-1.2018.

Thank you for uploading your work to CPAN.  Congratulations!
All tests were successful.

Sections of this report:

    * Tester comments
    * Program output
    * Prerequisites
    * Environment and other context

------------------------------
TESTER COMMENTS
------------------------------

Additional comments from tester:

none provided

------------------------------
PROGRAM OUTPUT
------------------------------

Output from '/usr/bin/make test':

PERL_DL_NONLAZY=1 "/usr/perl5.26.1-RC1p/bin/perl5.26.1" "-MExtUtils::Command::MM" "-MTest::Harness" "-e" "undef *Test::Harness::Switches; test_harness(0, 'blib/lib', 'blib/arch')" t/*.t
# 
# 
# 
# HARNESS_ACTIVE=1
# HARNESS_VERSION=3.38
# PERL5LIB=/home/cpansand/.cpan/build/2017091121/Alien-Build-Plugin-Fetch-Rewrite-0.02-0/blib/lib:/home/cpansand/.cpan/build/2017091121/Alien-Build-Plugin-Fetch-Rewrite-0.02-0/blib/arch:
# PERL5OPT=
# PERL5_CPANPLUS_IS_RUNNING=89244
# PERL5_CPAN_IS_RUNNING=89244
# PERL5_CPAN_IS_RUNNING_IN_RECURSION=21241,89244
# PERLDOC=-MPod::Perldoc::ToTextOverstrike
# PERL_BATCH=yes
# PERL_CANARY_STABILITY_NOPROMPT=1
# PERL_CPAN_REPORTER_CONFIG=/var/tmp/cpansmoker-1023/2017091118/cpanreporter_001_config.ini
# PERL_DL_NONLAZY=1
# PERL_EXTUTILS_AUTOINSTALL=--defaultdeps
# PERL_USE_UNSAFE_INC=1
# SHELL=/usr/local/bin/zsh
# 
# 
# 
# PERL5LIB path
# /home/cpansand/.cpan/build/2017091121/Alien-Build-Plugin-Fetch-Rewrite-0.02-0/blib/lib
# /home/cpansand/.cpan/build/2017091121/Alien-Build-Plugin-Fetch-Rewrite-0.02-0/blib/arch
# 
# 
# 
# perl                               5.026001
# Alien::Build                       1.10
# Alien::Build::Plugin::Decode::HTML 1.10
# Alien::Build::Plugin::Fetch::LWP   1.10
# Capture::Tiny                      0.46
# ExtUtils::MakeMaker                7.24
# HTML::LinkExtor                    3.69
# LWP::Protocol::https               6.07
# LWP::UserAgent                     6.26
# Path::Tiny                         0.104
# Test2::Mock                        0.000072
# Test2::V0                          0.000072
# Test::Alien::Build                 1.10
# URI                                1.72
# URI::Escape                        3.31
# 
# 
# 
t/00_diag.t ........................... ok
t/01_use.t ............................ ok
t/alien_build_plugin_fetch_rewrite.t .. ok
All tests successful.
Files=3, Tests=5,  1 wallclock secs ( 0.02 usr  0.00 sys +  0.59 cusr  0.10 csys =  0.71 CPU)
Result: PASS

------------------------------
PREREQUISITES
------------------------------

Prerequisite modules loaded:

requires:

    Module                             Need     Have    
    ---------------------------------- -------- --------
    Alien::Build                       0.62     1.10    
    Alien::Build::Plugin::Decode::HTML 0        1.10    
    Alien::Build::Plugin::Fetch::LWP   0        1.10    
    HTML::LinkExtor                    0        3.69    
    LWP::Protocol::https               0        6.07    
    LWP::UserAgent                     0        6.26    
    perl                               5.008001 5.026001
    URI                                0        1.72    
    URI::Escape                        0        3.31    

build_requires:

    Module                             Need     Have    
    ---------------------------------- -------- --------
    Capture::Tiny                      0        0.46    
    ExtUtils::MakeMaker                0        7.24    
    Path::Tiny                         0        0.104   
    Test2::Mock                        0.000060 0.000072
    Test2::V0                          0.000060 0.000072
    Test::Alien::Build                 0        1.10    

configure_requires:

    Module                             Need     Have    
    ---------------------------------- -------- --------
    ExtUtils::MakeMaker                0        7.24    
    perl                               5.008001 5.026001


------------------------------
ENVIRONMENT AND OTHER CONTEXT
------------------------------

Environment variables:

    PATH = /usr/local/bin:/usr/bin:/bin:/usr/local/sbin:/usr/sbin:/sbin:/home/cpansand/bin/freebsd11.0:/home/cpansand/bin/sh:/home/cpansand/bin:/usr/games:/home/cpansand/devel:/home/eserte/src/srezic-misc/scripts
    PERL5LIB = 
    PERL5OPT = 
    PERL5_CPANPLUS_IS_RUNNING = 89244
    PERL5_CPAN_IS_RUNNING = 89244
    PERL5_CPAN_IS_RUNNING_IN_RECURSION = 21241,89244
    PERLDOC = -MPod::Perldoc::ToTextOverstrike
    PERL_BATCH = yes
    PERL_CANARY_STABILITY_NOPROMPT = 1
    PERL_CPAN_REPORTER_CONFIG = /var/tmp/cpansmoker-1023/2017091118/cpanreporter_001_config.ini
    PERL_EXTUTILS_AUTOINSTALL = --defaultdeps
    PERL_USE_UNSAFE_INC = 1
    SHELL = /usr/local/bin/zsh
    TERM = screen
    TMPDIR = /var/tmp/cpansmoker-1023/2017091118

Perl special variables (and OS-specific diagnostics, for MSWin32):

    $^X = /usr/perl5.26.1-RC1p/bin/perl5.26.1
    $UID/$EUID = 1023 / 1023
    $GID = 1023 1023
    $EGID = 1023 1023

Perl module toolchain versions installed:

    Module              Have      
    ------------------- ----------
    CPAN                2.18      
    CPAN::Meta          2.150010  
    Cwd                 3.67      
    ExtUtils::CBuilder  0.280225  
    ExtUtils::Command   7.24      
    ExtUtils::Install   2.04      
    ExtUtils::MakeMaker 7.24      
    ExtUtils::Manifest  1.70      
    ExtUtils::ParseXS   3.34      
    File::Spec          3.67      
    JSON                2.94      
    JSON::PP            2.27400_02
    Module::Build       0.4224    
    Module::Signature   0.81      
    Parse::CPAN::Meta   2.150010  
    Test::Harness       3.38      
    Test::More          1.302086  
    YAML                1.23      
    YAML::Syck          1.30      
    version             0.9917    


--

Summary of my perl5 (revision 5 version 26 subversion 1) configuration:
   
  Platform:
    osname=freebsd
    osvers=11.1-stable
    archname=amd64-freebsd
    uname='freebsd ali3.bbbike.org 11.1-stable freebsd 11.1-stable #0 r313908+86423c22e2d(stable11): thu sep 7 22:30:27 utc 2017 root@ali3.bbbike.org:usrobjhomeprojectsfreebsdsysgeneric amd64 '
    config_args='-ds -e -Dprefix=/usr/perl5.26.1-RC1p -Dcf_email=srezic@cpan.org -Doptimize=-O2 -pipe'
    hint=recommended
    useposix=true
    d_sigaction=define
    useithreads=undef
    usemultiplicity=undef
    use64bitint=define
    use64bitall=define
    uselongdouble=undef
    usemymalloc=n
    default_inc_excludes_dot=define
    bincompat5005=undef
  Compiler:
    cc='cc'
    ccflags ='-DHAS_FPSETMASK -DHAS_FLOATINGPOINT_H -fno-strict-aliasing -pipe -fstack-protector-strong -I/usr/local/include -D_FORTIFY_SOURCE=2'
    optimize='-O2 -pipe'
    cppflags='-DHAS_FPSETMASK -DHAS_FLOATINGPOINT_H -fno-strict-aliasing -pipe -fstack-protector-strong -I/usr/local/include'
    ccversion=''
    gccversion='4.2.1 Compatible FreeBSD Clang 4.0.0 (tags/RELEASE_400/final 297347)'
    gccosandvers=''
    intsize=4
    longsize=8
    ptrsize=8
    doublesize=8
    byteorder=12345678
    doublekind=3
    d_longlong=define
    longlongsize=8
    d_longdbl=define
    longdblsize=16
    longdblkind=3
    ivtype='long'
    ivsize=8
    nvtype='double'
    nvsize=8
    Off_t='off_t'
    lseeksize=8
    alignbytes=8
    prototype=define
  Linker and Libraries:
    ld='cc'
    ldflags ='-pthread -Wl,-E  -fstack-protector-strong -L/usr/local/lib'
    libpth=/usr/lib /usr/local/lib /usr/bin/../lib/clang/4.0.0/lib /usr/lib
    libs=-lpthread -lgdbm -lm -lcrypt -lutil -lc
    perllibs=-lpthread -lm -lcrypt -lutil -lc
    libc=
    so=so
    useshrplib=false
    libperl=libperl.a
    gnulibc_version=''
  Dynamic Linking:
    dlsrc=dl_dlopen.xs
    dlext=so
    d_dlsymun=undef
    ccdlflags=' '
    cccdlflags='-DPIC -fPIC'
    lddlflags='-shared  -L/usr/local/lib -fstack-protector-strong'


Characteristics of this binary (from libperl): 
  Compile-time options:
    HAS_TIMES
    PERLIO_LAYERS
    PERL_COPY_ON_WRITE
    PERL_DONT_CREATE_GVSV
    PERL_MALLOC_WRAP
    PERL_OP_PARENT
    PERL_PRESERVE_IVUV
    USE_64_BIT_ALL
    USE_64_BIT_INT
    USE_LARGE_FILES
    USE_LOCALE
    USE_LOCALE_COLLATE
    USE_LOCALE_CTYPE
    USE_LOCALE_NUMERIC
    USE_LOCALE_TIME
    USE_PERLIO
    USE_PERL_ATOF
  Locally applied patches:
    RC1
  Built under freebsd
  Compiled at Sep 10 2017 15:53:34
  %ENV:
    PERL5LIB=""
    PERL5OPT=""
    PERL5_CPANPLUS_IS_RUNNING="89244"
    PERL5_CPAN_IS_RUNNING="89244"
    PERL5_CPAN_IS_RUNNING_IN_RECURSION="21241,89244"
    PERLDOC="-MPod::Perldoc::ToTextOverstrike"
    PERL_BATCH="yes"
    PERL_CANARY_STABILITY_NOPROMPT="1"
    PERL_CPAN_REPORTER_CONFIG="/var/tmp/cpansmoker-1023/2017091118/cpanreporter_001_config.ini"
    PERL_EXTUTILS_AUTOINSTALL="--defaultdeps"
    PERL_USE_UNSAFE_INC="1"
  @INC:
    /usr/perl5.26.1-RC1p/lib/site_perl/5.26.1/amd64-freebsd
    /usr/perl5.26.1-RC1p/lib/site_perl/5.26.1
    /usr/perl5.26.1-RC1p/lib/5.26.1/amd64-freebsd
    /usr/perl5.26.1-RC1p/lib/5.26.1
    .