CGI-Uploader v2.18 Perl 5 v5.24.2 x86_64-linux-ld

Status
Pass
From
Andreas J. König (ANDK)
Dist
CGI-Uploader v2.18
Platform
Perl 5 v5.24.2 x86_64-linux-ld
Date
2017-09-29 19:58:07
ID
82f70a1a-a550-11e7-a519-fb5628aef87d
This distribution has been tested as part of the CPAN Testers
project, supporting the Perl programming language.  See
http://wiki.cpantesters.org/ for more information or email
questions to cpan-testers-discuss@perl.org


--
Dear Mark Stosberg,

This is a computer-generated report for CGI-Uploader-2.18
on perl 5.24.2, created by CPAN-Reporter-1.2018.

Thank you for uploading your work to CPAN.  Congratulations!
All tests were successful.

Sections of this report:

    * Tester comments
    * Program output
    * Prerequisites
    * Environment and other context

------------------------------
TESTER COMMENTS
------------------------------

Additional comments from tester:

this report is from an automated smoke testing program
and was not reviewed by a human for accuracy

------------------------------
PROGRAM OUTPUT
------------------------------

Output from '/usr/bin/make test':

PERL_DL_NONLAZY=1 "/home/sand/src/perl/repoperls/installed-perls/host/k93msid/v5.24.2/0a29/bin/perl" "-MExtUtils::Command::MM" "-MTest::Harness" "-e" "undef *Test::Harness::Switches; test_harness(0, 'inc', 'blib/lib', 'blib/arch')" t/*.t
t/basic.t ......... ok
t/build_loc.t ..... ok
t/cgi-simple.t .... skipped: CGI::Simple should work, but having these tests for it work is
t/gen_thumb.t ..... skipped: No graphics module found for image resizing. Install Graphics::Magick or Image::Magick: Can't locate Graphics/Magick.pm in @INC (you may need to install the Graphics::Magick module) (@INC contains: t/lib /tmp/loop_over_bdir-18888-xgTeLS/CGI-Uploader-2.18-0/inc /tmp/loop_over_bdir-18888-xgTeLS/CGI-Uploader-2.18-0/blib/lib /tmp/loop_over_bdir-18888-xgTeLS/CGI-Uploader-2.18-0/blib/arch /tmp/loop_over_bdir-18888-xgTeLS/Test-DatabaseRow-2.04-0/blib/arch /tmp/loop_over_bdir-18888-xgTeLS/Test-DatabaseRow-2.04-0/blib/lib /home/sand/src/perl/repoperls/installed-perls/host/k93msid/v5.24.2/0a29/lib/site_perl/5.24.2/x86_64-linux-ld /home/sand/src/perl/repoperls/installed-perls/host/k93msid/v5.24.2/0a29/lib/site_perl/5.24.2 /home/sand/src/perl/repoperls/installed-perls/host/k93msid/v5.24.2/0a29/lib/5.24.2/x86_64-linux-ld /home/sand/src/perl/repoperls/installed-perls/host/k93msid/v5.24.2/0a29/lib/5.24.2 .) at t/gen_thumb.t line 18.
t/meta.t .......... ok
t/pod.t ........... ok
t/up_table_map.t .. ok
All tests successful.
Files=7, Tests=67,  5 wallclock secs ( 0.05 usr  0.04 sys +  1.68 cusr  0.42 csys =  2.19 CPU)
Result: PASS

------------------------------
PREREQUISITES
------------------------------

Prerequisite modules loaded:

requires:

    Module                Need Have   
    --------------------- ---- -------
    Carp::Assert          0    0.21   
    CGI                   0    4.36   
    CGI::Carp             0    4.36   
    DBD::SQLite           1.1  1.54   
    DBI                   0    1.637  
    Digest::MD5           0    2.54   
    File::Copy            0    2.31   
    File::MMagic          1.22 1.30   
    File::Path            0    2.12_01
    File::Spec            0    3.63_01
    File::Temp            0.15 0.2304 
    HTTP::BrowserDetect   0.98 3.14   
    HTTP::Request::Common 0    6.13   
    Image::Size           0    3.300  
    MIME::Type            0    2.13   
    MIME::Types           0    2.13   
    Params::Validate      0.77 1.29   
    Scalar::Util          0    1.48   
    SQL::Abstract         0    1.84   
    Test::DatabaseRow     0    2.04   

build_requires:

    Module                Need Have   
    --------------------- ---- -------
    ExtUtils::MakeMaker   0    7.30   


------------------------------
ENVIRONMENT AND OTHER CONTEXT
------------------------------

Environment variables:

    AUTOMATED_TESTING = 1
    LANG = en_US.UTF-8
    PATH = /home/sand/bin:/usr/local/bin:/usr/bin:/bin:/usr/games:/usr/local/perl/bin:/usr/X11/bin:/sbin:/usr/sbin
    PERL5LIB = /tmp/loop_over_bdir-18888-xgTeLS/Test-DatabaseRow-2.04-0/blib/arch:/tmp/loop_over_bdir-18888-xgTeLS/Test-DatabaseRow-2.04-0/blib/lib
    PERL5OPT = 
    PERL5_CPANPLUS_IS_RUNNING = 18948
    PERL5_CPAN_IS_RUNNING = 18948
    PERL5_CPAN_IS_RUNNING_IN_RECURSION = 5668,18948
    PERL_CANARY_STABILITY_NOPROMPT = 1
    PERL_MM_USE_DEFAULT = 1
    PERL_USE_UNSAFE_INC = 1
    SHELL = /usr/bin/zsh
    TERM = screen

Perl special variables (and OS-specific diagnostics, for MSWin32):

    $^X = /home/sand/src/perl/repoperls/installed-perls/host/k93msid/v5.24.2/0a29/bin/perl
    $UID/$EUID = 1005 / 1005
    $GID = 1005 1005
    $EGID = 1005 1005

Perl module toolchain versions installed:

    Module              Have      
    ------------------- ----------
    CPAN                2.18      
    CPAN::Meta          2.150010  
    Cwd                 3.63_01   
    ExtUtils::CBuilder  0.280226  
    ExtUtils::Command   7.30      
    ExtUtils::Install   2.06      
    ExtUtils::MakeMaker 7.30      
    ExtUtils::Manifest  1.70      
    ExtUtils::ParseXS   3.31      
    File::Spec          3.63_01   
    JSON                2.94      
    JSON::PP            2.27300_01
    Module::Build       0.4224    
    Module::Signature   0.81      
    Parse::CPAN::Meta   2.150010  
    Test::Harness       3.39      
    Test::More          1.302096  
    YAML                1.23      
    YAML::Syck          1.30      
    version             0.9916    


--

Summary of my perl5 (revision 5 version 24 subversion 2) configuration:
  Derived from: eb3b805818a89c08b5564d383beddf70f69af1a3
  Platform:
    osname=linux, osvers=4.9.0-2-amd64, archname=x86_64-linux-ld
    uname='linux k93msid 4.9.0-2-amd64 #1 smp debian 4.9.18-1 (2017-03-30) x86_64 gnulinux '
    config_args='-Dprefix=/home/sand/src/perl/repoperls/installed-perls/host/k93msid/v5.24.2/0a29 -Dmyhostname=k93msid -Dinstallusrbinperl=n -Uversiononly -Dusedevel -des -Ui_db -Dlibswanted=cl pthread socket inet nsl gdbm dbm malloc dl ld sun m crypt sec util c cposix posix ucb BSD gdbm_compat -Uuseithreads -Duselongdouble -DDEBUGGING=both'
    hint=recommended, useposix=true, d_sigaction=define
    useithreads=undef, usemultiplicity=undef
    use64bitint=define, use64bitall=define, uselongdouble=define
    usemymalloc=n, bincompat5005=undef
  Compiler:
    cc='cc', ccflags ='-fwrapv -DDEBUGGING -fno-strict-aliasing -pipe -fstack-protector-strong -I/usr/local/include -D_LARGEFILE_SOURCE -D_FILE_OFFSET_BITS=64',
    optimize='-O2 -g',
    cppflags='-fwrapv -DDEBUGGING -fno-strict-aliasing -pipe -fstack-protector-strong -I/usr/local/include'
    ccversion='', gccversion='6.3.0 20170406', gccosandvers=''
    intsize=4, longsize=8, ptrsize=8, doublesize=8, byteorder=12345678, doublekind=3
    d_longlong=define, longlongsize=8, d_longdbl=define, longdblsize=16, longdblkind=3
    ivtype='long', ivsize=8, nvtype='long double', nvsize=16, Off_t='off_t', lseeksize=8
    alignbytes=16, prototype=define
  Linker and Libraries:
    ld='cc', ldflags =' -fstack-protector-strong -L/usr/local/lib'
    libpth=/usr/local/lib /usr/lib/gcc/x86_64-linux-gnu/6/include-fixed /usr/include/x86_64-linux-gnu /usr/lib /lib/x86_64-linux-gnu /lib/../lib /usr/lib/x86_64-linux-gnu /usr/lib/../lib /lib
    libs=-lpthread -lnsl -ldl -lm -lcrypt -lutil -lc
    perllibs=-lpthread -lnsl -ldl -lm -lcrypt -lutil -lc
    libc=libc-2.24.so, so=so, useshrplib=false, libperl=libperl.a
    gnulibc_version='2.24'
  Dynamic Linking:
    dlsrc=dl_dlopen.xs, dlext=so, d_dlsymun=undef, ccdlflags='-Wl,-E'
    cccdlflags='-fPIC', lddlflags='-shared -O2 -g -L/usr/local/lib -fstack-protector-strong'


Characteristics of this binary (from libperl): 
  Compile-time options: DEBUGGING HAS_TIMES PERLIO_LAYERS PERL_COPY_ON_WRITE
                        PERL_DONT_CREATE_GVSV
                        PERL_HASH_FUNC_ONE_AT_A_TIME_HARD PERL_MALLOC_WRAP
                        PERL_PRESERVE_IVUV PERL_USE_DEVEL USE_64_BIT_ALL
                        USE_64_BIT_INT USE_LARGE_FILES USE_LOCALE
                        USE_LOCALE_COLLATE USE_LOCALE_CTYPE
                        USE_LOCALE_NUMERIC USE_LOCALE_TIME USE_LONG_DOUBLE
                        USE_PERLIO USE_PERL_ATOF
  Locally applied patches:
	uncommitted-changes
  Built under linux
  Compiled at Aug 25 2017 17:11:26
  %ENV:
    PERL5LIB="/tmp/loop_over_bdir-18888-xgTeLS/Test-DatabaseRow-2.04-0/blib/arch:/tmp/loop_over_bdir-18888-xgTeLS/Test-DatabaseRow-2.04-0/blib/lib"
    PERL5OPT=""
    PERL5_CPANPLUS_IS_RUNNING="18948"
    PERL5_CPAN_IS_RUNNING="18948"
    PERL5_CPAN_IS_RUNNING_IN_RECURSION="5668,18948"
    PERL_CANARY_STABILITY_NOPROMPT="1"
    PERL_MM_USE_DEFAULT="1"
    PERL_USE_UNSAFE_INC="1"
  @INC:
    /tmp/loop_over_bdir-18888-xgTeLS/Test-DatabaseRow-2.04-0/blib/arch
    /tmp/loop_over_bdir-18888-xgTeLS/Test-DatabaseRow-2.04-0/blib/lib
    /home/sand/src/perl/repoperls/installed-perls/host/k93msid/v5.24.2/0a29/lib/site_perl/5.24.2/x86_64-linux-ld
    /home/sand/src/perl/repoperls/installed-perls/host/k93msid/v5.24.2/0a29/lib/site_perl/5.24.2
    /home/sand/src/perl/repoperls/installed-perls/host/k93msid/v5.24.2/0a29/lib/5.24.2/x86_64-linux-ld
    /home/sand/src/perl/repoperls/installed-perls/host/k93msid/v5.24.2/0a29/lib/5.24.2
    .