MongoDB vv2.2.2 Perl 5 v5.30.3 x86_64-linux
- Status
- Pass
- From
- David Cantrell (DCANTRELL)
- Dist
-
MongoDB vv2.2.2
- Platform
- Perl 5 v5.30.3 x86_64-linux
- Date
- 2020-08-14 09:21:18
- ID
- 82c704a0-de0f-11ea-bb1e-a3b2a1724e2f
This distribution has been tested as part of the CPAN Testers
project, supporting the Perl programming language. See
http://wiki.cpantesters.org/ for more information or email
questions to cpan-testers-discuss@perl.org
--
Dear MongoDB Inc,
This is a computer-generated report for MongoDB-v2.2.2
on perl 5.30.3, created by CPAN-Reporter-1.2018.
Thank you for uploading your work to CPAN. Congratulations!
All tests were successful.
Sections of this report:
* Tester comments
* Program output
* Prerequisites
* Environment and other context
------------------------------
TESTER COMMENTS
------------------------------
Additional comments from tester:
this report is from an automated smoke testing program
and was not reviewed by a human for accuracy
------------------------------
PROGRAM OUTPUT
------------------------------
Output from '/usr/bin/make test':
PERL_DL_NONLAZY=1 "/home/david/cpantesting/perl-5.30.3/bin/perl" "-MExtUtils::Command::MM" "-MTest::Harness" "-e" "undef *Test::Harness::Switches; test_harness(0, 'blib/lib', 'blib/arch')" t/*.t t/deprecated/*.t t/examples/*.t t/unit/*.t
# Checking MongoDB test environment
# MongoDB driver version v2.2.2
# BSON::XS codec version v0.8.4
t/00-report-mongod.t ....................... skipped: no mongod on localhost:27017 and $ENV{MONGOD} not set
t/max_time_ms.t ............................ skipped: no mongod on localhost:27017 and $ENV{MONGOD} not set
t/using_profiler.t ......................... skipped: no mongod on localhost:27017 and $ENV{MONGOD} not set
t/changestreams.t .......................... skipped: no mongod on localhost:27017 and $ENV{MONGOD} not set
t/changestreams_spec.t ..................... skipped: no mongod on localhost:27017 and $ENV{MONGOD} not set
t/examples/changestream.t .................. skipped: no mongod on localhost:27017 and $ENV{MONGOD} not set
t/retryable-writes-spec.t .................. skipped: no mongod on localhost:27017 and $ENV{MONGOD} not set
t/retryable-writes-split-batch.t ........... skipped: no mongod on localhost:27017 and $ENV{MONGOD} not set
t/retryable-reads-spec.t ................... skipped: no mongod on localhost:27017 and $ENV{MONGOD} not set
t/sessions-spec.t .......................... skipped: no mongod on localhost:27017 and $ENV{MONGOD} not set
t/transactions-spec.t ...................... skipped: no mongod on localhost:27017 and $ENV{MONGOD} not set
t/transactions-convenient-api-spec.t ....... skipped: no mongod on localhost:27017 and $ENV{MONGOD} not set
t/connections-survive-step-down.t .......... skipped: no mongod on localhost:27017 and $ENV{MONGOD} not set
#
# Versions for all modules listed in MYMETA.json (including optional ones):
#
# === Configure Requires ===
#
# Module Want Have
# ------------------- ---- ----
# ExtUtils::MakeMaker 6.17 7.34
# Text::ParseWords any 3.30
#
# === Build Requires ===
#
# Module Want Have
# ------------------- ---- ----
# ExtUtils::MakeMaker any 7.34
#
# === Test Requires ===
#
# Module Want Have
# ------------------- ----- --------
# BSON::Decimal128 any v1.12.2
# Data::Dumper any 2.174
# ExtUtils::MakeMaker any 7.34
# File::Compare any 1.1006
# File::Spec any 3.78
# IO::File any 1.40
# JSON::MaybeXS any 1.004002
# Path::Tiny 0.058 0.114
# Storable any 3.15
# Test::Deep 0.111 1.130
# Test::Fatal any 0.014
# Test::More 0.96 1.302177
# lib any 0.65
# utf8 any 1.22
#
# === Test Recommends ===
#
# Module Want Have
# ------------- -------- --------
# CPAN::Meta 2.120900 2.150010
# Test::Harness 3.31 3.42
# Time::Moment 0.22 missing
#
# === Runtime Requires ===
#
# Module Want Have
# ---------------------- -------- --------
# Authen::SASL::SASLprep any 1.100
# Authen::SCRAM::Client 0.011 0.011
# BSON 1.012000 v1.12.2
# BSON::Bytes any v1.12.2
# BSON::Code any v1.12.2
# BSON::DBRef any v1.12.2
# BSON::OID any v1.12.2
# BSON::Raw any v1.12.2
# BSON::Regex any v1.12.2
# BSON::Time any v1.12.2
# BSON::Timestamp any v1.12.2
# BSON::Types any v1.12.2
# BSON::XS 0.008000 v0.8.4
# Carp any 1.50
# Class::XSAccessor any 1.19
# Compress::Zlib any 2.084
# Digest::MD5 any 2.55
# Encode any 3.01
# Exporter 5.57 5.73
# IO::Socket any 1.40
# List::Util any 1.55
# MIME::Base64 any 3.15
# Math::BigInt any 1.999816
# Moo 2 2.004000
# Moo::Role any 2.004000
# Net::DNS any 1.26
# Safe::Isa 1.000007 1.000010
# Scalar::Util any 1.55
# Socket any 2.027
# Sub::Defer any 2.006006
# Sub::Quote any 2.006006
# Tie::IxHash any 1.23
# Time::HiRes any 1.9760
# Type::Library any 1.010003
# Type::Tiny::XS any 0.019
# Type::Utils any 1.010003
# Types::Standard any 1.010003
# UUID::URandom any 0.001
# boolean 0.25 0.46
# bytes any 1.07
# constant any 1.33
# if any 0.0608
# namespace::clean any 0.27
# overload any 1.30
# re any 0.37
# strict any 1.11
# version any 0.9924
# warnings any 1.44
#
# === Runtime Recommends ===
#
# Module Want Have
# --------------- -------- --------
# IO::Socket::IP 0.32 0.39
# IO::Socket::SSL 1.42 2.068
# Mozilla::CA 20130114 20200520
# Net::SSLeay 1.49 1.88
#
# === Runtime Suggests ===
#
# Module Want Have
# --------------- ---- -----
# IO::Socket::SSL 1.56 2.068
#
t/00-report-prereqs.t ...................... ok
t/auth_spec.t .............................. ok
t/bulk.t ................................... skipped: no mongod on localhost:27017 and $ENV{MONGOD} not set
t/bulk_write_pipeline.t .................... skipped: no mongod on localhost:27017 and $ENV{MONGOD} not set
t/bypass_doc_validation.t .................. skipped: no mongod on localhost:27017 and $ENV{MONGOD} not set
t/causal_consistency.t ..................... skipped: no mongod on localhost:27017 and $ENV{MONGOD} not set
t/collection.t ............................. skipped: no mongod on localhost:27017 and $ENV{MONGOD} not set
t/connection.t ............................. skipped: no mongod on localhost:27017 and $ENV{MONGOD} not set
t/connection_string_spec.t ................. ok
t/crud.t ................................... skipped: no mongod on localhost:27017 and $ENV{MONGOD} not set
t/crud_spec.t .............................. skipped: no mongod on localhost:27017 and $ENV{MONGOD} not set
t/cursor.t ................................. skipped: no mongod on localhost:27017 and $ENV{MONGOD} not set
t/database.t ............................... skipped: no mongod on localhost:27017 and $ENV{MONGOD} not set
t/dbref.t .................................. skipped: no mongod on localhost:27017 and $ENV{MONGOD} not set
t/deprecated/bson.t ........................ skipped: no mongod on localhost:27017 and $ENV{MONGOD} not set
t/deprecated/collection.t .................. skipped: no mongod on localhost:27017 and $ENV{MONGOD} not set
t/deprecated/cursor.t ...................... skipped: no mongod on localhost:27017 and $ENV{MONGOD} not set
t/deprecated/find_modifiers.t .............. skipped: no mongod on localhost:27017 and $ENV{MONGOD} not set
t/deprecated/parallel_scan.t ............... skipped: no mongod on localhost:27017 and $ENV{MONGOD} not set
t/deprecated/regexp_obj.t .................. skipped: no mongod on localhost:27017 and $ENV{MONGOD} not set
t/deprecated/types.t ....................... skipped: no mongod on localhost:27017 and $ENV{MONGOD} not set
t/deprecated/typewrappers.t ................ skipped: no mongod on localhost:27017 and $ENV{MONGOD} not set
t/enumerate_databases.t .................... skipped: no mongod on localhost:27017 and $ENV{MONGOD} not set
t/errors.t ................................. ok
t/examples/driver-examples.t ............... skipped: no mongod on localhost:27017 and $ENV{MONGOD} not set
t/examples/transaction.t ................... skipped: no mongod on localhost:27017 and $ENV{MONGOD} not set
t/find_modifiers.t ......................... skipped: no mongod on localhost:27017 and $ENV{MONGOD} not set
t/fsync.t .................................. skipped: no mongod on localhost:27017 and $ENV{MONGOD} not set
t/gridfs_spec.t ............................ skipped: no mongod on localhost:27017 and $ENV{MONGOD} not set
t/gridfsbucket.t ........................... skipped: no mongod on localhost:27017 and $ENV{MONGOD} not set
t/indexview.t .............................. skipped: no mongod on localhost:27017 and $ENV{MONGOD} not set
t/kill-cursor.t ............................ skipped: no mongod on localhost:27017 and $ENV{MONGOD} not set
t/max_staleness_spec.t ..................... ok
t/monitoring.t ............................. skipped: no mongod on localhost:27017 and $ENV{MONGOD} not set
t/monitoring_spec.t ........................ skipped: no mongod on localhost:27017 and $ENV{MONGOD} not set
t/oid_generation.t ......................... skipped: no mongod on localhost:27017 and $ENV{MONGOD} not set
t/op_msg.t ................................. skipped: no mongod on localhost:27017 and $ENV{MONGOD} not set
t/pre_encode_insert_update.t ............... ok
t/protocol_op_msg.t ........................ ok
t/read_write_concern_spec.t ................ ok
t/readpref.t ............................... skipped: no mongod on localhost:27017 and $ENV{MONGOD} not set
t/retryable-writes-command-construction.t .. skipped: no mongod on localhost:27017 and $ENV{MONGOD} not set
t/sdam_monitoring.t ........................ skipped: no mongod on localhost:27017 and $ENV{MONGOD} not set
t/sdam_spec.t .............................. ok
t/sessions-cursors.t ....................... skipped: no mongod on localhost:27017 and $ENV{MONGOD} not set
t/sessions-driver.t ........................ skipped: no mongod on localhost:27017 and $ENV{MONGOD} not set
t/sessions-end.t ........................... skipped: no mongod on localhost:27017 and $ENV{MONGOD} not set
t/sessions-unacknowledged-write.t .......... skipped: no mongod on localhost:27017 and $ENV{MONGOD} not set
t/ss_spec.t ................................ ok
t/transactions-convenient-api.t ............ skipped: no mongod on localhost:27017 and $ENV{MONGOD} not set
t/transactions-mongos-pinning.t ............ skipped: no mongod on localhost:27017 and $ENV{MONGOD} not set
t/unit/configuration.t ..................... ok
t/unit/link.t .............................. ok
t/unit/read_preference.t ................... ok
t/unit/uri.t ............................... ok
t/unit/uri_spec.t .......................... ok
t/unit/uri_srv.t ........................... ok
t/unit/write_concern.t ..................... ok
All tests successful.
Files=71, Tests=199, 591 wallclock secs ( 0.40 usr 0.10 sys + 42.68 cusr 3.65 csys = 46.83 CPU)
Result: PASS
------------------------------
PREREQUISITES
------------------------------
Prerequisite modules loaded:
requires:
Module Need Have
---------------------- -------- --------
Authen::SASL::SASLprep 0 1.100
Authen::SCRAM::Client 0.011 0.011
boolean 0.25 0.46
BSON 1.012000 v1.12.2
BSON::Bytes 0 v1.12.2
BSON::Code 0 v1.12.2
BSON::DBRef 0 v1.12.2
BSON::OID 0 v1.12.2
BSON::Raw 0 v1.12.2
BSON::Regex 0 v1.12.2
BSON::Time 0 v1.12.2
BSON::Timestamp 0 v1.12.2
BSON::Types 0 v1.12.2
BSON::XS 0.008000 v0.8.4
bytes 0 1.07
Carp 0 1.50
Class::XSAccessor 0 1.19
Compress::Zlib 0 2.084
constant 0 1.33
Digest::MD5 0 2.55
Encode 0 3.01
Exporter 5.57 5.73
if 0 0.0608
IO::Socket 0 1.40
List::Util 0 1.55
Math::BigInt 0 1.999816
MIME::Base64 0 3.15
Moo 2 2.004000
Moo::Role 0 2.004000
namespace::clean 0 0.27
Net::DNS 0 1.26
overload 0 1.30
perl 5.010001 5.030003
re 0 0.37
Safe::Isa 1.000007 1.000010
Scalar::Util 0 1.55
Socket 0 2.027
strict 0 1.11
Sub::Defer 0 2.006006
Sub::Quote 0 2.006006
Tie::IxHash 0 1.23
Time::HiRes 0 1.9760
Type::Library 0 1.010003
Type::Tiny::XS 0 0.019
Type::Utils 0 1.010003
Types::Standard 0 1.010003
UUID::URandom 0 0.001
version 0 0.9924
warnings 0 1.44
build_requires:
Module Need Have
---------------------- -------- --------
BSON::Decimal128 0 v1.12.2
Data::Dumper 0 2.174
ExtUtils::MakeMaker 0 7.34
File::Compare 0 1.1006
File::Spec 0 3.78
IO::File 0 1.40
JSON::MaybeXS 0 1.004002
lib 0 0.65
Path::Tiny 0.058 0.114
Storable 0 3.15
Test::Deep 0.111 1.130
Test::Fatal 0 0.014
Test::More 0.96 1.302177
utf8 0 1.22
configure_requires:
Module Need Have
---------------------- -------- --------
ExtUtils::MakeMaker 6.17 7.34
Text::ParseWords 0 3.30
------------------------------
ENVIRONMENT AND OTHER CONTEXT
------------------------------
Environment variables:
AUTOMATED_TESTING = 1
LANG = en_US.UTF-8
NONINTERACTIVE_TESTING = 1
PATH = /usr/local/bin:/usr/bin:/bin:/usr/local/games:/usr/games
PERL = 5.30.3
PERL5LIB =
PERL5OPT =
PERL5_CPANPLUS_IS_RUNNING = 19647
PERL5_CPAN_IS_RUNNING = 19647
PERLVER = 5.30.3
PERL_INLINE_DIRECTORY = /home/david/.Inline-5.30.3
PERL_MM_USE_DEFAULT = 1
PERL_USE_UNSAFE_INC = 0
SHELL = /bin/bash
TERM = screen
Perl special variables (and OS-specific diagnostics, for MSWin32):
$^X = /home/david/cpantesting/perl-5.30.3/bin/perl
$UID/$EUID = 1000 / 1000
$GID = 1000 27 1000
$EGID = 1000 27 1000
Perl module toolchain versions installed:
Module Have
------------------- --------
CPAN 2.22
CPAN::Meta 2.150010
Cwd 3.78
ExtUtils::CBuilder 0.280231
ExtUtils::Command 7.34
ExtUtils::Install 2.14
ExtUtils::MakeMaker 7.34
ExtUtils::Manifest 1.72
ExtUtils::ParseXS 3.40
File::Spec 3.78
JSON 4.02
JSON::PP 4.02
Module::Build 0.4231
Module::Signature n/a
Parse::CPAN::Meta 2.150010
Test::Harness 3.42
Test::More 1.302177
YAML n/a
YAML::Syck 1.32
version 0.9924
--
Summary of my perl5 (revision 5 version 30 subversion 3) configuration:
Platform:
osname=linux
osvers=4.9.0-8-amd64
archname=x86_64-linux
uname='linux pigsty.barnyard.co.uk 4.9.0-8-amd64 #1 smp debian 4.9.144-3 (2019-02-02) x86_64 gnulinux '
config_args='-de -Dprefix=/home/david/cpantesting/perl-5.30.3'
hint=recommended
useposix=true
d_sigaction=define
useithreads=undef
usemultiplicity=undef
use64bitint=define
use64bitall=define
uselongdouble=undef
usemymalloc=n
default_inc_excludes_dot=define
bincompat5005=undef
Compiler:
cc='cc'
ccflags ='-fwrapv -fno-strict-aliasing -pipe -fstack-protector-strong -I/usr/local/include -D_LARGEFILE_SOURCE -D_FILE_OFFSET_BITS=64 -D_FORTIFY_SOURCE=2'
optimize='-O2'
cppflags='-fwrapv -fno-strict-aliasing -pipe -fstack-protector-strong -I/usr/local/include'
ccversion=''
gccversion='6.3.0 20170516'
gccosandvers=''
intsize=4
longsize=8
ptrsize=8
doublesize=8
byteorder=12345678
doublekind=3
d_longlong=define
longlongsize=8
d_longdbl=define
longdblsize=16
longdblkind=3
ivtype='long'
ivsize=8
nvtype='double'
nvsize=8
Off_t='off_t'
lseeksize=8
alignbytes=8
prototype=define
Linker and Libraries:
ld='cc'
ldflags =' -fstack-protector-strong -L/usr/local/lib'
libpth=/usr/local/lib /usr/lib/gcc/x86_64-linux-gnu/6/include-fixed /usr/include/x86_64-linux-gnu /usr/lib /lib/x86_64-linux-gnu /lib/../lib /usr/lib/x86_64-linux-gnu /usr/lib/../lib /lib
libs=-lpthread -lnsl -ldb -ldl -lm -lcrypt -lutil -lc
perllibs=-lpthread -lnsl -ldl -lm -lcrypt -lutil -lc
libc=libc-2.24.so
so=so
useshrplib=false
libperl=libperl.a
gnulibc_version='2.24'
Dynamic Linking:
dlsrc=dl_dlopen.xs
dlext=so
d_dlsymun=undef
ccdlflags='-Wl,-E'
cccdlflags='-fPIC'
lddlflags='-shared -O2 -L/usr/local/lib -fstack-protector-strong'
Characteristics of this binary (from libperl):
Compile-time options:
HAS_TIMES
PERLIO_LAYERS
PERL_COPY_ON_WRITE
PERL_DONT_CREATE_GVSV
PERL_MALLOC_WRAP
PERL_OP_PARENT
PERL_PRESERVE_IVUV
USE_64_BIT_ALL
USE_64_BIT_INT
USE_LARGE_FILES
USE_LOCALE
USE_LOCALE_COLLATE
USE_LOCALE_CTYPE
USE_LOCALE_NUMERIC
USE_LOCALE_TIME
USE_PERLIO
USE_PERL_ATOF
Built under linux
Compiled at Jun 4 2020 18:29:14
%ENV:
PERL="5.30.3"
PERL5LIB=""
PERL5OPT=""
PERL5_CPANPLUS_IS_RUNNING="19647"
PERL5_CPAN_IS_RUNNING="19647"
PERLVER="5.30.3"
PERL_INLINE_DIRECTORY="/home/david/.Inline-5.30.3"
PERL_MM_USE_DEFAULT="1"
PERL_USE_UNSAFE_INC="0"
@INC:
/home/david/cpantesting/perl-5.30.3/lib/site_perl/5.30.3/x86_64-linux
/home/david/cpantesting/perl-5.30.3/lib/site_perl/5.30.3
/home/david/cpantesting/perl-5.30.3/lib/5.30.3/x86_64-linux
/home/david/cpantesting/perl-5.30.3/lib/5.30.3