Report for Class-InsideOut-1.13

Back
From: metabase:user:3c0d75b6-029c-11e5-90b1-5b610b895903
Subject: PASS Class-InsideOut-1.13 v5.22.1 GNU/Linux
Date: 2016-01-03T05:40:34Z

This distribution has been tested as part of the CPAN Testers
project, supporting the Perl programming language.  See
http://wiki.cpantesters.org/ for more information or email
questions to cpan-testers-discuss@perl.org


--
Dear David Golden,

This is a computer-generated report for Class-InsideOut-1.13
on perl 5.22.1, created by CPAN-Reporter-1.2015.

Thank you for uploading your work to CPAN.  Congratulations!
All tests were successful.

Sections of this report:

    * Tester comments
    * Program output
    * Prerequisites
    * Environment and other context

------------------------------
TESTER COMMENTS
------------------------------

Additional comments from tester:

this report is from an automated smoke testing program
and was not reviewed by a human for accuracy

------------------------------
PROGRAM OUTPUT
------------------------------

Output from '/usr/bin/make test':

PERL_DL_NONLAZY=1 "/home/fperrad/perl5/perlbrew/perls/perl-5.22.1/bin/perl" "-MExtUtils::Command::MM" "-MTest::Harness" "-e" "undef *Test::Harness::Switches; test_harness(0, 'blib/lib', 'blib/arch')" t/*.t
t/00-compile.t ..................... ok
# Prerequisite Report:
#    Version Module               
#   -------- ---------------------
#       1.36 Carp                 
#       0.36 Class::ISA           
#   5.022001 Config               
#       1.32 DynaLoader           
#       5.72 Exporter             
#    7.04_01 ExtUtils::MakeMaker  
#       1.29 File::Find           
#       3.56 File::Spec           
#       3.56 File::Spec::Functions
#     0.2304 File::Temp           
#       1.16 IO::File             
#       1.41 List::Util           
#       1.41 Scalar::Util         
#    2.53_01 Storable             
#   1.001014 Test::More           
#       0.20 XSLoader             
#       1.26 overload             
#       1.09 strict               
#       2.01 threads              
#       1.03 vars                 
#       1.34 warnings             
t/00-report-prereqs.t .............. ok
t/01_load.t ........................ ok
t/02_register.t .................... ok
t/03_properties.t .................. ok
t/04_threaded.t .................... skipped: perl ithreads not available
t/05_forking.t ..................... ok
t/06_export_ok.t ................... ok
t/07_synopsis_obj.t ................ ok
t/08_DEMOLISH.t .................... ok
t/09_foreign.t ..................... ok
t/10_storable_values.t ............. ok
t/11_storable_refs.t ............... ok
t/12_storable_hooks.t .............. ok
t/13_options.t ..................... ok
t/14_accessor_hooks.t .............. ok
t/15_no_weaken_fallback.t .......... skipped: Your Scalar::Util is XS only
t/16_property_argument_checking.t .. ok
t/17_option_argument_checking.t .... ok
t/18_register_argument_checking.t .. ok
t/19_storable_singleton.t .......... ok
t/20_storable_singleton_error.t .... ok
t/21_optional_new.t ................ ok
t/22_readonly.t .................... ok
t/23_accessor_hooks_blessed.t ...... ok
t/24_accessor_hooks_overloaded.t ... ok
t/25_accessor_hooks_typetiny.t ..... skipped: test requires Perl 5.8.3 and Type::Tiny
All tests successful.
Files=27, Tests=414,  9 wallclock secs ( 0.97 usr  0.22 sys +  7.39 cusr  1.32 csys =  9.90 CPU)
Result: PASS

------------------------------
PREREQUISITES
------------------------------

Prerequisite modules loaded:

requires:

    Module                Need Have    
    --------------------- ---- --------
    Carp                  0    1.36    
    Class::ISA            0    0.36    
    Exporter              0    5.72    
    overload              0    1.26    
    Scalar::Util          1.09 1.41    
    Storable              0    2.53_01 
    strict                0    1.09    
    vars                  0    1.03    

build_requires:

    Module                Need Have    
    --------------------- ---- --------
    Config                0    5.022001
    DynaLoader            0    1.32    
    ExtUtils::MakeMaker   0    7.04_01 
    File::Find            0    1.29    
    File::Spec            0    3.56    
    File::Spec::Functions 0    3.56    
    File::Temp            0    0.2304  
    IO::File              0    1.16    
    List::Util            0    1.41    
    Test::More            0.45 1.001014
  ! threads               0    broken  
    warnings              0    1.34    
    XSLoader              0    0.20    

configure_requires:

    Module                Need Have    
    --------------------- ---- --------
    ExtUtils::MakeMaker   6.30 7.04_01 


------------------------------
ENVIRONMENT AND OTHER CONTEXT
------------------------------

Environment variables:

    AUTOMATED_TESTING = 1
    LANG = C.UTF-8
    LANGUAGE = en_US.UTF-8
    LC_ADDRESS = fr_FR.UTF-8
    LC_IDENTIFICATION = fr_FR.UTF-8
    LC_MEASUREMENT = fr_FR.UTF-8
    LC_MESSAGES = POSIX
    LC_MONETARY = fr_FR.UTF-8
    LC_NAME = fr_FR.UTF-8
    LC_NUMERIC = fr_FR.UTF-8
    LC_PAPER = fr_FR.UTF-8
    LC_TELEPHONE = fr_FR.UTF-8
    LC_TIME = fr_FR.UTF-8
    PATH = /home/fperrad/perl5/perlbrew/bin:/home/fperrad/perl5/perlbrew/perls/perl-5.22.1/bin:/usr/local/bin:/usr/bin:/bin:/usr/local/games:/usr/games
    PERL5LIB = /home/fperrad/.local/share/.cpan/build/Class-ISA-0.36-aCQDEQ/blib/arch:/home/fperrad/.local/share/.cpan/build/Class-ISA-0.36-aCQDEQ/blib/lib:/home/fperrad/.local/share/.cpan/build/Exporter-Lite-0.07-2jJELG/blib/arch:/home/fperrad/.local/share/.cpan/build/Exporter-Lite-0.07-2jJELG/blib/lib:/home/fperrad/.local/share/.cpan/build/SUPER-1.20141117-DiNgIs/blib/arch:/home/fperrad/.local/share/.cpan/build/SUPER-1.20141117-DiNgIs/blib/lib:/home/fperrad/.local/share/.cpan/build/Sub-Identify-0.12-E81jkp/blib/arch:/home/fperrad/.local/share/.cpan/build/Sub-Identify-0.12-E81jkp/blib/lib:/home/fperrad/.local/share/.cpan/build/Cpanel-JSON-XS-3.0210-GaInKi/blib/arch:/home/fperrad/.local/share/.cpan/build/Cpanel-JSON-XS-3.0210-GaInKi/blib/lib:/home/fperrad/.local/share/.cpan/build/JSON-MaybeXS-1.003005-AVK7g9/blib/arch:/home/fperrad/.local/share/.cpan/build/JSON-MaybeXS-1.003005-AVK7g9/blib/lib:/home/fperrad/.local/share/.cpan/build/Test-Without-Module-0.18-7BljXY/blib/arch:/home/fperrad/.local/share/.cpan/build/Test-Without-Module-0.18-7BljXY/blib/lib
    PERL5OPT = 
    PERL5_CPANPLUS_IS_RUNNING = 30321
    PERL5_CPAN_IS_RUNNING = 30321
    PERL5_CPAN_IS_RUNNING_IN_RECURSION = 31801,30321
    PERLBREW_BASHRC_VERSION = 0.74
    PERLBREW_HOME = /home/fperrad/.perlbrew
    PERLBREW_MANPATH = /home/fperrad/perl5/perlbrew/perls/perl-5.22.1/man
    PERLBREW_PATH = /home/fperrad/perl5/perlbrew/bin:/home/fperrad/perl5/perlbrew/perls/perl-5.22.1/bin
    PERLBREW_PERL = perl-5.22.1
    PERLBREW_ROOT = /home/fperrad/perl5/perlbrew
    PERLBREW_VERSION = 0.74
    PERL_CR_SMOKER_CURRENT = WWW-CPAN-0.013
    PERL_EXTUTILS_AUTOINSTALL = --defaultdeps
    PERL_MM_USE_DEFAULT = 1
    SHELL = /bin/bash
    TERM = linux

Perl special variables (and OS-specific diagnostics, for MSWin32):

    $^X = /home/fperrad/perl5/perlbrew/perls/perl-5.22.1/bin/perl
    $UID/$EUID = 1000 / 1000
    $GID = 1000 1000
    $EGID = 1000 1000

Perl module toolchain versions installed:

    Module              Have    
    ------------------- --------
    CPAN                2.11    
    CPAN::Meta          2.150001
    Cwd                 3.56    
    ExtUtils::CBuilder  0.280221
    ExtUtils::Command   1.20    
    ExtUtils::Install   2.04    
    ExtUtils::MakeMaker 7.04_01 
    ExtUtils::Manifest  1.70    
    ExtUtils::ParseXS   3.28    
    File::Spec          3.56    
    JSON                2.90    
    JSON::PP            2.27300 
    Module::Build       0.4214  
    Module::Signature   n/a     
    Parse::CPAN::Meta   1.4414  
    Test::Harness       3.35    
    Test::More          1.001014
    YAML                n/a     
    YAML::Syck          n/a     
    version             0.9912  


--

Summary of my perl5 (revision 5 version 22 subversion 1) configuration:
   
  Platform:
    osname=linux, osvers=3.4.107-lime, archname=armv7l-linux
    uname='linux lime 3.4.107-lime #15 smp preempt fri may 22 11:36:49 cest 2015 armv7l gnulinux '
    config_args='-de -Dprefix=/home/fperrad/perl5/perlbrew/perls/perl-5.22.1 -Aeval:scriptdir=/home/fperrad/perl5/perlbrew/perls/perl-5.22.1/bin'
    hint=recommended, useposix=true, d_sigaction=define
    useithreads=undef, usemultiplicity=undef
    use64bitint=undef, use64bitall=undef, uselongdouble=undef
    usemymalloc=n, bincompat5005=undef
  Compiler:
    cc='cc', ccflags ='-fwrapv -fno-strict-aliasing -pipe -fstack-protector-strong -I/usr/local/include -D_LARGEFILE_SOURCE -D_FILE_OFFSET_BITS=64 -D_FORTIFY_SOURCE=2',
    optimize='-O2',
    cppflags='-fwrapv -fno-strict-aliasing -pipe -fstack-protector-strong -I/usr/local/include'
    ccversion='', gccversion='4.9.2', gccosandvers=''
    intsize=4, longsize=4, ptrsize=4, doublesize=8, byteorder=1234, doublekind=3
    d_longlong=define, longlongsize=8, d_longdbl=define, longdblsize=8, longdblkind=0
    ivtype='long', ivsize=4, nvtype='double', nvsize=8, Off_t='off_t', lseeksize=8
    alignbytes=8, prototype=define
  Linker and Libraries:
    ld='cc', ldflags =' -fstack-protector-strong -L/usr/local/lib'
    libpth=/usr/local/lib /usr/lib/gcc/arm-linux-gnueabihf/4.9/include-fixed /usr/include/arm-linux-gnueabihf /usr/lib /lib/arm-linux-gnueabihf /lib /usr/lib/arm-linux-gnueabihf
    libs=-lpthread -lnsl -ldl -lm -lcrypt -lutil -lc
    perllibs=-lpthread -lnsl -ldl -lm -lcrypt -lutil -lc
    libc=libc-2.19.so, so=so, useshrplib=false, libperl=libperl.a
    gnulibc_version='2.19'
  Dynamic Linking:
    dlsrc=dl_dlopen.xs, dlext=so, d_dlsymun=undef, ccdlflags='-Wl,-E'
    cccdlflags='-fPIC', lddlflags='-shared -O2 -L/usr/local/lib -fstack-protector-strong'


Characteristics of this binary (from libperl): 
  Compile-time options: HAS_TIMES PERLIO_LAYERS PERL_DONT_CREATE_GVSV
                        PERL_HASH_FUNC_ONE_AT_A_TIME_HARD PERL_MALLOC_WRAP
                        PERL_NEW_COPY_ON_WRITE PERL_PRESERVE_IVUV
                        USE_LARGE_FILES USE_LOCALE USE_LOCALE_COLLATE
                        USE_LOCALE_CTYPE USE_LOCALE_NUMERIC USE_LOCALE_TIME
                        USE_PERLIO USE_PERL_ATOF
  Locally applied patches:
	Devel::PatchPerl 1.38
  Built under linux
  Compiled at Dec 24 2015 16:00:54
  %ENV:
    PERL5LIB="/home/fperrad/.local/share/.cpan/build/Class-ISA-0.36-aCQDEQ/blib/arch:/home/fperrad/.local/share/.cpan/build/Class-ISA-0.36-aCQDEQ/blib/lib:/home/fperrad/.local/share/.cpan/build/Exporter-Lite-0.07-2jJELG/blib/arch:/home/fperrad/.local/share/.cpan/build/Exporter-Lite-0.07-2jJELG/blib/lib:/home/fperrad/.local/share/.cpan/build/SUPER-1.20141117-DiNgIs/blib/arch:/home/fperrad/.local/share/.cpan/build/SUPER-1.20141117-DiNgIs/blib/lib:/home/fperrad/.local/share/.cpan/build/Sub-Identify-0.12-E81jkp/blib/arch:/home/fperrad/.local/share/.cpan/build/Sub-Identify-0.12-E81jkp/blib/lib:/home/fperrad/.local/share/.cpan/build/Cpanel-JSON-XS-3.0210-GaInKi/blib/arch:/home/fperrad/.local/share/.cpan/build/Cpanel-JSON-XS-3.0210-GaInKi/blib/lib:/home/fperrad/.local/share/.cpan/build/JSON-MaybeXS-1.003005-AVK7g9/blib/arch:/home/fperrad/.local/share/.cpan/build/JSON-MaybeXS-1.003005-AVK7g9/blib/lib:/home/fperrad/.local/share/.cpan/build/Test-Without-Module-0.18-7BljXY/blib/arch:/home/fperrad/.local/share/.cpan/build/Test-Without-Module-0.18-7BljXY/blib/lib"
    PERL5OPT=""
    PERL5_CPANPLUS_IS_RUNNING="30321"
    PERL5_CPAN_IS_RUNNING="30321"
    PERL5_CPAN_IS_RUNNING_IN_RECURSION="31801,30321"
    PERLBREW_BASHRC_VERSION="0.74"
    PERLBREW_HOME="/home/fperrad/.perlbrew"
    PERLBREW_MANPATH="/home/fperrad/perl5/perlbrew/perls/perl-5.22.1/man"
    PERLBREW_PATH="/home/fperrad/perl5/perlbrew/bin:/home/fperrad/perl5/perlbrew/perls/perl-5.22.1/bin"
    PERLBREW_PERL="perl-5.22.1"
    PERLBREW_ROOT="/home/fperrad/perl5/perlbrew"
    PERLBREW_VERSION="0.74"
    PERL_CR_SMOKER_CURRENT="WWW-CPAN-0.013"
    PERL_EXTUTILS_AUTOINSTALL="--defaultdeps"
    PERL_MM_USE_DEFAULT="1"
  @INC:
    /home/fperrad/.local/share/.cpan/build/Class-ISA-0.36-aCQDEQ/blib/arch
    /home/fperrad/.local/share/.cpan/build/Class-ISA-0.36-aCQDEQ/blib/lib
    /home/fperrad/.local/share/.cpan/build/Exporter-Lite-0.07-2jJELG/blib/arch
    /home/fperrad/.local/share/.cpan/build/Exporter-Lite-0.07-2jJELG/blib/lib
    /home/fperrad/.local/share/.cpan/build/SUPER-1.20141117-DiNgIs/blib/arch
    /home/fperrad/.local/share/.cpan/build/SUPER-1.20141117-DiNgIs/blib/lib
    /home/fperrad/.local/share/.cpan/build/Sub-Identify-0.12-E81jkp/blib/arch
    /home/fperrad/.local/share/.cpan/build/Sub-Identify-0.12-E81jkp/blib/lib
    /home/fperrad/.local/share/.cpan/build/Cpanel-JSON-XS-3.0210-GaInKi/blib/arch
    /home/fperrad/.local/share/.cpan/build/Cpanel-JSON-XS-3.0210-GaInKi/blib/lib
    /home/fperrad/.local/share/.cpan/build/JSON-MaybeXS-1.003005-AVK7g9/blib/arch
    /home/fperrad/.local/share/.cpan/build/JSON-MaybeXS-1.003005-AVK7g9/blib/lib
    /home/fperrad/.local/share/.cpan/build/Test-Without-Module-0.18-7BljXY/blib/arch
    /home/fperrad/.local/share/.cpan/build/Test-Without-Module-0.18-7BljXY/blib/lib
    /home/fperrad/perl5/perlbrew/perls/perl-5.22.1/lib/site_perl/5.22.1/armv7l-linux
    /home/fperrad/perl5/perlbrew/perls/perl-5.22.1/lib/site_perl/5.22.1
    /home/fperrad/perl5/perlbrew/perls/perl-5.22.1/lib/5.22.1/armv7l-linux
    /home/fperrad/perl5/perlbrew/perls/perl-5.22.1/lib/5.22.1
    .