Perlbal v1.80 Perl 5 v5.22.4 x86_64-linux

Status
Pass
From
Slaven Rezić (SREZIC)
Dist
Perlbal v1.80
Platform
Perl 5 v5.22.4 x86_64-linux
Date
2017-12-11 13:09:24
ID
82976206-de74-11e7-a58d-d0feacda993c
This distribution has been tested as part of the CPAN Testers
project, supporting the Perl programming language.  See
http://wiki.cpantesters.org/ for more information or email
questions to cpan-testers-discuss@perl.org


--
Dear Alan Kasindorf,

This is a computer-generated report for Perlbal-1.80
on perl 5.22.4, created by CPAN-Reporter-1.2018.

Thank you for uploading your work to CPAN.  Congratulations!
All tests were successful.

Sections of this report:

    * Tester comments
    * Program output
    * Prerequisites
    * Environment and other context

------------------------------
TESTER COMMENTS
------------------------------

Additional comments from tester:

none provided

------------------------------
PROGRAM OUTPUT
------------------------------

Output from '/usr/bin/make test':

PERL_DL_NONLAZY=1 "/bbbike/perl-5.22.4/bin/perl" "-MExtUtils::Command::MM" "-MTest::Harness" "-e" "undef *Test::Harness::Switches; test_harness(0, 'blib/lib', 'blib/arch')" t/*.t
t/00-use.t ............... ok
t/10-testharness.t ....... ok
t/12-headers.t ........... ok
t/13-server-tokens.t ..... ok
t/15-webserver.t ......... ok
t/17-webserver-concat.t .. ok
t/20-put.t ............... ok
# Writing: 500
# Writing: 5
# Writing: 5
# Writing: 5
# Writing: 100000
# Writing: 60000
# Writing: 1000
# Writing: 338485
t/22-chunked-put.t ....... ok
t/30-reverseproxy.t ...... ok
t/31-realworld.t ......... ok
# separator length 2
# separator length 0
500 response!
t/32-pipelining.t ........ ok
t/32-selector.t .......... ok
t/35-reproxy.t ........... ok
t/40-ranges.t ............ ok
t/45-buffereduploads.t ... ok
t/50-plugins.t ........... ok
t/52-chunked-upload.t .... ok
t/60-child-httpd.t ....... skipped: Alpha feature; test skipped without $ENV{PERLBAL_TEST_ALPHA}
t/75-plugin-include.t .... ok
t/76-plugin-redirect.t ... ok
t/77-plugin-throttle.t ... ok
t/78-plugin-xffextras.t .. ok
t/90-accesscontrol.t ..... ok
t/91-fields.t ............ ok
t/99-benchmark-bool.t .... ok
All tests successful.
Files=25, Tests=583, 57 wallclock secs ( 0.08 usr  0.10 sys +  2.78 cusr  0.88 csys =  3.84 CPU)
Result: PASS

------------------------------
PREREQUISITES
------------------------------

Prerequisite modules loaded:

requires:

    Module              Need Have    
    ------------------- ---- --------
    base                0    2.22_01 
    BSD::Resource       0    1.2911  
    Carp                0    1.38    
    constant            0    1.33    
    Danga::Socket       1.44 1.61    
    Errno               0    1.23    
    Exporter            0    5.72    
    Fcntl               0    1.13    
    fields              0    2.17    
    File::Path          0    2.15    
    File::Temp          0    0.2304  
    FindBin             0    1.51    
    Getopt::Long        0    2.5     
    Hash::Util          0    0.18    
    HTTP::Date          0    6.02    
    HTTP::Request       0    6.13    
    HTTP::Response      0    6.13    
    IO::File            0    1.16    
    IO::Handle          0    1.35    
    IO::Select          0    1.22    
    IO::Socket::INET    0    1.35    
    lib                 0    0.63    
    LWP::UserAgent      0    6.29    
    Scalar::Util        0    1.49    
    Socket              0    2.024   
    strict              0    1.09    
    Sys::Syscall        0    0.25    
    Test::More          0.94 1.302120
    Time::HiRes         0    1.9746  
    vars                0    1.03    
    warnings            0    1.34    

build_requires:

    Module              Need Have    
    ------------------- ---- --------
    ExtUtils::MakeMaker 0    7.30    

configure_requires:

    Module              Need Have    
    ------------------- ---- --------
    ExtUtils::MakeMaker 0    7.30    


------------------------------
ENVIRONMENT AND OTHER CONTEXT
------------------------------

Environment variables:

    LANG = C
    PATH = /usr/local/bin:/usr/bin:/bin:/usr/local/sbin:/usr/sbin:/sbin:/home/cpansand/bin/linux-gnu:/home/cpansand/bin/sh:/home/cpansand/bin:/usr/games:/home/cpansand/devel:/home/eserte/src/srezic-misc/scripts
    PERL5LIB = /home/cpansand/.cpan/build/2017121112/Net-Netmask-1.9022-0/blib/arch:/home/cpansand/.cpan/build/2017121112/Net-Netmask-1.9022-0/blib/lib:/home/cpansand/.cpan/build/2017121112/Gearman-Server-v1.130.1-1/blib/arch:/home/cpansand/.cpan/build/2017121112/Gearman-Server-v1.130.1-1/blib/lib:/home/cpansand/.cpan/build/2017121112/Danga-Socket-1.61-1/blib/arch:/home/cpansand/.cpan/build/2017121112/Danga-Socket-1.61-1/blib/lib:/home/cpansand/.cpan/build/2017121112/Sys-Syscall-0.25-1/blib/arch:/home/cpansand/.cpan/build/2017121112/Sys-Syscall-0.25-1/blib/lib
    PERL5OPT = 
    PERL5_CPANPLUS_IS_RUNNING = 13380
    PERL5_CPAN_IS_RUNNING = 13380
    PERL5_CPAN_IS_RUNNING_IN_RECURSION = 13024,13380
    PERLDOC = -MPod::Perldoc::ToTextOverstrike
    PERL_BATCH = yes
    PERL_CANARY_STABILITY_NOPROMPT = 1
    PERL_CPAN_REPORTER_CONFIG = /var/tmp/cpansmoker-1023/2017121109/cpanreporter_000_config.ini
    PERL_EXTUTILS_AUTOINSTALL = --defaultdeps
    SHELL = /bin/zsh
    TERM = screen
    TMPDIR = /var/tmp/cpansmoker-1023/2017121109

Perl special variables (and OS-specific diagnostics, for MSWin32):

    $^X = /bbbike/perl-5.22.4/bin/perl
    $UID/$EUID = 1023 / 1023
    $GID = 1023 1023
    $EGID = 1023 1023

Perl module toolchain versions installed:

    Module              Have    
    ------------------- --------
    CPAN                2.16    
    CPAN::Meta          2.150010
    Cwd                 3.62    
    ExtUtils::CBuilder  0.280230
    ExtUtils::Command   7.30    
    ExtUtils::Install   2.06    
    ExtUtils::MakeMaker 7.30    
    ExtUtils::Manifest  1.70    
    ExtUtils::ParseXS   3.35    
    File::Spec          3.62    
    JSON                2.96    
    JSON::PP            2.96    
    Module::Build       0.4224  
    Module::Signature   0.81    
    Parse::CPAN::Meta   2.150010
    Test::Harness       3.39    
    Test::More          1.302120
    YAML                1.23    
    YAML::Syck          1.30    
    version             0.9918  


--

Summary of my perl5 (revision 5 version 22 subversion 4) configuration:
   
  Platform:
    osname=linux, osvers=3.16.0-4-amd64, archname=x86_64-linux
    uname='linux eserte 3.16.0-4-amd64 #1 smp debian 3.16.43-2+deb8u2 (2017-06-26) x86_64 gnulinux '
    config_args='-ds -e -Dprefix=/opt/perl-5.22.4 -Dcf_email=srezic@cpan.org'
    hint=recommended, useposix=true, d_sigaction=define
    useithreads=undef, usemultiplicity=undef
    use64bitint=define, use64bitall=define, uselongdouble=undef
    usemymalloc=n, bincompat5005=undef
  Compiler:
    cc='cc', ccflags ='-fwrapv -fno-strict-aliasing -pipe -fstack-protector-strong -I/usr/local/include -D_LARGEFILE_SOURCE -D_FILE_OFFSET_BITS=64 -D_FORTIFY_SOURCE=2',
    optimize='-O2',
    cppflags='-fwrapv -fno-strict-aliasing -pipe -fstack-protector-strong -I/usr/local/include'
    ccversion='', gccversion='4.9.2', gccosandvers=''
    intsize=4, longsize=8, ptrsize=8, doublesize=8, byteorder=12345678, doublekind=3
    d_longlong=define, longlongsize=8, d_longdbl=define, longdblsize=16, longdblkind=3
    ivtype='long', ivsize=8, nvtype='double', nvsize=8, Off_t='off_t', lseeksize=8
    alignbytes=8, prototype=define
  Linker and Libraries:
    ld='cc', ldflags =' -fstack-protector-strong -L/usr/local/lib'
    libpth=/usr/local/lib /usr/lib/gcc/x86_64-linux-gnu/4.9/include-fixed /usr/include/x86_64-linux-gnu /usr/lib /lib/x86_64-linux-gnu /lib/../lib /usr/lib/x86_64-linux-gnu /usr/lib/../lib /lib
    libs=-lpthread -lnsl -lgdbm -ldb -ldl -lm -lcrypt -lutil -lc -lgdbm_compat
    perllibs=-lpthread -lnsl -ldl -lm -lcrypt -lutil -lc
    libc=libc-2.19.so, so=so, useshrplib=false, libperl=libperl.a
    gnulibc_version='2.19'
  Dynamic Linking:
    dlsrc=dl_dlopen.xs, dlext=so, d_dlsymun=undef, ccdlflags='-Wl,-E'
    cccdlflags='-fPIC', lddlflags='-shared -O2 -L/usr/local/lib -fstack-protector-strong'


Characteristics of this binary (from libperl): 
  Compile-time options: HAS_TIMES PERLIO_LAYERS PERL_DONT_CREATE_GVSV
                        PERL_HASH_FUNC_ONE_AT_A_TIME_HARD PERL_MALLOC_WRAP
                        PERL_NEW_COPY_ON_WRITE PERL_PRESERVE_IVUV
                        USE_64_BIT_ALL USE_64_BIT_INT USE_LARGE_FILES
                        USE_LOCALE USE_LOCALE_COLLATE USE_LOCALE_CTYPE
                        USE_LOCALE_NUMERIC USE_LOCALE_TIME USE_PERLIO
                        USE_PERL_ATOF
  Built under linux
  Compiled at Jul 15 2017 19:41:58
  %ENV:
    PERL5LIB="/home/cpansand/.cpan/build/2017121112/Net-Netmask-1.9022-0/blib/arch:/home/cpansand/.cpan/build/2017121112/Net-Netmask-1.9022-0/blib/lib:/home/cpansand/.cpan/build/2017121112/Gearman-Server-v1.130.1-1/blib/arch:/home/cpansand/.cpan/build/2017121112/Gearman-Server-v1.130.1-1/blib/lib:/home/cpansand/.cpan/build/2017121112/Danga-Socket-1.61-1/blib/arch:/home/cpansand/.cpan/build/2017121112/Danga-Socket-1.61-1/blib/lib:/home/cpansand/.cpan/build/2017121112/Sys-Syscall-0.25-1/blib/arch:/home/cpansand/.cpan/build/2017121112/Sys-Syscall-0.25-1/blib/lib"
    PERL5OPT=""
    PERL5_CPANPLUS_IS_RUNNING="13380"
    PERL5_CPAN_IS_RUNNING="13380"
    PERL5_CPAN_IS_RUNNING_IN_RECURSION="13024,13380"
    PERLDOC="-MPod::Perldoc::ToTextOverstrike"
    PERL_BATCH="yes"
    PERL_CANARY_STABILITY_NOPROMPT="1"
    PERL_CPAN_REPORTER_CONFIG="/var/tmp/cpansmoker-1023/2017121109/cpanreporter_000_config.ini"
    PERL_EXTUTILS_AUTOINSTALL="--defaultdeps"
  @INC:
    /home/cpansand/.cpan/build/2017121112/Net-Netmask-1.9022-0/blib/arch
    /home/cpansand/.cpan/build/2017121112/Net-Netmask-1.9022-0/blib/lib
    /home/cpansand/.cpan/build/2017121112/Gearman-Server-v1.130.1-1/blib/arch
    /home/cpansand/.cpan/build/2017121112/Gearman-Server-v1.130.1-1/blib/lib
    /home/cpansand/.cpan/build/2017121112/Danga-Socket-1.61-1/blib/arch
    /home/cpansand/.cpan/build/2017121112/Danga-Socket-1.61-1/blib/lib
    /home/cpansand/.cpan/build/2017121112/Sys-Syscall-0.25-1/blib/arch
    /home/cpansand/.cpan/build/2017121112/Sys-Syscall-0.25-1/blib/lib
    /opt/perl-5.22.4/lib/site_perl/5.22.4/x86_64-linux
    /opt/perl-5.22.4/lib/site_perl/5.22.4
    /opt/perl-5.22.4/lib/5.22.4/x86_64-linux
    /opt/perl-5.22.4/lib/5.22.4
    .