Report for Reaction-0.002005

Back
From: metabase:user:9820532a-708b-1014-9a05-b18a96298da1
Subject: PASS Reaction-0.002005 v5.12.4 GNU/Linux
Date: 2011-08-08T01:26:58Z

This distribution has been tested as part of the CPAN Testers
project, supporting the Perl programming language.  See
http://wiki.cpantesters.org/ for more information or email
questions to cpan-testers-discuss@perl.org


--
Dear Justin Hunter,

This is a computer-generated report for Reaction-0.002005
on perl 5.12.4, created by CPAN-Reporter-1.2001.

Thank you for uploading your work to CPAN.  Congratulations!
All tests were successful.

Sections of this report:

    * Tester comments
    * Program output
    * Prerequisites
    * Environment and other context

------------------------------
TESTER COMMENTS
------------------------------

Additional comments from tester:

this report is from an automated smoke testing program
and was not reviewed by a human for accuracy

------------------------------
PROGRAM OUTPUT
------------------------------

Output from '/usr/bin/make test':

PERL_DL_NONLAZY=1 /home/test/perl5/perlbrew/perls/perl-5.12.4/bin/perl "-MExtUtils::Command::MM" "-e" "test_harness(0, 'inc', 'blib/lib', 'blib/arch')" t/00componentui_compiles.t t/01app.t t/04load_all.t t/05reflect_attr_from.t t/im_dbic.t t/ui_focus_stack.t t/ui_view.t t/ui_viewport.t t/uncheck_bool_field.t
t/00componentui_compiles.t .. ok
Name "Win32::Locale::Lexicon" used only once: possible typo at /home/test/perl5/perlbrew/perls/perl-5.12.4/lib/5.12.4/I18N/LangTags/Detect.pm line 140.
[debug] remote
t/01app.t ................... ok
t/04load_all.t .............. ok
t/05reflect_attr_from.t ..... ok
t/im_dbic.t ................. ok
t/ui_focus_stack.t .......... ok
t/ui_view.t ................. ok
t/ui_viewport.t ............. ok
Name "Win32::Locale::Lexicon" used only once: possible typo at /home/test/perl5/perlbrew/perls/perl-5.12.4/lib/5.12.4/I18N/LangTags/Detect.pm line 140.
t/uncheck_bool_field.t ...... ok
All tests successful.
Files=9, Tests=604, 31 wallclock secs ( 0.11 usr  0.03 sys + 17.33 cusr  0.97 csys = 18.44 CPU)
Result: PASS

------------------------------
PREREQUISITES
------------------------------

Prerequisite modules loaded:

requires:

    Module                                  Need      Have     
    --------------------------------------- --------- ---------
    aliased                                 0.22      0.30     
    Catalyst                                5.80002   5.80033  
    Catalyst::Component::ACCEPT_CONTEXT     0.05      0.07     
    Catalyst::Component::InstancePerContext 0.001001  0.001001 
    Catalyst::Model::DBIC::Schema           0.23      0.54     
    Catalyst::Plugin::ConfigLoader          0.23      0.30     
    Catalyst::Plugin::I18N                  0.09      0.10     
    Catalyst::Plugin::Static::Simple        0.21      0.29     
    Catalyst::View::TT                      0.29      0.37     
    Class::MOP                              0.81      2.0002   
    Config::General                         2.42      2.50     
    Crypt::Eksblowfish::Bcrypt              0.005     0.009    
    DateTime                                0.47      0.70     
    DateTime::Event::Recurrence             0.16      0.16     
    DateTime::Span                          0         0        
    DBIx::Class                             0.08100   0.08195  
    DBIx::Class::IntrospectableM2M          0.001001  0.001001 
    Devel::Declare                          0.005000  0.006005 
    Email::Valid                            0.181     0.184    
    ExtUtils::MakeMaker                     6.11      6.59     
    File::ShareDir                          1.00      1.03     
    File::Spec                              3.29      3.33     
    JSON                                    0         2.53     
    metaclass                               0.81      2.0002   
    Method::Signatures::Simple              0.03      0.06     
    Moose                                   0.74      2.0002   
    MooseX::MethodAttributes                0.18      0.25     
  ! MooseX::Role::Parameterized             0.24      broken   
    MooseX::Types                           0.10      0.28     
    MooseX::Types::Common                   0.001000  0.001002 
    MooseX::Types::DateTime                 0.03      0.05     
  ! MooseX::Types::URI                      0.02      broken   
    namespace::clean                        0.11      0.21     
    Path::Class::Dir                        0         0.24     
    Path::Class::File                       0         0.24     
    perl                                    5.008001  5.012004 
    Scalar::Util                            1.19      1.23     
    signatures                              0.05      0.06     
    SQL::Translator                         0.11002   0.11008  
    Sub::Exporter                           0.982     0.982    
    Sub::Name                               0.04      0.05     
    Template                                2.20      2.22     
    Test::Class                             0.31      0.36     
    Test::Memory::Cycle                     1.04      1.04     
    Test::WWW::Mechanize::Catalyst          0.51      0.54     
    Time::ParseDate                         2006.0814 2011.0517
    URI                                     1.37      1.58     

build_requires:

    Module                                  Need      Have     
    --------------------------------------- --------- ---------
    ExtUtils::MakeMaker                     6.42      6.59     
    SQL::Translator                         0.11002   0.11008  
    Test::Class                             0.31      0.36     
    Test::Memory::Cycle                     1.04      1.04     
    Test::WWW::Mechanize::Catalyst          0.51      0.54     

configure_requires:

    Module                                  Need      Have     
    --------------------------------------- --------- ---------
    ExtUtils::MakeMaker                     6.42      6.59     


------------------------------
ENVIRONMENT AND OTHER CONTEXT
------------------------------

Environment variables:

    AUTOMATED_TESTING = 1
    LANG = C
    LC_ALL = C
    PATH = /home/test/perl5/perlbrew/bin:/home/test/perl5/perlbrew/perls/perl-5.12.4/bin:/home/test/bin:~/bin:/usr/bin:/bin
    PATH_WITHOUT_PERLBREW = /home/test/bin:~/bin:/usr/bin:/bin
    PERL5LIB = 
    PERL5OPT = 
    PERL5_CPANPLUS_IS_RUNNING = 14439
    PERL5_CPAN_IS_RUNNING = 14439
    PERL5_CPAN_IS_RUNNING_IN_RECURSION = 3915,14439
    PERLBREW_HOME = /home/test/.perlbrew
    PERLBREW_PATH = /home/test/perl5/perlbrew/bin:/home/test/perl5/perlbrew/perls/perl-5.12.4/bin
    PERLBREW_PERL = perl-5.12.4
    PERLBREW_ROOT = /home/test/perl5/perlbrew
    PERLBREW_VERSION = 0.27
    PERL_CR_SMOKER_CURRENT = Reaction-0.002005
    PERL_EXTUTILS_AUTOINSTALL = --defaultdeps
    PERL_MM_USE_DEFAULT = 1
    SHELL = /bin/bash
    TERM = linux

Perl special variables (and OS-specific diagnostics, for MSWin32):

    $^X = /home/test/perl5/perlbrew/perls/perl-5.12.4/bin/perl
    $UID/$EUID = 1001 / 1001
    $GID = 1001 1001
    $EGID = 1001 1001

Perl module toolchain versions installed:

    Module              Have    
    ------------------- --------
    CPAN                1.9800  
    CPAN::Meta          2.112150
    Cwd                 3.33    
    ExtUtils::CBuilder  0.280202
    ExtUtils::Command   1.17    
    ExtUtils::Install   1.55    
    ExtUtils::MakeMaker 6.59    
    ExtUtils::Manifest  1.58    
    ExtUtils::ParseXS   3.02    
    File::Spec          3.33    
    JSON                2.53    
    JSON::PP            2.27200 
    Module::Build       0.3800  
    Module::Signature   0.68    
    Parse::CPAN::Meta   1.4401  
    Test::Harness       3.23    
    Test::More          0.98    
    YAML                0.73    
    YAML::Syck          1.17    
    version             0.93    


--

Summary of my perl5 (revision 5 version 12 subversion 4) configuration:
   
  Platform:
    osname=linux, osvers=2.6.35-28-generic, archname=x86_64-linux-ld
    uname='linux zippy 2.6.35-28-generic #50-ubuntu smp fri mar 18 18:42:20 utc 2011 x86_64 gnulinux '
    config_args='-de -Dprefix=/home/test/perl5/perlbrew/perls/perl-5.12.4 -Duselongdouble -Duse64bitall'
    hint=recommended, useposix=true, d_sigaction=define
    useithreads=undef, usemultiplicity=undef
    useperlio=define, d_sfio=undef, uselargefiles=define, usesocks=undef
    use64bitint=define, use64bitall=define, uselongdouble=define
    usemymalloc=n, bincompat5005=undef
  Compiler:
    cc='cc', ccflags ='-fno-strict-aliasing -pipe -fstack-protector -I/usr/local/include -D_LARGEFILE_SOURCE -D_FILE_OFFSET_BITS=64',
    optimize='-O2',
    cppflags='-fno-strict-aliasing -pipe -fstack-protector -I/usr/local/include'
    ccversion='', gccversion='4.4.5', gccosandvers=''
    intsize=4, longsize=8, ptrsize=8, doublesize=8, byteorder=12345678
    d_longlong=define, longlongsize=8, d_longdbl=define, longdblsize=16
    ivtype='long', ivsize=8, nvtype='long double', nvsize=16, Off_t='off_t', lseeksize=8
    alignbytes=16, prototype=define
  Linker and Libraries:
    ld='cc', ldflags =' -fstack-protector -L/usr/local/lib'
    libpth=/usr/local/lib /lib/../lib /usr/lib/../lib /lib /usr/lib /usr/lib/x86_64-linux-gnu /lib64 /usr/lib64
    libs=-lnsl -ldl -lm -lcrypt -lutil -lc
    perllibs=-lnsl -ldl -lm -lcrypt -lutil -lc
    libc=/lib/libc-2.12.1.so, so=so, useshrplib=false, libperl=libperl.a
    gnulibc_version='2.12.1'
  Dynamic Linking:
    dlsrc=dl_dlopen.xs, dlext=so, d_dlsymun=undef, ccdlflags='-Wl,-E'
    cccdlflags='-fPIC', lddlflags='-shared -O2 -L/usr/local/lib -fstack-protector'


Characteristics of this binary (from libperl): 
  Compile-time options: PERL_DONT_CREATE_GVSV PERL_MALLOC_WRAP USE_64_BIT_ALL
                        USE_64_BIT_INT USE_LARGE_FILES USE_LONG_DOUBLE
                        USE_PERLIO USE_PERL_ATOF
  Built under linux
  Compiled at Aug  6 2011 22:55:38
  %ENV:
    PERL5LIB=""
    PERL5OPT=""
    PERL5_CPANPLUS_IS_RUNNING="14439"
    PERL5_CPAN_IS_RUNNING="14439"
    PERL5_CPAN_IS_RUNNING_IN_RECURSION="3915,14439"
    PERLBREW_HOME="/home/test/.perlbrew"
    PERLBREW_PATH="/home/test/perl5/perlbrew/bin:/home/test/perl5/perlbrew/perls/perl-5.12.4/bin"
    PERLBREW_PERL="perl-5.12.4"
    PERLBREW_ROOT="/home/test/perl5/perlbrew"
    PERLBREW_VERSION="0.27"
    PERL_CR_SMOKER_CURRENT="Reaction-0.002005"
    PERL_EXTUTILS_AUTOINSTALL="--defaultdeps"
    PERL_MM_USE_DEFAULT="1"
  @INC:
    /home/test/perl5/perlbrew/perls/perl-5.12.4/lib/site_perl/5.12.4/x86_64-linux-ld
    /home/test/perl5/perlbrew/perls/perl-5.12.4/lib/site_perl/5.12.4
    /home/test/perl5/perlbrew/perls/perl-5.12.4/lib/5.12.4/x86_64-linux-ld
    /home/test/perl5/perlbrew/perls/perl-5.12.4/lib/5.12.4
    .