Back
From: metabase:user:322078bc-2aae-11df-837a-5e0a49663a4f
Subject: PASS POE-Component-Client-DNS-1.054 v5.24.1 MidnightBSD
Date: 2017-05-17T21:05:08Z
This distribution has been tested as part of the CPAN Testers
project, supporting the Perl programming language. See
http://wiki.cpantesters.org/ for more information or email
questions to cpan-testers-discuss@perl.org
--
Dear Rocco Caputo,
This is a computer-generated error report created automatically by
CPANPLUS, version 0.9168. Testers personal comments may appear
at the end of this report.
Thank you for uploading your work to CPAN. Congratulations!
All tests were successful.
TEST RESULTS:
Below is the error stack from stage 'make test':
PERL_DL_NONLAZY=1 "/opt/perl-5.24.1/bin/perl" "-MExtUtils::Command::MM" "-MTest::Harness" "-e" "undef *Test::Harness::Switches; test_harness(0, 'blib/lib', 'blib/arch')" t/*.t
# Testing with Perl 5.024001, /opt/perl-5.24.1/bin/perl
# ExtUtils::MakeMaker version is 7.24
# Net::DNS version is 1.1
# POE version is 1.367
# Test::More version is 1.302085
# Test::NoWarnings version is 1.04
t/000-report-versions.t .. ok
t/01_resolve.t ........... ok
t/02_tag_args.t .......... ok
t/03_api_3.t ............. ok
t/04_errors.t ............ ok
t/05_api_4.t ............. ok
t/06_hosts.t ............. ok
t/author-pod-coverage.t .. skipped: these tests are for testing by the author
t/author-pod-syntax.t .... skipped: these tests are for testing by the author
All tests successful.
Files=9, Tests=40, 4 wallclock secs ( 0.05 usr 0.02 sys + 1.51 cusr 0.35 csys = 1.93 CPU)
Result: PASS
PREREQUISITES:
Here is a list of prerequisites you specified and versions we
managed to load:
Module Name Have Want
ExtUtils::MakeMaker 7.24 0
Net::DNS 1.10 0.65
POE 1.367 1.294
Test::More 1.302085 0.96
Test::NoWarnings 1.04 1.02
Perl module toolchain versions installed:
Module Name Have
CPANPLUS 0.9168
CPANPLUS::Dist::Build 0.88
Cwd 3.63_01
ExtUtils::CBuilder 0.280225
ExtUtils::Command 7.24
ExtUtils::Install 2.10
ExtUtils::MakeMaker 7.24
ExtUtils::Manifest 1.70
ExtUtils::ParseXS 3.31
File::Spec 3.63_01
Module::Build 0.4222
Pod::Parser 1.63
Pod::Simple 3.35
Test2 1.302085
Test::Harness 3.39
Test::More 1.302085
version 0.9918
******************************** NOTE ********************************
The comments above are created mechanically, possibly without manual
checking by the sender. As there are many people performing automatic
tests on each upload to CPAN, it is likely that you will receive
identical messages about the same problem.
If you believe that the message is mistaken, please reply to the first
one with correction and/or additional informations, and do not take
it personally. We appreciate your patience. :)
**********************************************************************
Additional comments:
This report was machine-generated by CPANPLUS::Dist::YACSmoke 1.02.
------------------------------
ENVIRONMENT AND OTHER CONTEXT
------------------------------
Environment variables:
AUTOMATED_TESTING = 1
PATH = /sbin:/bin:/usr/sbin:/usr/bin:/usr/games:/usr/local/sbin:/usr/local/bin:/root/bin
PERL5LIB = :/opt/perl-5.24.1/.cpanplus/5.24.1/build/MPONwdl0Bv/POE-Component-Client-DNS-1.054/blib/lib:/opt/perl-5.24.1/.cpanplus/5.24.1/build/MPONwdl0Bv/POE-Component-Client-DNS-1.054/blib/arch
PERL5_CPANIDX_URL = http://cpan.mirror.local/cpanidx/
PERL5_CPANPLUS_IS_RUNNING = 5475
PERL5_CPANPLUS_IS_VERSION = 0.9168
PERL_EXTUTILS_AUTOINSTALL = --defaultdeps
PERL_INSTALL_QUIET = 1
PERL_MM_USE_DEFAULT = 1
PERL_USE_UNSAFE_INC = 1
SHELL = /bin/csh
TERM = screen
Perl special variables (and OS-specific diagnostics, for MSWin32):
Perl: $^X = /opt/perl-5.24.1/bin/perl
UID: $< = 0
EUID: $> = 0
GID: $( = 0 0 5
EGID: $) = 0 0 5
-------------------------------
--
Summary of my perl5 (revision 5 version 24 subversion 1) configuration:
Platform:
osname=midnightbsd, osvers=0.8.5, archname=amd64-midnightbsd
uname='midnightbsd magpie 0.8.5 midnightbsd 0.8.5 #4 r9248: thu jan 12 23:08:25 est 2017 root@m5:usrobjusrsrcsysgeneric amd64 '
config_args='-des -Dprefix=/opt/perl-5.24.1'
hint=recommended, useposix=true, d_sigaction=define
useithreads=undef, usemultiplicity=undef
use64bitint=define, use64bitall=define, uselongdouble=undef
usemymalloc=n, bincompat5005=undef
Compiler:
cc='cc', ccflags ='-DHAS_FPSETMASK -DHAS_FLOATINGPOINT_H -fno-strict-aliasing -pipe -fstack-protector -I/usr/local/include -D_FORTIFY_SOURCE=2',
optimize='-O',
cppflags='-DHAS_FPSETMASK -DHAS_FLOATINGPOINT_H -fno-strict-aliasing -pipe -fstack-protector -I/usr/local/include'
ccversion='', gccversion='4.2.1 Compatible FreeBSD Clang 3.3 (tags/RELEASE_33/final 183502)', gccosandvers=''
intsize=4, longsize=8, ptrsize=8, doublesize=8, byteorder=12345678, doublekind=3
d_longlong=define, longlongsize=8, d_longdbl=define, longdblsize=16, longdblkind=3
ivtype='long', ivsize=8, nvtype='double', nvsize=8, Off_t='off_t', lseeksize=8
alignbytes=8, prototype=define
Linker and Libraries:
ld='cc', ldflags ='-Wl,-E -fstack-protector -L/usr/local/lib'
libpth=/usr/lib /usr/local/lib /usr/include/clang/3.3 /usr/lib
libs=-lpthread -lgdbm -lm -lcrypt -lutil -lc
perllibs=-lpthread -lm -lcrypt -lutil -lc
libc=, so=so, useshrplib=false, libperl=libperl.a
gnulibc_version=''
Dynamic Linking:
dlsrc=dl_dlopen.xs, dlext=so, d_dlsymun=undef, ccdlflags=' '
cccdlflags='-DPIC -fPIC', lddlflags='-shared -L/usr/local/lib -fstack-protector'
Characteristics of this binary (from libperl):
Compile-time options: HAS_TIMES PERLIO_LAYERS PERL_COPY_ON_WRITE
PERL_DONT_CREATE_GVSV
PERL_HASH_FUNC_ONE_AT_A_TIME_HARD PERL_MALLOC_WRAP
PERL_PRESERVE_IVUV USE_64_BIT_ALL USE_64_BIT_INT
USE_LARGE_FILES USE_LOCALE USE_LOCALE_COLLATE
USE_LOCALE_CTYPE USE_LOCALE_NUMERIC USE_LOCALE_TIME
USE_PERLIO USE_PERL_ATOF
Built under midnightbsd
Compiled at May 17 2017 21:27:35
%ENV:
PERL5LIB=":/opt/perl-5.24.1/.cpanplus/5.24.1/build/MPONwdl0Bv/POE-Component-Client-DNS-1.054/blib/lib:/opt/perl-5.24.1/.cpanplus/5.24.1/build/MPONwdl0Bv/POE-Component-Client-DNS-1.054/blib/arch"
PERL5_CPANIDX_URL="http://cpan.mirror.local/cpanidx/"
PERL5_CPANPLUS_IS_RUNNING="5475"
PERL5_CPANPLUS_IS_VERSION="0.9168"
PERL_EXTUTILS_AUTOINSTALL="--defaultdeps"
PERL_INSTALL_QUIET="1"
PERL_MM_USE_DEFAULT="1"
PERL_USE_UNSAFE_INC="1"
@INC:
/opt/perl-5.24.1/.cpanplus/5.24.1/build/MPONwdl0Bv/POE-Component-Client-DNS-1.054/blib/lib
/opt/perl-5.24.1/.cpanplus/5.24.1/build/MPONwdl0Bv/POE-Component-Client-DNS-1.054/blib/arch
/opt/perl-5.24.1/lib/site_perl/5.24.1/amd64-midnightbsd
/opt/perl-5.24.1/lib/site_perl/5.24.1
/opt/perl-5.24.1/lib/5.24.1/amd64-midnightbsd
/opt/perl-5.24.1/lib/5.24.1
.