Report for Data-Unixish-1.49

Back
From: metabase:user:320bfe00-2aae-11df-837a-5e0a49663a4f
Subject: PASS Data-Unixish-1.49 v5.18.4 GNU/Linux
Date: 2015-06-11T11:53:43Z

This distribution has been tested as part of the CPAN Testers
project, supporting the Perl programming language.  See
http://wiki.cpantesters.org/ for more information or email
questions to cpan-testers-discuss@perl.org


--
Dear perlancar,

This is a computer-generated report for Data-Unixish-1.49
on perl 5.18.4, created by CPAN-Reporter-1.2014.

Thank you for uploading your work to CPAN.  Congratulations!
All tests were successful.

Sections of this report:

    * Tester comments
    * Program output
    * Prerequisites
    * Environment and other context

------------------------------
TESTER COMMENTS
------------------------------

Additional comments from tester:

this report is from an automated smoke testing program
and was not reviewed by a human for accuracy

------------------------------
PROGRAM OUTPUT
------------------------------

Output from '/usr/bin/make test':

PERL_DL_NONLAZY=1 "/home/sand/src/perl/repoperls/installed-perls/perl/v5.18.4/165a/bin/perl" "-MExtUtils::Command::MM" "-MTest::Harness" "-e" "undef *Test::Harness::Switches; test_harness(0, 'blib/lib', 'blib/arch')" t/*.t
t/00-compile.t ............ ok
t/01-basics.t ............. ok
t/Apply.t ................. ok
t/avg.t ................... ok
t/bool.t .................. ok
t/cat.t ................... ok
t/centerpad.t ............. ok
t/chain.t ................. ok
            # itemfunc test skipped
t/cond.t .................. ok
t/date.t .................. ok
t/grep.t .................. ok
t/head.t .................. ok
t/indent.t ................ ok
t/lc.t .................... ok
t/lcfirst.t ............... ok
t/lins.t .................. ok
t/linum.t ................. ok
t/lpad.t .................. ok
t/ltrim.t ................. ok
            # itemfunc test skipped
t/map.t ................... ok
            # itemfunc test skipped
t/num.t ................... ok
t/pick.t .................. ok
t/rand.t .................. ok
t/release-pod-coverage.t .. skipped: these tests are for release candidate testing
t/release-pod-syntax.t .... skipped: these tests are for release candidate testing
t/release-rinci.t ......... skipped: these tests are for release candidate testing
t/rev.t ................... ok
t/rins.t .................. ok
t/rpad.t .................. ok
t/rtrim.t ................. ok
t/shuf.t .................. ok
t/sort.t .................. ok
t/sprintf.t ............... ok
t/sprintfn.t .............. ok
t/sum.t ................... ok
t/tail.t .................. ok
t/trim.t .................. ok
t/trunc.t ................. ok
t/uc.t .................... ok
t/ucfirst.t ............... ok
t/Util.t .................. ok
t/wc.t .................... ok
t/wrap.t .................. ok
All tests successful.
Files=43, Tests=91, 23 wallclock secs ( 0.17 usr  0.22 sys +  6.58 cusr  1.68 csys =  8.65 CPU)
Result: PASS

------------------------------
PREREQUISITES
------------------------------

Prerequisite modules loaded:

requires:

    Module                       Need     Have    
    ---------------------------- -------- --------
    experimental                 0        0.013   
    IPC::Cmd                     0.52     0.92    
    Log::Any                     0        1.032   
    Number::Format               0        1.73    
    Number::Format::Metric       0        0.60    
    Package::MoreUtil            0        0.58    
    perl                         5.010001 5.018004
    Rinci                        v1.1.67  1.1.77  
    String::Pad                  0        0.01    
    Syntax::Feature::EachOnArray 0        0.04    
    Text::ANSI::Util             0.06     0.16    
    Text::sprintfn               0        0.07    
    Text::WideChar::Util         0.03     0.14    
    Tie::Simple                  0        1.03    
    Unixish                      v1.0.1   1.0.4   

build_requires:

    Module                       Need     Have    
    ---------------------------- -------- --------
    ExtUtils::MakeMaker          0        7.04    
    File::Spec                   0        3.47    
    File::Which                  0        1.18    
    IO::Handle                   0        1.34    
    IPC::Open3                   0        1.13    
    JSON                         0        2.90    
    String::ShellQuote           0        1.04    
    Test::More                   0.98     1.001014

configure_requires:

    Module                       Need     Have    
    ---------------------------- -------- --------
    ExtUtils::MakeMaker          0        7.04    
    Perl::osnames                0.09     0.11    


------------------------------
ENVIRONMENT AND OTHER CONTEXT
------------------------------

Environment variables:

    AUTOMATED_TESTING = 1
    LANG = en_US.UTF-8
    LANGUAGE = en_US:en
    PATH = /home/sand/bin:/usr/local/bin:/usr/bin:/bin:/usr/games:/usr/local/perl/bin:/usr/X11/bin:/sbin:/usr/sbin
    PERL5LIB = 
    PERL5OPT = 
    PERL5_CPANPLUS_IS_RUNNING = 20884
    PERL5_CPAN_IS_RUNNING = 20884
    PERL_MM_USE_DEFAULT = 1
    SHELL = /usr/bin/zsh
    TERM = screen

Perl special variables (and OS-specific diagnostics, for MSWin32):

    $^X = /home/sand/src/perl/repoperls/installed-perls/perl/v5.18.4/165a/bin/perl
    $UID/$EUID = 1005 / 1005
    $GID = 1005 1005
    $EGID = 1005 1005

Perl module toolchain versions installed:

    Module              Have    
    ------------------- --------
    CPAN                2.10    
    CPAN::Meta          2.150005
    Cwd                 3.47    
    ExtUtils::CBuilder  0.280223
    ExtUtils::Command   1.17    
    ExtUtils::Install   1.59    
    ExtUtils::MakeMaker 7.04    
    ExtUtils::Manifest  1.70    
    ExtUtils::ParseXS   3.24    
    File::Spec          3.47    
    JSON                2.90    
    JSON::PP            2.27203 
    Module::Build       0.4212  
    Module::Signature   0.79    
    Parse::CPAN::Meta   1.4417  
    Test::Harness       3.35    
    Test::More          1.001014
    YAML                1.15    
    YAML::Syck          1.29    
    version             0.9912  


--

Summary of my perl5 (revision 5 version 18 subversion 4) configuration:
  Commit id: 51202371ba68f3f52f13124a3ea1bc3c171e0ee2
  Platform:
    osname=linux, osvers=4.0.0-1-amd64, archname=x86_64-linux
    uname='linux k83 4.0.0-1-amd64 #1 smp debian 4.0.2-1 (2015-05-11) x86_64 gnulinux '
    config_args='-Dprefix=/home/sand/src/perl/repoperls/installed-perls/perl/v5.18.4/165a -Dmyhostname=k83 -Dinstallusrbinperl=n -Uversiononly -Dusedevel -des -Ui_db -Uuseithreads -Uuselongdouble -DDEBUGGING=-g'
    hint=recommended, useposix=true, d_sigaction=define
    useithreads=undef, usemultiplicity=undef
    useperlio=define, d_sfio=undef, uselargefiles=define, usesocks=undef
    use64bitint=define, use64bitall=define, uselongdouble=undef
    usemymalloc=n, bincompat5005=undef
  Compiler:
    cc='cc', ccflags ='-fno-strict-aliasing -pipe -fstack-protector -I/usr/local/include -D_LARGEFILE_SOURCE -D_FILE_OFFSET_BITS=64',
    optimize='-O2 -g',
    cppflags='-fno-strict-aliasing -pipe -fstack-protector -I/usr/local/include'
    ccversion='', gccversion='4.9.2', gccosandvers=''
    intsize=4, longsize=8, ptrsize=8, doublesize=8, byteorder=12345678
    d_longlong=define, longlongsize=8, d_longdbl=define, longdblsize=16
    ivtype='long', ivsize=8, nvtype='double', nvsize=8, Off_t='off_t', lseeksize=8
    alignbytes=8, prototype=define
  Linker and Libraries:
    ld='cc', ldflags =' -fstack-protector -L/usr/local/lib'
    libpth=/usr/local/lib /lib/x86_64-linux-gnu /lib/../lib /usr/lib/x86_64-linux-gnu /usr/lib/../lib /lib /usr/lib
    libs=-lnsl -lgdbm -ldb -ldl -lm -lcrypt -lutil -lc -lgdbm_compat
    perllibs=-lnsl -ldl -lm -lcrypt -lutil -lc
    libc=, so=so, useshrplib=false, libperl=libperl.a
    gnulibc_version='2.19'
  Dynamic Linking:
    dlsrc=dl_dlopen.xs, dlext=so, d_dlsymun=undef, ccdlflags='-Wl,-E'
    cccdlflags='-fPIC', lddlflags='-shared -O2 -g -L/usr/local/lib -fstack-protector'


Characteristics of this binary (from libperl): 
  Compile-time options: HAS_TIMES PERLIO_LAYERS PERL_DONT_CREATE_GVSV
                        PERL_HASH_FUNC_ONE_AT_A_TIME_HARD PERL_MALLOC_WRAP
                        PERL_PRESERVE_IVUV PERL_SAWAMPERSAND PERL_USE_DEVEL
                        USE_64_BIT_ALL USE_64_BIT_INT USE_LARGE_FILES
                        USE_LOCALE USE_LOCALE_COLLATE USE_LOCALE_CTYPE
                        USE_LOCALE_NUMERIC USE_PERLIO USE_PERL_ATOF
  Built under linux
  Compiled at Jun  9 2015 14:52:11
  %ENV:
    PERL5LIB=""
    PERL5OPT=""
    PERL5_CPANPLUS_IS_RUNNING="20884"
    PERL5_CPAN_IS_RUNNING="20884"
    PERL_MM_USE_DEFAULT="1"
  @INC:
    /home/sand/src/perl/repoperls/installed-perls/perl/v5.18.4/165a/lib/site_perl/5.18.4/x86_64-linux
    /home/sand/src/perl/repoperls/installed-perls/perl/v5.18.4/165a/lib/site_perl/5.18.4
    /home/sand/src/perl/repoperls/installed-perls/perl/v5.18.4/165a/lib/5.18.4/x86_64-linux
    /home/sand/src/perl/repoperls/installed-perls/perl/v5.18.4/165a/lib/5.18.4
    .