Report for WWW-Google-Contacts-0.39

Back
From: metabase:user:30977d10-2aae-11df-837a-5e0a49663a4f
Subject: PASS WWW-Google-Contacts-0.39 v5.23.1 GNU/Linux
Date: 2015-11-09T22:02:02Z

This distribution has been tested as part of the CPAN Testers
project, supporting the Perl programming language.  See
http://wiki.cpantesters.org/ for more information or email
questions to cpan-testers-discuss@perl.org


--
Dear Magnus Erixzon,

This is a computer-generated report for WWW-Google-Contacts-0.39
on perl 5.23.1, created by CPAN-Reporter-1.2015.

Thank you for uploading your work to CPAN.  Congratulations!
All tests were successful.

Sections of this report:

    * Tester comments
    * Program output
    * Prerequisites
    * Environment and other context

------------------------------
TESTER COMMENTS
------------------------------

Additional comments from tester:

this report is from an automated smoke testing program
and was not reviewed by a human for accuracy

------------------------------
PROGRAM OUTPUT
------------------------------

Output from '/usr/bin/make test':

PERL_DL_NONLAZY=1 "/home/stro/perl/5.23.1m/bin/perl" "-MExtUtils::Command::MM" "-MTest::Harness" "-e" "undef *Test::Harness::Switches; test_harness(0, 'blib/lib', 'blib/arch')" t/*.t
# Testing WWW::Google::Contacts 0.39, Perl 5.023001, /home/stro/perl/5.23.1m/bin/perl
t/00-load.t ....................... ok
t/01-basics.t ..................... ok
t/10-list-contacts-ONLINE.t ....... skipped: no TEST_GOOGLE_USERNAME or TEST_GOOGLE_PASSWORD set in the environment
t/20.group_members.t .............. skipped: no TEST_GOOGLE_USERNAME or TEST_GOOGLE_PASSWORD set in the environment
t/21.add_to_group.t ............... skipped: no TEST_GOOGLE_USERNAME or TEST_GOOGLE_PASSWORD set in the environment
t/22.change_email_type.t .......... skipped: no TEST_GOOGLE_USERNAME or TEST_GOOGLE_PASSWORD set in the environment
t/23.set_contact_values.t ......... skipped: no TEST_GOOGLE_USERNAME or TEST_GOOGLE_PASSWORD set in the environment
t/24.set_priority.t ............... skipped: no TEST_GOOGLE_USERNAME or TEST_GOOGLE_PASSWORD set in the environment
t/25.set_organization.t ........... skipped: no TEST_GOOGLE_USERNAME or TEST_GOOGLE_PASSWORD set in the environment
t/26.language.t ................... skipped: no TEST_GOOGLE_USERNAME or TEST_GOOGLE_PASSWORD set in the environment
t/27.relation.t ................... skipped: no TEST_GOOGLE_USERNAME or TEST_GOOGLE_PASSWORD set in the environment
t/33.photo.t ...................... skipped: no TEST_GOOGLE_USERNAME or TEST_GOOGLE_PASSWORD set in the environment
t/50.types.t ...................... ok
t/60.getting_user_defined.t ....... skipped: no TEST_GOOGLE_USERNAME or TEST_GOOGLE_PASSWORD set in the environment
t/61.utf8.t ....................... skipped: no TEST_GOOGLE_USERNAME or TEST_GOOGLE_PASSWORD set in the environment
t/9999.deprecated.get_contact.t ... ok
t/9999.deprecated.get_contacts.t .. ok
t/9999.deprecated.get_groups.t .... ok
t/release-pod-coverage.t .......... skipped: these tests are for release candidate testing
t/release-pod-syntax.t ............ skipped: these tests are for release candidate testing
t/type_relation.t ................. ok
t/yomi_name.t ..................... ok
All tests successful.
Files=22, Tests=57, 19 wallclock secs ( 0.08 usr  0.01 sys + 17.74 cusr  0.45 csys = 18.28 CPU)
Result: PASS

------------------------------
PREREQUISITES
------------------------------

Prerequisite modules loaded:

requires:

    Module                      Need Have   
    --------------------------- ---- -------
    Class::MOP                  1.09 2.1603 
    Crypt::SSLeay               0    0.72   
    File::Slurp                 0    9999.19
    LWP::UserAgent              0    6.13   
    Moose                       0    2.1603 
    MooseX::Role::Parameterized 0    1.08   
    MooseX::Types               0    0.45   
    Net::Google::AuthSub        0    0.5    
    Perl6::Junction             0    1.60000
    Try::Tiny                   0    0.22   
    XML::Simple                 0    2.20   

configure_requires:

    Module                      Need Have   
    --------------------------- ---- -------
    ExtUtils::MakeMaker         6.30 7.10   


------------------------------
ENVIRONMENT AND OTHER CONTEXT
------------------------------

Environment variables:

    AUTOMATED_TESTING = 1
    LANG = en_US.UTF-8
    PATH = /usr/local/bin:/usr/bin:/bin:/usr/local/games:/usr/games
    PERL5LIB = 
    PERL5OPT = 
    PERL5_CPANPLUS_IS_RUNNING = 451
    PERL5_CPAN_IS_RUNNING = 451
    PERL5_CPAN_IS_RUNNING_IN_RECURSION = 27617,451
    PERL_CR_SMOKER_CURRENT = WWW-Google-Contacts-0.39
    PERL_EXTUTILS_AUTOINSTALL = --defaultdeps
    PERL_MM_USE_DEFAULT = 1
    SHELL = /bin/bash
    TERM = xterm

Perl special variables (and OS-specific diagnostics, for MSWin32):

    $^X = /home/stro/perl/5.23.1m/bin/perl
    $UID/$EUID = 1000 / 1000
    $GID = 1000 24 25 29 30 44 46 108 114 1000
    $EGID = 1000 24 25 29 30 44 46 108 114 1000

Perl module toolchain versions installed:

    Module              Have    
    ------------------- --------
    CPAN                2.11    
    CPAN::Meta          2.150005
    Cwd                 3.56    
    ExtUtils::CBuilder  0.280224
    ExtUtils::Command   7.10    
    ExtUtils::Install   2.04    
    ExtUtils::MakeMaker 7.10    
    ExtUtils::Manifest  1.70    
    ExtUtils::ParseXS   3.30    
    File::Spec          3.56    
    JSON                2.90    
    JSON::PP            2.27300 
    Module::Build       0.4214  
    Module::Signature   0.79    
    Parse::CPAN::Meta   1.4417  
    Test::Harness       3.35    
    Test::More          1.001014
    YAML                1.15    
    YAML::Syck          1.29    
    version             0.9909  


--

Summary of my perl5 (revision 5 version 23 subversion 1) configuration:
   
  Platform:
    osname=linux, osvers=3.16.0-4-amd64, archname=x86_64-linux-multi
    uname='linux vm-debian-001 3.16.0-4-amd64 #1 smp debian 3.16.7-ckt11-1 (2015-05-24) x86_64 gnulinux '
    config_args=''
    hint=recommended, useposix=true, d_sigaction=define
    useithreads=undef, usemultiplicity=define
    use64bitint=define, use64bitall=define, uselongdouble=undef
    usemymalloc=n, bincompat5005=undef
  Compiler:
    cc='cc', ccflags ='-fwrapv -fno-strict-aliasing -pipe -fstack-protector-strong -I/usr/local/include -D_LARGEFILE_SOURCE -D_FILE_OFFSET_BITS=64 -D_FORTIFY_SOURCE=2',
    optimize='-O2',
    cppflags='-fwrapv -fno-strict-aliasing -pipe -fstack-protector-strong -I/usr/local/include'
    ccversion='', gccversion='4.9.2', gccosandvers=''
    intsize=4, longsize=8, ptrsize=8, doublesize=8, byteorder=12345678, doublekind=3
    d_longlong=define, longlongsize=8, d_longdbl=define, longdblsize=16, longdblkind=3
    ivtype='long', ivsize=8, nvtype='double', nvsize=8, Off_t='off_t', lseeksize=8
    alignbytes=8, prototype=define
  Linker and Libraries:
    ld='cc', ldflags =' -fstack-protector-strong -L/usr/local/lib'
    libpth=/usr/local/lib /usr/lib/gcc/x86_64-linux-gnu/4.9/include-fixed /usr/include/x86_64-linux-gnu /usr/lib /lib/x86_64-linux-gnu /lib/../lib /usr/lib/x86_64-linux-gnu /usr/lib/../lib /lib
    libs=-lpthread -lnsl -ldl -lm -lcrypt -lutil -lc
    perllibs=-lpthread -lnsl -ldl -lm -lcrypt -lutil -lc
    libc=libc-2.19.so, so=so, useshrplib=false, libperl=libperl.a
    gnulibc_version='2.19'
  Dynamic Linking:
    dlsrc=dl_dlopen.xs, dlext=so, d_dlsymun=undef, ccdlflags='-Wl,-E'
    cccdlflags='-fPIC', lddlflags='-shared -O2 -L/usr/local/lib -fstack-protector-strong'


Characteristics of this binary (from libperl): 
  Compile-time options: HAS_TIMES MULTIPLICITY PERLIO_LAYERS
                        PERL_COPY_ON_WRITE PERL_DONT_CREATE_GVSV
                        PERL_HASH_FUNC_ONE_AT_A_TIME_HARD
                        PERL_IMPLICIT_CONTEXT PERL_MALLOC_WRAP
                        PERL_PRESERVE_IVUV USE_64_BIT_ALL USE_64_BIT_INT
                        USE_LARGE_FILES USE_LOCALE USE_LOCALE_COLLATE
                        USE_LOCALE_CTYPE USE_LOCALE_NUMERIC USE_LOCALE_TIME
                        USE_PERLIO USE_PERL_ATOF
  Built under linux
  Compiled at Aug  2 2015 23:42:01
  %ENV:
    PERL5LIB=""
    PERL5OPT=""
    PERL5_CPANPLUS_IS_RUNNING="451"
    PERL5_CPAN_IS_RUNNING="451"
    PERL5_CPAN_IS_RUNNING_IN_RECURSION="27617,451"
    PERL_CR_SMOKER_CURRENT="WWW-Google-Contacts-0.39"
    PERL_EXTUTILS_AUTOINSTALL="--defaultdeps"
    PERL_MM_USE_DEFAULT="1"
  @INC:
    /home/stro/perl/5.23.1m/lib/site_perl/5.23.1/x86_64-linux-multi
    /home/stro/perl/5.23.1m/lib/site_perl/5.23.1
    /home/stro/perl/5.23.1m/lib/5.23.1/x86_64-linux-multi
    /home/stro/perl/5.23.1m/lib/5.23.1
    .