Back
From: metabase:user:b53c7f44-4c0e-11e4-9ced-a04ade49192c
Subject: PASS Test-File-Content-1.0.2 v5.10.1 GNU/Linux
Date: 2015-02-01T03:07:51Z
This distribution has been tested as part of the CPAN Testers
project, supporting the Perl programming language. See
http://wiki.cpantesters.org/ for more information or email
questions to cpan-testers-discuss@perl.org
--
Dear Moritz Onken,
This is a computer-generated report for Test-File-Content-1.0.2
on perl 5.10.1, created by CPAN-Reporter-1.2011.
Thank you for uploading your work to CPAN. Congratulations!
All tests were successful.
Sections of this report:
* Tester comments
* Program output
* Prerequisites
* Environment and other context
------------------------------
TESTER COMMENTS
------------------------------
Additional comments from tester:
this report is from an automated smoke testing program
and was not reviewed by a human for accuracy
------------------------------
PROGRAM OUTPUT
------------------------------
Output from './Build test':
t/00-compile.t ................ ok
#
#
# perl: v5.10.1 (wanted any version) on linux from /opt/perlcc5-32-O0-5.10.1/bin/perl
#
# Exporter => 5.70 (want any version)
# File::Find => 1.14 (want any version)
# File::Temp => 0.2304 (want any version)
# Module::Build => 0.4211 (want 0.3601)
# Path::Class::File => 0.35 (want 0.23)
# Test::Harness => 3.35 (want 3.22)
# Test::More => 1.001014 (want 0.96)
# strict => 1.04 (want any version)
# warnings => 1.06 (want any version)
#
# Thanks for using my code. I hope it works for you.
# If not, please try and include this output in the bug report.
# That will help me reproduce the issue and solve you problem.
#
t/000-report-versions-tiny.t .. ok
# Failed test 't/code/test.js'
# at /root/.cpan/build/Test-File-Content-1.0.2-l4P9hH/blib/lib/Test/File/Content.pm line 100.
# console.log found in t/code/test.js line 1
# console.log found in t/code/test.js line 2
# Failed test 't/code/test.pm'
# at /root/.cpan/build/Test-File-Content-1.0.2-l4P9hH/blib/lib/Test/File/Content.pm line 100.
# make_immutable found in t/code/test.pm line 10
# Failed test 't/code/test.js'
# at /root/.cpan/build/Test-File-Content-1.0.2-l4P9hH/blib/lib/Test/File/Content.pm line 100.
# file t/code/test.js does not contain make_immutable
# Failed test 't/code/test.js'
# at /root/.cpan/build/Test-File-Content-1.0.2-l4P9hH/blib/lib/Test/File/Content.pm line 100.
# file t/code/test.js does not contain make_immutable
# Failed test 't/code/test.tt'
# at /root/.cpan/build/Test-File-Content-1.0.2-l4P9hH/blib/lib/Test/File/Content.pm line 100.
# file t/code/test.tt does not contain make_immutable
# Looks like you failed 5 tests of 15.
t/output.t .................... ok
t/release-has-version.t ....... skipped: these tests are for release candidate testing
t/release-kwalitee.t .......... skipped: these tests are for release candidate testing
t/release-minimum-version.t ... skipped: these tests are for release candidate testing
t/release-pod-coverage.t ...... skipped: these tests are for release candidate testing
t/release-pod-syntax.t ........ skipped: these tests are for release candidate testing
All tests successful.
Files=8, Tests=6, 4 wallclock secs ( 0.19 usr 0.04 sys + 2.93 cusr 0.28 csys = 3.44 CPU)
Result: PASS
------------------------------
PREREQUISITES
------------------------------
Prerequisite modules loaded:
requires:
Module Need Have
----------------- ------ --------
Exporter 0 5.70
File::Find 0 1.14
Path::Class::File 0.23 0.35
strict 0 1.04
Test::Harness 3.22 3.35
Test::More 0.96 1.001014
warnings 0 1.06
build_requires:
Module Need Have
----------------- ------ --------
File::Temp 0 0.2304
Module::Build 0.3601 0.4211
Test::Harness 0 3.35
Test::More 0.88 1.001014
configure_requires:
Module Need Have
----------------- ------ --------
Module::Build 0.3601 0.4211
------------------------------
ENVIRONMENT AND OTHER CONTEXT
------------------------------
Environment variables:
AUTOMATED_TESTING = 1
LANG = en_US.utf8
NONINTERACTIVE_TESTING = 1
PATH = /usr/lib/qt-3.3/bin:/usr/kerberos/sbin:/usr/kerberos/bin:/usr/lib/ccache:/usr/local/sbin:/usr/sbin:/sbin:/usr/local/bin:/usr/bin:/bin:/usr/lib/firebird/bin:/opt/real/RealPlayer:/root/bin:/usr/lib/firebird/bin:/opt/real/RealPlayer
PERL5LIB =
PERL5OPT =
PERL5_CPANPLUS_IS_RUNNING = 6189
PERL5_CPAN_IS_RUNNING = 6189
PERL_MM_USE_DEFAULT = 1
PERL_PARALLEL_SMOKER = yes
SHELL = /bin/bash
TERM = xterm
Perl special variables (and OS-specific diagnostics, for MSWin32):
$^X = /opt/perlcc5-32-O0-5.10.1/bin/perl
$UID/$EUID = 0 / 0
$GID = 0 0 1 2 3 4 6 10
$EGID = 0 0 1 2 3 4 6 10
Perl module toolchain versions installed:
Module Have
------------------- --------
CPAN 2.05
CPAN::Meta 2.143240
Cwd 3.47
ExtUtils::CBuilder 0.280220
ExtUtils::Command 1.16
ExtUtils::Install 2.04
ExtUtils::MakeMaker 7.04
ExtUtils::Manifest 1.70
ExtUtils::ParseXS 3.24
File::Spec 3.47
JSON 2.90
JSON::PP 2.27300
Module::Build 0.4211
Module::Signature 0.73
Parse::CPAN::Meta 1.4414
Test::Harness 3.35
Test::More 1.001014
YAML 1.14
YAML::Syck 1.29
version 0.9912
--
Summary of my perl5 (revision 5 version 10 subversion 1) configuration:
Platform:
osname=linux, osvers=2.6.32.63, archname=i686-linux-thread-multi-64int-ld
uname='linux localhost.localdomain 2.6.32.63 #2 smp fri jan 30 10:45:01 pst 2015 i686 i686 i386 gnulinux '
config_args='-Dcc=/opt/bin/gcc -Dprefix=/opt/perlcc5-32-O0-5.10.1 -DDEBUGGING'
hint=recommended, useposix=true, d_sigaction=define
useithreads=define, usemultiplicity=define
useperlio=define, d_sfio=undef, uselargefiles=define, usesocks=undef
use64bitint=define, use64bitall=undef, uselongdouble=define
usemymalloc=y, bincompat5005=undef
Compiler:
cc='/opt/bin/gcc', ccflags ='-D_REENTRANT -D_GNU_SOURCE -DDEBUGGING -fno-strict-aliasing -pipe -fstack-protector -I/usr/local/include -D_LARGEFILE_SOURCE -D_FILE_OFFSET_BITS=64',
optimize='-O0 -g',
cppflags='-D_REENTRANT -D_GNU_SOURCE -DDEBUGGING -fno-strict-aliasing -pipe -fstack-protector -I/usr/local/include'
ccversion='', gccversion='5.0.0 20140817 (experimental)', gccosandvers=''
intsize=4, longsize=4, ptrsize=4, doublesize=8, byteorder=12345678
d_longlong=define, longlongsize=8, d_longdbl=define, longdblsize=12
ivtype='long long', ivsize=8, nvtype='long double', nvsize=12, Off_t='off_t', lseeksize=8
alignbytes=4, prototype=define
Linker and Libraries:
ld='/opt/bin/gcc', ldflags =' -fstack-protector -L/usr/local/lib'
libpth=/usr/local/lib /lib /usr/lib
libs=-lnsl -lgdbm -ldb -ldl -lm -lcrypt -lutil -lpthread -lc
perllibs=-lnsl -ldl -lm -lcrypt -lutil -lpthread -lc
libc=/lib/libc-2.8.so, so=so, useshrplib=true, libperl=libperl.so
gnulibc_version='2.8'
Dynamic Linking:
dlsrc=dl_dlopen.xs, dlext=so, d_dlsymun=undef, ccdlflags='-Wl,-E -Wl,-rpath,/opt/perlcc5-32-O0-5.10.1/lib/5.10.1/i686-linux-thread-multi-64int-ld/CORE'
cccdlflags='-fPIC', lddlflags='-shared -O0 -g -L/usr/local/lib -fstack-protector'
Characteristics of this binary (from libperl):
Compile-time options: DEBUGGING MULTIPLICITY MYMALLOC PERL_DONT_CREATE_GVSV
PERL_IMPLICIT_CONTEXT PERL_MAD PERL_MALLOC_WRAP
PERL_TRACK_MEMPOOL USE_64_BIT_INT USE_FAST_STDIO
USE_ITHREADS USE_LARGE_FILES USE_LONG_DOUBLE
USE_PERLIO USE_REENTRANT_API
Built under linux
Compiled at Jan 30 2015 14:10:53
%ENV:
PERL5LIB=""
PERL5OPT=""
PERL5_CPANPLUS_IS_RUNNING="6189"
PERL5_CPAN_IS_RUNNING="6189"
PERL_MM_USE_DEFAULT="1"
PERL_PARALLEL_SMOKER="yes"
@INC:
/opt/perlcc5-32-O0-5.10.1/lib/5.10.1/i686-linux-thread-multi-64int-ld
/opt/perlcc5-32-O0-5.10.1/lib/5.10.1
/opt/perlcc5-32-O0-5.10.1/lib/site_perl/5.10.1/i686-linux-thread-multi-64int-ld
/opt/perlcc5-32-O0-5.10.1/lib/site_perl/5.10.1
.