AnyEvent-HTTP-Message v0.302 Perl 5 v5.24.3 aarch64-linux
- Status
- Pass
- From
- Nigel Horne
- Dist
-
AnyEvent-HTTP-Message v0.302
- Platform
- Perl 5 v5.24.3 aarch64-linux
- Date
- 2018-03-02 11:04:41
- ID
- 81f3e548-1e09-11e8-8f6c-ea1ceebf9254
This distribution has been tested as part of the CPAN Testers
project, supporting the Perl programming language. See
http://wiki.cpantesters.org/ for more information or email
questions to cpan-testers-discuss@perl.org
--
Dear Randy Stauner,
This is a computer-generated report for AnyEvent-HTTP-Message-0.302
on perl 5.24.3, created by CPAN-Reporter-1.2018.
Thank you for uploading your work to CPAN. Congratulations!
All tests were successful.
Sections of this report:
* Tester comments
* Program output
* Prerequisites
* Environment and other context
------------------------------
TESTER COMMENTS
------------------------------
Additional comments from tester:
this report is from an automated smoke testing program
and was not reviewed by a human for accuracy
------------------------------
PROGRAM OUTPUT
------------------------------
Output from '/usr/bin/make test':
PERL_DL_NONLAZY=1 "/home/njh/perl5/perlbrew/perls/perl-5.24.3-clang/bin/perl5.24.3" "-MExtUtils::Command::MM" "-MTest::Harness" "-e" "undef *Test::Harness::Switches; test_harness(0, 'blib/lib', 'blib/arch')" t/*.t
t/message.t ............ ok
t/request.t ............ ok
t/00-compile.t ......... ok
t/response.t ........... ok
# Prerequisite Report:
# Version Module
# -------- ---------------------
# 2.23 AnyEvent::HTTP
# 1.40 Carp
# 5.72 Exporter
# 7.30 ExtUtils::MakeMaker
# 1.34 File::Find
# 3.63_01 File::Spec::Functions
# 0.2304 File::Temp
# 6.13 HTTP::Message
# 1.42_02 List::Util
# 1.42_02 Scalar::Util
# 1.302106 Test::More
# 0.234 parent
# 1.11 strict
# 1.36 warnings
t/00-report-prereqs.t .. ok
All tests successful.
Files=5, Tests=99, 1 wallclock secs ( 0.16 usr 0.02 sys + 2.14 cusr 0.35 csys = 2.67 CPU)
Result: PASS
------------------------------
PREREQUISITES
------------------------------
Prerequisite modules loaded:
requires:
Module Need Have
--------------------- ---- --------
AnyEvent::HTTP 2 2.23
Carp 0 1.40
parent 0 0.234
Scalar::Util 0 1.42_02
strict 0 1.11
warnings 0 1.36
build_requires:
Module Need Have
--------------------- ---- --------
Exporter 0 5.72
ExtUtils::MakeMaker 0 7.30
File::Find 0 1.34
File::Spec::Functions 0 3.63_01
File::Temp 0 0.2304
List::Util 0 1.42_02
Test::More 0.88 1.302106
configure_requires:
Module Need Have
--------------------- ---- --------
ExtUtils::MakeMaker 6.30 7.30
------------------------------
ENVIRONMENT AND OTHER CONTEXT
------------------------------
Environment variables:
AUTOMATED_TESTING = 1
HARNESS_OPTIONS = j4
LANG = en_US.UTF-8
LANGUAGE = en_US.UTF-8
LC_ALL = en_US.UTF-8
PATH = /home/njh/perl5/perlbrew/bin:/home/njh/perl5/perlbrew/perls/perl-5.24.3-clang/bin:/home/njh/src/njh/smoker/bin:/usr/bin:/bin
PERL5LIB = /home/njh/.cpan/build/AnyEvent-HTTP-2.23-23/blib/arch:/home/njh/.cpan/build/AnyEvent-HTTP-2.23-23/blib/lib:/home/njh/.cpan/build/common-sense-3.74-23/blib/arch:/home/njh/.cpan/build/common-sense-3.74-23/blib/lib:/home/njh/.cpan/build/AnyEvent-7.14-23/blib/arch:/home/njh/.cpan/build/AnyEvent-7.14-23/blib/lib:/home/njh/.cpan/build/Canary-Stability-2012-23/blib/arch:/home/njh/.cpan/build/Canary-Stability-2012-23/blib/lib:/home/njh/.cpan/build/JSONP-1.83-25/blib/arch:/home/njh/.cpan/build/JSONP-1.83-25/blib/lib:/home/njh/.cpan/build/JSONP-1.82-25/blib/arch:/home/njh/.cpan/build/JSONP-1.82-25/blib/lib:/home/njh/.cpan/build/Want-0.29-25/blib/arch:/home/njh/.cpan/build/Want-0.29-25/blib/lib:/home/njh/.cpan/build/CGI-4.38-3/blib/arch:/home/njh/.cpan/build/CGI-4.38-3/blib/lib:/home/njh/.cpan/build/Mozilla-CA-20180117-15/blib/arch:/home/njh/.cpan/build/Mozilla-CA-20180117-15/blib/lib
PERL5OPT =
PERL5_CPANPLUS_IS_RUNNING = 23627
PERL5_CPAN_IS_RUNNING = 23627
PERLBREW_HOME = /home/njh/.perlbrew
PERLBREW_MANPATH = /home/njh/perl5/perlbrew/perls/perl-5.24.3-clang/man
PERLBREW_PATH = /home/njh/perl5/perlbrew/bin:/home/njh/perl5/perlbrew/perls/perl-5.24.3-clang/bin
PERLBREW_PERL = perl-5.24.3-clang
PERLBREW_ROOT = /home/njh/perl5/perlbrew
PERLBREW_SHELLRC_VERSION = 0.82
PERLBREW_VERSION = 0.82
PERL_CPAN_REPORTER_DIR = /home/njh/.cpanreporter/perl-5.24.3-clang
SHELL = /bin/sh
Perl special variables (and OS-specific diagnostics, for MSWin32):
$^X = /home/njh/perl5/perlbrew/perls/perl-5.24.3-clang/bin/perl5.24.3
$UID/$EUID = 1000 / 1000
$GID = 1000 1000
$EGID = 1000 1000
Perl module toolchain versions installed:
Module Have
------------------- ----------
CPAN 2.16
CPAN::Meta 2.150005
Cwd 3.63_01
ExtUtils::CBuilder 0.280225
ExtUtils::Command 7.30
ExtUtils::Install 2.06
ExtUtils::MakeMaker 7.30
ExtUtils::Manifest 1.70
ExtUtils::ParseXS 3.31
File::Spec 3.63_01
JSON 2.94
JSON::PP 2.27300_01
Module::Build 0.4224
Module::Signature n/a
Parse::CPAN::Meta 1.4417_001
Test::Harness 3.36_01
Test::More 1.302106
YAML 1.24
YAML::Syck 1.30
version 0.9916
--
Summary of my perl5 (revision 5 version 24 subversion 3) configuration:
Platform:
osname=linux, osvers=4.9.23-std-1, archname=aarch64-linux
uname='linux scaleway 4.9.23-std-1 #1 smp mon apr 24 13:18:14 utc 2017 aarch64 gnulinux '
config_args='-de -Dprefix=/home/njh/perl5/perlbrew/perls/perl-5.24.3-clang -Dusedevel -Dcc=clang -Accflags=-O2 -W -Wformat=2 -Wswitch -Wshadow -Wwrite-strings -Wuninitialized -Wall -pipe -fomit-frame-pointer -D_FORTIFY_SOURCE=2 -Wpointer-arith -Wstrict-prototypes -fstack-protector -Wstack-protector -Wextra -Wbad-function-cast -Wcast-align -Wcast-qual -Wdisabled-optimization -Wendif-labels -Wfloat-equal -Wformat-nonliteral -Winline -Wmissing-declarations -Wmissing-prototypes -Wnested-externs -Wpointer-arith -Wundef -Wformat-security -march=armv8-a+crc -Aeval:scriptdir=/home/njh/perl5/perlbrew/perls/perl-5.24.3-clang/bin'
hint=recommended, useposix=true, d_sigaction=define
useithreads=undef, usemultiplicity=undef
use64bitint=define, use64bitall=define, uselongdouble=undef
usemymalloc=n, bincompat5005=undef
Compiler:
cc='clang', ccflags ='-O2 -W -Wformat=2 -Wswitch -Wshadow -Wwrite-strings -Wuninitialized -Wall -pipe -fomit-frame-pointer -D_FORTIFY_SOURCE=2 -Wpointer-arith -Wstrict-prototypes -fstack-protector -Wstack-protector -Wextra -Wbad-function-cast -Wcast-align -Wcast-qual -Wdisabled-optimization -Wendif-labels -Wfloat-equal -Wformat-nonliteral -Winline -Wmissing-declarations -Wmissing-prototypes -Wnested-externs -Wpointer-arith -Wundef -Wformat-security -march=armv8-a+crc -fno-strict-aliasing -fstack-protector-strong -I/usr/local/include -D_LARGEFILE_SOURCE -D_FILE_OFFSET_BITS=64',
optimize='-O2',
cppflags='-O2 -W -Wformat=2 -Wswitch -Wshadow -Wwrite-strings -Wuninitialized -Wall -pipe -fomit-frame-pointer -D_FORTIFY_SOURCE=2 -Wpointer-arith -Wstrict-prototypes -fstack-protector -Wstack-protector -Wextra -Wbad-function-cast -Wcast-align -Wcast-qual -Wdisabled-optimization -Wendif-labels -Wfloat-equal -Wformat-nonliteral -Winline -Wmissing-declarations -Wmissing-prototypes -Wnested-externs -Wpointer-arith -Wundef -Wformat-security -march=armv8-a+crc -fno-strict-aliasing -fstack-protector-strong -I/usr/local/include'
ccversion='', gccversion='4.2.1 Compatible Clang 3.8.1 (tags/RELEASE_381/final)', gccosandvers=''
intsize=4, longsize=8, ptrsize=8, doublesize=8, byteorder=12345678, doublekind=3
d_longlong=define, longlongsize=8, d_longdbl=define, longdblsize=16, longdblkind=1
ivtype='long', ivsize=8, nvtype='double', nvsize=8, Off_t='off_t', lseeksize=8
alignbytes=8, prototype=define
Linker and Libraries:
ld='clang', ldflags =' -fstack-protector-strong -L/usr/local/lib'
libpth=/usr/local/lib /usr/lib/llvm-3.8/bin/../lib/clang/3.8.1/lib /usr/include/aarch64-linux-gnu /usr/lib /lib/aarch64-linux-gnu /lib/../lib /usr/lib/aarch64-linux-gnu /usr/lib/../lib /lib
libs=-lpthread -lnsl -lgdbm -ldb -ldl -lm -lcrypt -lutil -lc -lgdbm_compat
perllibs=-lpthread -lnsl -ldl -lm -lcrypt -lutil -lc
libc=libc-2.24.so, so=so, useshrplib=false, libperl=libperl.a
gnulibc_version='2.24'
Dynamic Linking:
dlsrc=dl_dlopen.xs, dlext=so, d_dlsymun=undef, ccdlflags='-Wl,-E'
cccdlflags='-fPIC', lddlflags='-shared -O2 -L/usr/local/lib -fstack-protector-strong'
Characteristics of this binary (from libperl):
Compile-time options: HAS_TIMES PERLIO_LAYERS PERL_COPY_ON_WRITE
PERL_DONT_CREATE_GVSV
PERL_HASH_FUNC_ONE_AT_A_TIME_HARD PERL_MALLOC_WRAP
PERL_PRESERVE_IVUV PERL_USE_DEVEL USE_64_BIT_ALL
USE_64_BIT_INT USE_LARGE_FILES USE_LOCALE
USE_LOCALE_COLLATE USE_LOCALE_CTYPE
USE_LOCALE_NUMERIC USE_LOCALE_TIME USE_PERLIO
USE_PERL_ATOF
Locally applied patches:
Devel::PatchPerl 1.48
Built under linux
Compiled at Oct 26 2017 17:30:43
%ENV:
PERL5LIB="/home/njh/.cpan/build/AnyEvent-HTTP-2.23-23/blib/arch:/home/njh/.cpan/build/AnyEvent-HTTP-2.23-23/blib/lib:/home/njh/.cpan/build/common-sense-3.74-23/blib/arch:/home/njh/.cpan/build/common-sense-3.74-23/blib/lib:/home/njh/.cpan/build/AnyEvent-7.14-23/blib/arch:/home/njh/.cpan/build/AnyEvent-7.14-23/blib/lib:/home/njh/.cpan/build/Canary-Stability-2012-23/blib/arch:/home/njh/.cpan/build/Canary-Stability-2012-23/blib/lib:/home/njh/.cpan/build/JSONP-1.83-25/blib/arch:/home/njh/.cpan/build/JSONP-1.83-25/blib/lib:/home/njh/.cpan/build/JSONP-1.82-25/blib/arch:/home/njh/.cpan/build/JSONP-1.82-25/blib/lib:/home/njh/.cpan/build/Want-0.29-25/blib/arch:/home/njh/.cpan/build/Want-0.29-25/blib/lib:/home/njh/.cpan/build/CGI-4.38-3/blib/arch:/home/njh/.cpan/build/CGI-4.38-3/blib/lib:/home/njh/.cpan/build/Mozilla-CA-20180117-15/blib/arch:/home/njh/.cpan/build/Mozilla-CA-20180117-15/blib/lib"
PERL5OPT=""
PERL5_CPANPLUS_IS_RUNNING="23627"
PERL5_CPAN_IS_RUNNING="23627"
PERLBREW_HOME="/home/njh/.perlbrew"
PERLBREW_MANPATH="/home/njh/perl5/perlbrew/perls/perl-5.24.3-clang/man"
PERLBREW_PATH="/home/njh/perl5/perlbrew/bin:/home/njh/perl5/perlbrew/perls/perl-5.24.3-clang/bin"
PERLBREW_PERL="perl-5.24.3-clang"
PERLBREW_ROOT="/home/njh/perl5/perlbrew"
PERLBREW_SHELLRC_VERSION="0.82"
PERLBREW_VERSION="0.82"
PERL_CPAN_REPORTER_DIR="/home/njh/.cpanreporter/perl-5.24.3-clang"
@INC:
/home/njh/.cpan/build/AnyEvent-HTTP-2.23-23/blib/arch
/home/njh/.cpan/build/AnyEvent-HTTP-2.23-23/blib/lib
/home/njh/.cpan/build/common-sense-3.74-23/blib/arch
/home/njh/.cpan/build/common-sense-3.74-23/blib/lib
/home/njh/.cpan/build/AnyEvent-7.14-23/blib/arch
/home/njh/.cpan/build/AnyEvent-7.14-23/blib/lib
/home/njh/.cpan/build/Canary-Stability-2012-23/blib/arch
/home/njh/.cpan/build/Canary-Stability-2012-23/blib/lib
/home/njh/.cpan/build/JSONP-1.83-25/blib/arch
/home/njh/.cpan/build/JSONP-1.83-25/blib/lib
/home/njh/.cpan/build/JSONP-1.82-25/blib/arch
/home/njh/.cpan/build/JSONP-1.82-25/blib/lib
/home/njh/.cpan/build/Want-0.29-25/blib/arch
/home/njh/.cpan/build/Want-0.29-25/blib/lib
/home/njh/.cpan/build/CGI-4.38-3/blib/arch
/home/njh/.cpan/build/CGI-4.38-3/blib/lib
/home/njh/.cpan/build/Mozilla-CA-20180117-15/blib/arch
/home/njh/.cpan/build/Mozilla-CA-20180117-15/blib/lib
/home/njh/perl5/perlbrew/perls/perl-5.24.3-clang/lib/site_perl/5.24.3/aarch64-linux
/home/njh/perl5/perlbrew/perls/perl-5.24.3-clang/lib/site_perl/5.24.3
/home/njh/perl5/perlbrew/perls/perl-5.24.3-clang/lib/5.24.3/aarch64-linux
/home/njh/perl5/perlbrew/perls/perl-5.24.3-clang/lib/5.24.3
.