Back
From: metabase:user:3138bf04-2aae-11df-837a-5e0a49663a4f
Subject: PASS Crypt-SSLeay-0.72 v5.20.0 GNU/Linux
Date: 2014-07-22T02:54:32Z
This distribution has been tested as part of the CPAN Testers
project, supporting the Perl programming language. See
http://wiki.cpantesters.org/ for more information or email
questions to cpan-testers-discuss@perl.org
--
Dear A. Sinan Unur,
This is a computer-generated report for Crypt-SSLeay-0.72
on perl 5.20.0, created by CPAN-Reporter-1.2010.
Thank you for uploading your work to CPAN. Congratulations!
All tests were successful.
Sections of this report:
* Tester comments
* Program output
* Prerequisites
* Environment and other context
------------------------------
TESTER COMMENTS
------------------------------
Additional comments from tester:
none provided
------------------------------
PROGRAM OUTPUT
------------------------------
Output from '/usr/bin/make test':
Running Mkbootstrap for Crypt::SSLeay ()
chmod 644 SSLeay.bs
PERL_DL_NONLAZY=1 /usr/local/bin/perl "-MExtUtils::Command::MM" "-MTest::Harness" "-e" "undef *Test::Harness::Switches; test_harness(0, 'blib/lib', 'blib/arch')" t/*.t
t/00-basic.t ..... ok
t/01-connect.t ... ok
# Reading configuration from 'test.config' on linux
# network_tests : 0
t/02-live.t ...... skipped: Network tests disabled
# You have 'OpenSSL 1.0.1e 11 Feb 2013'
# built on 'built on: Sun Jun 15 12:03:36 UTC 2014'
# and SSL Heartbeats are not disabled.
#
# That means your client may be vulnerable to a server exploiting the
# Heartbleed bug unless the vulnerability was patched without changing
# version. The vulnerability was disclosed on or about 2014/04/07. A
# build date after that may indicate that the library you are using
# may have been patched. You should check this.
#
# The risk is compounded by the fact that Crypt::SSLeay does not
# verify hosts. You can still force install Crypt::SSLeay, but you
# need to be aware of this issue, and strongly consider upgrading to a
# safer version of OpenSSL.
#
# See also:
#
# - https://cve.mitre.org/cgi-bin/cvename.cgi?name=CVE-2014-0160
# - http://isc.sans.edu/diary/17945
# - http://seclists.org/fulldisclosure/2014/Apr/91
t/03-version.t ... ok
t/boilerplate.t .. ok
t/manifest.t ..... skipped: Author tests not required for installation
All tests successful.
Files=6, Tests=43, 0 wallclock secs ( 0.06 usr 0.01 sys + 0.51 cusr 0.04 csys = 0.62 CPU)
Result: PASS
------------------------------
PREREQUISITES
------------------------------
Prerequisite modules loaded:
requires:
Module Need Have
-------------------- -------- --------
LWP::Protocol::https 6.02 6.04
MIME::Base64 0 3.14
perl 5.006 5.020000
build_requires:
Module Need Have
-------------------- -------- --------
ExtUtils::MakeMaker 0 6.98
Test::More 0.19 1.001002
Try::Tiny 0.19 0.22
configure_requires:
Module Need Have
-------------------- -------- --------
ExtUtils::CBuilder 0.280205 0.280216
Getopt::Long 0 2.42
Path::Class 0.26 0.32
Try::Tiny 0.19 0.22
------------------------------
ENVIRONMENT AND OTHER CONTEXT
------------------------------
Environment variables:
LANG = en_US.UTF-8
LANGUAGE = en_US:en
PATH = /usr/local/sbin:/usr/local/bin:/usr/sbin:/usr/bin:/sbin:/bin
PERL5LIB =
PERL5OPT =
PERL5_CPANPLUS_IS_RUNNING = 1611
PERL5_CPAN_IS_RUNNING = 1611
SHELL = /bin/bash
TERM = unknown
Perl special variables (and OS-specific diagnostics, for MSWin32):
$^X = /usr/local/bin/perl
$UID/$EUID = 0 / 0
$GID = 0 0
$EGID = 0 0
Perl module toolchain versions installed:
Module Have
------------------- --------
CPAN 2.05
CPAN::Meta 2.141520
Cwd 3.47
ExtUtils::CBuilder 0.280216
ExtUtils::Command 1.18
ExtUtils::Install 1.67
ExtUtils::MakeMaker 6.98
ExtUtils::Manifest 1.63
ExtUtils::ParseXS 3.24
File::Spec 3.47
JSON 2.59
JSON::PP 2.27202
Module::Build 0.4007
Module::Signature 0.73
Parse::CPAN::Meta 1.4414
Test::Harness 3.28
Test::More 1.001002
YAML 0.84
YAML::Syck 1.27
version 0.9902
--
Summary of my perl5 (revision 5 version 20 subversion 0) configuration:
Platform:
osname=linux, osvers=3.14.2.20140427, archname=i686-linux
uname='linux brieneno 3.14.2.20140427 #1 smp sun apr 27 23:09:53 cest 2014 i686 gnulinux '
config_args='-des -Dinc_version_list=none'
hint=recommended, useposix=true, d_sigaction=define
useithreads=undef, usemultiplicity=undef
use64bitint=undef, use64bitall=undef, uselongdouble=undef
usemymalloc=n, bincompat5005=undef
Compiler:
cc='cc', ccflags ='-fwrapv -fno-strict-aliasing -pipe -fstack-protector -I/usr/local/include -D_LARGEFILE_SOURCE -D_FILE_OFFSET_BITS=64',
optimize='-O2',
cppflags='-fwrapv -fno-strict-aliasing -pipe -fstack-protector -I/usr/local/include'
ccversion='', gccversion='4.7.2', gccosandvers=''
intsize=4, longsize=4, ptrsize=4, doublesize=8, byteorder=1234
d_longlong=define, longlongsize=8, d_longdbl=define, longdblsize=12
ivtype='long', ivsize=4, nvtype='double', nvsize=8, Off_t='off_t', lseeksize=8
alignbytes=4, prototype=define
Linker and Libraries:
ld='cc', ldflags =' -fstack-protector -L/usr/local/lib'
libpth=/usr/local/lib /usr/lib/gcc/i486-linux-gnu/4.7/include-fixed /usr/include/i386-linux-gnu /usr/lib /lib/i386-linux-gnu /lib/../lib /usr/lib/i386-linux-gnu /usr/lib/../lib /lib
libs=-lnsl -ldl -lm -lcrypt -lutil -lc
perllibs=-lnsl -ldl -lm -lcrypt -lutil -lc
libc=libc-2.13.so, so=so, useshrplib=false, libperl=libperl.a
gnulibc_version='2.13'
Dynamic Linking:
dlsrc=dl_dlopen.xs, dlext=so, d_dlsymun=undef, ccdlflags='-Wl,-E'
cccdlflags='-fPIC', lddlflags='-shared -O2 -L/usr/local/lib -fstack-protector'
Characteristics of this binary (from libperl):
Compile-time options: HAS_TIMES PERLIO_LAYERS PERL_DONT_CREATE_GVSV
PERL_HASH_FUNC_ONE_AT_A_TIME_HARD PERL_MALLOC_WRAP
PERL_NEW_COPY_ON_WRITE PERL_PRESERVE_IVUV
USE_LARGE_FILES USE_LOCALE USE_LOCALE_COLLATE
USE_LOCALE_CTYPE USE_LOCALE_NUMERIC USE_PERLIO
USE_PERL_ATOF
Built under linux
Compiled at May 31 2014 23:32:01
%ENV:
PERL5LIB=""
PERL5OPT=""
PERL5_CPANPLUS_IS_RUNNING="1611"
PERL5_CPAN_IS_RUNNING="1611"
@INC:
/usr/local/lib/perl5/site_perl/5.20.0/i686-linux
/usr/local/lib/perl5/site_perl/5.20.0
/usr/local/lib/perl5/5.20.0/i686-linux
/usr/local/lib/perl5/5.20.0
.