Getopt-Euclid v0.4.8 Perl 5 v5.28.1 amd64-freebsd

Status
Pass
From
Slaven Rezić
Dist
Getopt-Euclid v0.4.8
Platform
Perl 5 v5.28.1 amd64-freebsd
Date
2024-10-22 12:02:27
ID
81adba86-906d-11ef-a2e7-8b296e8775ea
This distribution has been tested as part of the CPAN Testers
project, supporting the Perl programming language.  See
http://wiki.cpantesters.org/ for more information or email
questions to cpan-testers-discuss@perl.org


--
Dear David Precious,

This is a computer-generated report for Getopt-Euclid-0.4.8
on perl 5.28.1, created by CPAN-Reporter-1.2019.

Thank you for uploading your work to CPAN.  Congratulations!
All tests were successful.

Sections of this report:

    * Tester comments
    * Program output
    * Prerequisites
    * Environment and other context

------------------------------
TESTER COMMENTS
------------------------------

Additional comments from tester:

none provided

------------------------------
PROGRAM OUTPUT
------------------------------

Output from '/usr/bin/make test':

PERL_DL_NONLAZY=1 "/usr/perl5.28.1p/bin/perl" "-MExtUtils::Command::MM" "-MTest::Harness" "-e" "undef *Test::Harness::Switches; test_harness(0, 'blib/lib', 'blib/arch')" t/*.t
# Testing Getopt::Euclid 0.4.5
t/00.load.t ..................... ok
t/any_array.t ................... ok
t/bundle.t ...................... ok
t/compile.t ..................... ok
t/defer.t ....................... ok
t/defer_all.t ................... ok
t/empty_ARGV_array.t ............ ok
t/entity_angles.t ............... ok
t/eval.t ........................ ok
t/excludes.t .................... ok
t/fail_bad_constraint.t ......... ok
t/fail_bad_default.t ............ ok
t/fail_bad_default_ref.t ........ ok
t/fail_bad_excludes.t ........... ok
t/fail_bad_excludes_2.t ......... ok
t/fail_bad_name.t ............... ok
t/fail_bad_name_2.t ............. ok
t/fail_bad_opt_default.t ........ ok
t/fail_bad_opt_default_2.t ...... ok
t/fail_excludes_msg.t ........... ok
t/fail_minimal_clash.t .......... ok
t/fail_misplaced_type.t ......... ok
t/fail_missing_required.t ....... ok
t/fail_missing_var.t ............ ok
t/fail_missing_var_2.t .......... ok
t/fail_no_spec.t ................ ok
t/fail_quoted_args.t ............ ok
t/fail_type.t ................... ok
t/fail_type_msg.t ............... ok
t/fail_type_msg_2.t ............. ok
t/fail_unknown_arg.t ............ ok
t/fail_unknown_mode.t ........... ok
t/fail_unknown_spec.t ........... ok
t/fail_unknown_spec_2.t ......... ok
t/fail_unknown_type.t ........... ok
t/fail_user_constraint.t ........ ok
t/fail_user_constraint_comma.t .. ok
t/fail_user_constraint_type.t ... ok
t/false.t ....................... ok
t/hier.t ........................ ok
t/hier_2.t ...................... ok
t/hier_export.t ................. ok
t/hier_no_pod.t ................. ok
t/ignore_decorations.t .......... ok
t/insert_defaults.t ............. ok
t/minimal.t ..................... ok
t/minimal_2.t ................... ok
t/opt_default.t ................. ok
t/pod.t ......................... ok
t/pod_cmd_after_cut.t ........... ok
t/pod_coverage.t ................ ok
t/pod_file.t .................... ok
t/quoted_args.t ................. ok
t/quoted_args_2.t ............... ok
t/repeatable.t .................. ok
t/repeated.t .................... ok
t/repeated_2.t .................. ok
t/simple.t ...................... ok
t/simple_alternate.t ............ ok
t/simple_shuffle.t .............. ok
t/std_arguments.t ............... ok
t/substr.t ...................... ok
t/substr_2.t .................... ok
t/types.t ....................... ok
t/types_regex.t ................. ok
t/types_vars.t .................. ok
t/vars_export.t ................. ok
All tests successful.
Files=67, Tests=679,  6 wallclock secs ( 0.14 usr  0.06 sys +  3.40 cusr  2.40 csys =  6.00 CPU)
Result: PASS

------------------------------
PREREQUISITES
------------------------------

Prerequisite modules loaded:

requires:

    Module                Need     Have    
    --------------------- -------- --------
    Carp                  0        1.50    
    File::Basename        0        2.85    
    File::Spec::Functions 0        3.75    
    IO::Page              0        0.02    
    IO::Pager::Page       0        1.02    
    List::Util            0        1.68    
    perl                  5.006001 5.028001
    Pod::PlainText        0        2.07    
    Pod::Select           0        1.66    
    re                    0        0.36    
    strict                0        1.11    
    Symbol                0        1.08    
    Text::Balanced        0        2.06    
    version               0        0.9933  
    warnings              0        1.42    

build_requires:

    Module                Need     Have    
    --------------------- -------- --------
    Data::Dumper          0        2.183   
    ExtUtils::MakeMaker   0        7.70    
    lib                   0        0.64    
    Pod::Checker          0        1.77    
    Test::More            0        1.302204

configure_requires:

    Module                Need     Have    
    --------------------- -------- --------
    ExtUtils::MakeMaker   0        7.70    


------------------------------
ENVIRONMENT AND OTHER CONTEXT
------------------------------

Environment variables:

    LC_ALL = de_DE.ISO8859-1
    PATH = /usr/local/bin:/usr/bin:/bin:/usr/local/sbin:/usr/sbin:/sbin:/home/cpansand/bin/freebsd10.3:/home/cpansand/bin/sh:/home/cpansand/bin:/usr/games:/home/cpansand/devel:/home/eserte/src/srezic-misc/scripts
    PERL5LIB = 
    PERL5OPT = 
    PERL5_CPANPLUS_IS_RUNNING = 12994
    PERL5_CPAN_IS_RUNNING = 12994
    PERL5_CPAN_IS_RUNNING_IN_RECURSION = 12957,12994
    PERLDOC = -MPod::Perldoc::ToTextOverstrike
    PERL_BATCH = yes
    PERL_CANARY_STABILITY_NOPROMPT = 1
    PERL_CPAN_REPORTER_CONFIG = /var/tmp/cpansmoker-1023/2024102213/cpanreporter_000_config.ini
    PERL_EXTUTILS_AUTOINSTALL = --defaultdeps
    PERL_USE_UNSAFE_INC = 1
    SHELL = /usr/local/bin/zsh
    TERM = screen
    TMPDIR = /var/tmp/cpansmoker-1023/2024102213

Perl special variables (and OS-specific diagnostics, for MSWin32):

    $^X = /usr/perl5.28.1p/bin/perl
    $UID/$EUID = 1023 / 1023
    $GID = 1023 1023
    $EGID = 1023 1023

Perl module toolchain versions installed:

    Module              Have    
    ------------------- --------
    CPAN                2.37    
    CPAN::Meta          2.150010
    Cwd                 3.75    
    ExtUtils::CBuilder  0.280236
    ExtUtils::Command   7.70    
    ExtUtils::Install   2.22    
    ExtUtils::MakeMaker 7.70    
    ExtUtils::Manifest  1.75    
    ExtUtils::ParseXS   3.51    
    File::Spec          3.75    
    JSON                4.10    
    JSON::PP            4.16    
    Module::Build       0.4234  
    Module::Signature   0.89    
    Parse::CPAN::Meta   2.150010
    Test2               1.302204
    Test::Harness       3.50    
    Test::More          1.302204
    YAML                1.30    
    YAML::Syck          1.34    
    version             0.9933  


--

Summary of my perl5 (revision 5 version 28 subversion 1) configuration:
   
  Platform:
    osname=freebsd
    osvers=10.3-release-p24
    archname=amd64-freebsd
    uname='freebsd cvrsnica-freebsd-101.herceg.de 10.3-release-p24 freebsd 10.3-release-p24 #0: wed nov 15 04:57:40 utc 2017 root@amd64-builder.daemonology.net:usrobjusrsrcsysgeneric amd64 '
    config_args='-ds -e -Dprefix=/usr/perl5.28.1p -Dcf_email=srezic@cpan.org -Doptimize=-O2 -pipe'
    hint=recommended
    useposix=true
    d_sigaction=define
    useithreads=undef
    usemultiplicity=undef
    use64bitint=define
    use64bitall=define
    uselongdouble=undef
    usemymalloc=n
    default_inc_excludes_dot=define
    bincompat5005=undef
  Compiler:
    cc='cc'
    ccflags ='-DHAS_FPSETMASK -DHAS_FLOATINGPOINT_H -fno-strict-aliasing -pipe -fstack-protector -I/usr/local/include -D_FORTIFY_SOURCE=2'
    optimize='-O2 -pipe'
    cppflags='-DHAS_FPSETMASK -DHAS_FLOATINGPOINT_H -fno-strict-aliasing -pipe -fstack-protector -I/usr/local/include'
    ccversion=''
    gccversion='4.2.1 Compatible FreeBSD Clang 3.4.1 (tags/RELEASE_34/dot1-final 208032)'
    gccosandvers=''
    intsize=4
    longsize=8
    ptrsize=8
    doublesize=8
    byteorder=12345678
    doublekind=3
    d_longlong=define
    longlongsize=8
    d_longdbl=define
    longdblsize=16
    longdblkind=3
    ivtype='long'
    ivsize=8
    nvtype='double'
    nvsize=8
    Off_t='off_t'
    lseeksize=8
    alignbytes=8
    prototype=define
  Linker and Libraries:
    ld='cc'
    ldflags ='-pthread -Wl,-E  -fstack-protector -L/usr/local/lib'
    libpth=/usr/lib /usr/local/lib /usr/include/clang/3.4.1 /usr/lib
    libs=-lpthread -lgdbm -lm -lcrypt -lutil -lc -lelf
    perllibs=-lpthread -lm -lcrypt -lutil -lc -lelf
    libc=
    so=so
    useshrplib=false
    libperl=libperl.a
    gnulibc_version=''
  Dynamic Linking:
    dlsrc=dl_dlopen.xs
    dlext=so
    d_dlsymun=undef
    ccdlflags=' '
    cccdlflags='-DPIC -fPIC'
    lddlflags='-shared  -L/usr/local/lib -fstack-protector'


Characteristics of this binary (from libperl): 
  Compile-time options:
    HAS_TIMES
    PERLIO_LAYERS
    PERL_COPY_ON_WRITE
    PERL_DONT_CREATE_GVSV
    PERL_MALLOC_WRAP
    PERL_OP_PARENT
    PERL_PRESERVE_IVUV
    USE_64_BIT_ALL
    USE_64_BIT_INT
    USE_LARGE_FILES
    USE_LOCALE
    USE_LOCALE_COLLATE
    USE_LOCALE_CTYPE
    USE_LOCALE_NUMERIC
    USE_LOCALE_TIME
    USE_PERLIO
    USE_PERL_ATOF
  Built under freebsd
  Compiled at Dec 12 2018 23:03:41
  %ENV:
    PERL5LIB=""
    PERL5OPT=""
    PERL5_CPANPLUS_IS_RUNNING="12994"
    PERL5_CPAN_IS_RUNNING="12994"
    PERL5_CPAN_IS_RUNNING_IN_RECURSION="12957,12994"
    PERLDOC="-MPod::Perldoc::ToTextOverstrike"
    PERL_BATCH="yes"
    PERL_CANARY_STABILITY_NOPROMPT="1"
    PERL_CPAN_REPORTER_CONFIG="/var/tmp/cpansmoker-1023/2024102213/cpanreporter_000_config.ini"
    PERL_EXTUTILS_AUTOINSTALL="--defaultdeps"
    PERL_USE_UNSAFE_INC="1"
  @INC:
    /usr/perl5.28.1p/lib/site_perl/5.28.1/amd64-freebsd
    /usr/perl5.28.1p/lib/site_perl/5.28.1
    /usr/perl5.28.1p/lib/5.28.1/amd64-freebsd
    /usr/perl5.28.1p/lib/5.28.1
    .