Report for Module-Setup-0.09

Back
From: metabase:user:3198cbe2-2aae-11df-837a-5e0a49663a4f
Subject: PASS Module-Setup-0.09 v5.14.2 GNU/Linux
Date: 2012-10-19T15:20:25Z

This distribution has been tested as part of the CPAN Testers
project, supporting the Perl programming language.  See
http://wiki.cpantesters.org/ for more information or email
questions to cpan-testers-discuss@perl.org


--
Dear Kazuhiro Osawa,

This is a computer-generated report for Module-Setup-0.09
on perl 5.14.2, created by CPAN-Reporter-1.2006.

Thank you for uploading your work to CPAN.  Congratulations!
All tests were successful.

Sections of this report:

    * Tester comments
    * Program output
    * Prerequisites
    * Environment and other context

------------------------------
TESTER COMMENTS
------------------------------

Additional comments from tester:

this report is from an automated smoke testing program
and was not reviewed by a human for accuracy

------------------------------
PROGRAM OUTPUT
------------------------------

Output from '/usr/bin/make test':

PERL_DL_NONLAZY=1 /home/graham/perls/perl-5.14.2/bin/perl "-MExtUtils::Command::MM" "-e" "test_harness(0, 'inc', 'blib/lib', 'blib/arch')" t/*.t t/*/*.t
t/00_compile.t .................................... ok
t/010_core/detect-flavor-tests-error.t ............ ok
t/010_core/detect_module_and_flavor_name_error.t .. ok
t/010_core/dialog.t ............................... ok
t/010_core/distribute.t ........................... ok
t/010_core/flavor.t ............................... ok
t/010_core/load_argv.t ............................ ok
t/010_core/path.t ................................. ok
t/010_core/select-flavor.t ........................ ok
t/010_core/setup_base_dir.t ....................... ok
t/010_core/setup_options.t ........................ ok
t/010_core/setup_options_code.t ................... ok
t/010_core/stdout-log.t ........................... ok
t/010_core/system.t ............................... ok
t/010_core/test_util.t ............................ ok
t/020_run/additional.t ............................ ok
t/020_run/binary.t ................................ ok
t/020_run/direct.t ................................ ok
t/020_run/dupe-flavor.t ........................... ok
t/020_run/dupe.t .................................. ok
t/020_run/empty_dir.t ............................. ok
t/020_run/fail_flavor.t ........................... ok
t/020_run/hasnt-flavorclass.t ..................... ok
t/020_run/init.t .................................. ok
t/020_run/nullflavors.t ........................... ok
t/020_run/pack-additional.t ....................... ok
t/020_run/pack.t .................................. ok
t/020_run/simple.t ................................ ok
t/030_plugin/append_template_file.t ............... ok
t/030_plugin/append_template_file2.t .............. ok
t/030_plugin/illegalplugin.t ...................... ok
t/030_plugin/illegalpluginconfig.t ................ ok
t/030_plugin/localplugin.t ........................ ok
t/030_plugin/plain.t .............................. ok
Can't exec "git": No such file or directory at t/030_plugin/site_github.t line 4.
t/030_plugin/site_github.t ........................ skipped: git is not installed.
t/030_plugin/template.t ........................... ok
cannot remove path when cwd is /tmp/zsVoNyiK8r/Test-Makefile3_3 for /tmp/zsVoNyiK8r:  at /home/graham/perls/perl-5.14.2/lib/5.14.2/File/Temp.pm line 2445.
t/030_plugin/test_makefile.t ...................... ok
Can't exec "git": No such file or directory at t/030_plugin/vc_git.t line 4.
t/030_plugin/vc_git.t ............................. skipped: git is not installed.
Name "Module::Setup::Flavor::Default::setup_config" used only once: possible typo at t/030_plugin/vc_svk.t line 17.
t/030_plugin/vc_svk.t ............................. ok
t/030_plugin/vc_svn.t ............................. ok
t/040_flavor/coderepos.t .......................... ok
t/040_flavor/default-setup_config.t ............... ok
t/040_flavor/default.t ............................ ok
Can't exec "git": No such file or directory at /home/graham/perls/caches/perl-5.14.2/build/Module-Setup-0.09-sWT7EQ/blib/lib/Module/Setup.pm line 564, <DATA> line 1.
Use of uninitialized value $user in scalar chomp at /home/graham/perls/caches/perl-5.14.2/build/Module-Setup-0.09-sWT7EQ/blib/lib/Module/Setup/Plugin/Site/GitHub.pm line 40, <DATA> line 1.
Can't exec "git": No such file or directory at /home/graham/perls/caches/perl-5.14.2/build/Module-Setup-0.09-sWT7EQ/blib/lib/Module/Setup.pm line 564, <DATA> line 1.
Use of uninitialized value $token in scalar chomp at /home/graham/perls/caches/perl-5.14.2/build/Module-Setup-0.09-sWT7EQ/blib/lib/Module/Setup/Plugin/Site/GitHub.pm line 42, <DATA> line 1.
t/040_flavor/github.t ............................. ok
t/050_helper/basic-callback.t ..................... ok
t/050_helper/basic-foo.t .......................... ok
t/050_helper/basic.t .............................. ok
All tests successful.
Files=47, Tests=430, 19 wallclock secs ( 0.24 usr  0.07 sys + 17.06 cusr  1.48 csys = 18.85 CPU)
Result: PASS

------------------------------
PREREQUISITES
------------------------------

Prerequisite modules loaded:

requires:

    Module                       Need Have   
    ---------------------------- ---- -------
    Class::Trigger               0    0.14   
    Cwd                          0    3.36   
    ExtUtils::MakeMaker          0    6.62   
    File::Basename               0    2.82   
    File::Find::Rule             0    0.33   
    File::HomeDir                0    0.99   
    File::Path                   0    2.08_01
    File::Temp                   0.2  0.22   
    Filter::Util::Call           0    1.08   
    Getopt::Long                 0    2.38   
    IO::Scalar                   0    2.110  
    LWP::UserAgent               0    6.04   
    Module::Collect              0.06 0.06   
    Module::Install::AuthorTests 0    0.002  
    Module::Install::Repository  0    0.06   
    Path::Class                  0    0.26   
    Pod::Usage                   0    1.51   
    Scalar::Util                 0    1.25   
    Storable                     0    2.39   
    Template                     2.2  2.24   
    Test::More                   0    0.98   
    Test::Requires               0    0.06   
    Text::Patch                  0    1.8    
    YAML                         0    0.84   

build_requires:

    Module                       Need Have   
    ---------------------------- ---- -------
    ExtUtils::MakeMaker          0    6.62   

configure_requires:

    Module                       Need Have   
    ---------------------------- ---- -------
    ExtUtils::MakeMaker          6.42 6.62   


------------------------------
ENVIRONMENT AND OTHER CONTEXT
------------------------------

Environment variables:

    AUTOMATED_TESTING = 1
    LANG = C
    PATH = /home/graham/perls/perl-5.14.2/bin:/usr/local/bin:/usr/bin:/bin:/usr/local/sbin:/usr/sbin:/sbin:/usr/bin/core_perl
    PERL5LIB = 
    PERL5OPT = 
    PERL5_CPANPLUS_IS_RUNNING = 12408
    PERL5_CPAN_IS_RUNNING = 12408
    PERL5_CPAN_IS_RUNNING_IN_RECURSION = 22604,12408
    PERL_CR_SMOKER_CURRENT = Pickles-Dispatcher-Auto-0.03
    PERL_EXTUTILS_AUTOINSTALL = --defaultdeps
    PERL_MM_USE_DEFAULT = 1
    SHELL = /bin/bash
    TERM = xterm

Perl special variables (and OS-specific diagnostics, for MSWin32):

    $^X = /home/graham/perls/perl-5.14.2/bin/perl
    $UID/$EUID = 1000 / 1000
    $GID = 100 100
    $EGID = 100 100

Perl module toolchain versions installed:

    Module              Have    
    ------------------- --------
    CPAN                1.99_51 
    CPAN::Meta          2.120921
    Cwd                 3.36    
    ExtUtils::CBuilder  0.280205
    ExtUtils::Command   1.17    
    ExtUtils::Install   1.56    
    ExtUtils::MakeMaker 6.62    
    ExtUtils::Manifest  1.61    
    ExtUtils::ParseXS   3.15    
    File::Spec          3.33    
    JSON                2.53    
    JSON::PP            2.27200 
    Module::Build       0.4003  
    Module::Signature   0.68    
    Parse::CPAN::Meta   1.4404  
    Test::Harness       3.25    
    Test::More          0.98    
    YAML                0.84    
    YAML::Syck          1.21    
    version             0.9901  


--

Summary of my perl5 (revision 5 version 14 subversion 2) configuration:
   
  Platform:
    osname=linux, osvers=3.5.6-1-arch, archname=x86_64-linux
    uname='linux grosics 3.5.6-1-arch #1 smp preempt sun oct 7 19:30:49 cest 2012 x86_64 gnulinux '
    config_args='-des -Dprefix=/home/graham/perls/perl-5.14.2'
    hint=recommended, useposix=true, d_sigaction=define
    useithreads=undef, usemultiplicity=undef
    useperlio=define, d_sfio=undef, uselargefiles=define, usesocks=undef
    use64bitint=define, use64bitall=define, uselongdouble=undef
    usemymalloc=n, bincompat5005=undef
  Compiler:
    cc='cc', ccflags ='-fno-strict-aliasing -pipe -fstack-protector -I/usr/local/include -D_LARGEFILE_SOURCE -D_FILE_OFFSET_BITS=64',
    optimize='-O2',
    cppflags='-fno-strict-aliasing -pipe -fstack-protector -I/usr/local/include'
    ccversion='', gccversion='4.7.2', gccosandvers=''
    intsize=4, longsize=8, ptrsize=8, doublesize=8, byteorder=12345678
    d_longlong=define, longlongsize=8, d_longdbl=define, longdblsize=16
    ivtype='long', ivsize=8, nvtype='double', nvsize=8, Off_t='off_t', lseeksize=8
    alignbytes=8, prototype=define
  Linker and Libraries:
    ld='cc', ldflags =' -fstack-protector -L/usr/local/lib'
    libpth=/usr/local/lib /lib/../lib /usr/lib/../lib /lib /usr/lib
    libs=-lnsl -lgdbm -ldb -ldl -lm -lcrypt -lutil -lc -lgdbm_compat
    perllibs=-lnsl -ldl -lm -lcrypt -lutil -lc
    libc=/lib/libc-2.16.so, so=so, useshrplib=false, libperl=libperl.a
    gnulibc_version='2.16'
  Dynamic Linking:
    dlsrc=dl_dlopen.xs, dlext=so, d_dlsymun=undef, ccdlflags='-Wl,-E'
    cccdlflags='-fPIC', lddlflags='-shared -O2 -L/usr/local/lib -fstack-protector'


Characteristics of this binary (from libperl): 
  Compile-time options: PERL_DONT_CREATE_GVSV PERL_MALLOC_WRAP
                        PERL_PRESERVE_IVUV USE_64_BIT_ALL USE_64_BIT_INT
                        USE_LARGE_FILES USE_PERLIO USE_PERL_ATOF
  Built under linux
  Compiled at Oct 12 2012 19:57:27
  %ENV:
    PERL5LIB=""
    PERL5OPT=""
    PERL5_CPANPLUS_IS_RUNNING="12408"
    PERL5_CPAN_IS_RUNNING="12408"
    PERL5_CPAN_IS_RUNNING_IN_RECURSION="22604,12408"
    PERL_CR_SMOKER_CURRENT="Pickles-Dispatcher-Auto-0.03"
    PERL_EXTUTILS_AUTOINSTALL="--defaultdeps"
    PERL_MM_USE_DEFAULT="1"
  @INC:
    /home/graham/perls/perl-5.14.2/lib/site_perl/5.14.2/x86_64-linux
    /home/graham/perls/perl-5.14.2/lib/site_perl/5.14.2
    /home/graham/perls/perl-5.14.2/lib/5.14.2/x86_64-linux
    /home/graham/perls/perl-5.14.2/lib/5.14.2
    .