Net-Statsd-Server v0.20 Perl 5 v5.39.3 x86_64-linux-ld

Status
Pass
From
Andreas J. König (ANDK)
Dist
Net-Statsd-Server v0.20
Platform
Perl 5 v5.39.3 x86_64-linux-ld
Date
2023-10-03 14:52:42
ID
817e1c86-61fc-11ee-b3e5-6f55a2f0d71b
This distribution has been tested as part of the CPAN Testers
project, supporting the Perl programming language.  See
http://wiki.cpantesters.org/ for more information or email
questions to cpan-testers-discuss@perl.org


--
Dear Cosimo Streppone,

This is a computer-generated report for Net-Statsd-Server-0.20
on perl 5.39.3, created by CPAN-Reporter-1.2019.

Thank you for uploading your work to CPAN.  Congratulations!
All tests were successful.

Sections of this report:

    * Tester comments
    * Program output
    * Prerequisites
    * Environment and other context

------------------------------
TESTER COMMENTS
------------------------------

Additional comments from tester:

this report is from an automated smoke testing program
and was not reviewed by a human for accuracy

------------------------------
PROGRAM OUTPUT
------------------------------

Output from '/usr/bin/make test':

PERL_DL_NONLAZY=1 "/tmp/basesmoker-reloperl-1sUE/bin/perl" "-MExtUtils::Command::MM" "-MTest::Harness" "-e" "undef *Test::Harness::Switches; test_harness(0, 'blib/lib', 'blib/arch')" t/*.t t/integration-tests/*.t
t/000-sanity.t ............................. ok
t/config.t ................................. ok
t/graphite.t ............................... ok
2023-10-03 14:50:37.000000 +0000 note  Net::Statsd::Server: Initializing Net::Statsd::Server::Backend::Console backend
2023-10-03 14:50:37.000000 +0000 note  Net::Statsd::Server: Initializing Net::Statsd::Server::Backend::Graphite backend
2023-10-03 14:50:37.000000 +0000 info  AnyEvent: Autoloaded model 'AnyEvent::Impl::EV', using it.
2023-10-03 14:50:37.595942 +0000 note  Net::Statsd::Server: statsd server started on 0.0.0.0:40001 (v0.17)
2023-10-03 14:50:37.595993 +0000 note  Net::Statsd::Server: manager interface started on 0.0.0.0:40002
2023-10-03 14:50:37.596026 +0000 note  Net::Statsd::Server: metrics flush will happen every 1s
2023-10-03 14:50:38.018568 +0000 warn  Net::Statsd::Server: Bad line: 1 in msg "a_bad_test_value|z"
2023-10-03 14:50:38.598439 +0000 note  Net::Statsd::Server: flushing metrics
Flushing stats at Tue Oct  3 14:50:38 2023
{"counter_rates":{"statsd.packets_received":1,"statsd.bad_lines_seen":1},"gauges":{},"timer_data":{},"counters":{"statsd.bad_lines_seen":1,"statsd.packets_received":1},"timers":{},"sets":null,"pctThreshold":[90]}
t/integration-tests/bad-message.t .......... ok
2023-10-03 14:50:38.000000 +0000 note  Net::Statsd::Server: Initializing Net::Statsd::Server::Backend::Console backend
2023-10-03 14:50:38.000000 +0000 note  Net::Statsd::Server: Initializing Net::Statsd::Server::Backend::Graphite backend
2023-10-03 14:50:38.000000 +0000 info  AnyEvent: Autoloaded model 'AnyEvent::Impl::EV', using it.
2023-10-03 14:50:38.806056 +0000 note  Net::Statsd::Server: statsd server started on 0.0.0.0:40001 (v0.17)
2023-10-03 14:50:38.806097 +0000 note  Net::Statsd::Server: manager interface started on 0.0.0.0:40002
2023-10-03 14:50:38.806128 +0000 note  Net::Statsd::Server: metrics flush will happen every 1s
2023-10-03 14:50:39.806898 +0000 note  Net::Statsd::Server: flushing metrics
Flushing stats at Tue Oct  3 14:50:39 2023
{"counter_rates":{"a_test_value":100,"statsd.packets_received":1,"statsd.bad_lines_seen":0},"sets":null,"timers":{},"timer_data":{},"pctThreshold":[90],"gauges":{},"counters":{"statsd.bad_lines_seen":0,"statsd.packets_received":1,"a_test_value":100}}
# stats.counters.statsd.bad_lines_seen.rate 0.000000 1696344639
# stats.counters.statsd.bad_lines_seen.count 0 1696344639
# stats.counters.statsd.packets_received.rate 1.000000 1696344639
# stats.counters.statsd.packets_received.count 1 1696344639
# stats.counters.a_test_value.rate 100.000000 1696344639
# stats.counters.a_test_value.count 100 1696344639
# stats.statsd.numStats 3 1696344639
# stats.statsd.graphiteStats.calculationtime 0.036000 1696344639
# stats.statsd.processing_time 0.015 1696344639
# stats.statsd.graphiteStats.last_exception 94287672953536 1696344639
# stats.statsd.graphiteStats.last_flush 94287672953536 1696344639
t/integration-tests/counts-are-valid.t ..... ok
2023-10-03 14:50:40.000000 +0000 note  Net::Statsd::Server: Initializing Net::Statsd::Server::Backend::Graphite backend
2023-10-03 14:50:40.000000 +0000 info  AnyEvent: Autoloaded model 'AnyEvent::Impl::EV', using it.
2023-10-03 14:50:40.009830 +0000 note  Net::Statsd::Server: statsd server started on 0.0.0.0:40001 (v0.17)
2023-10-03 14:50:40.009860 +0000 note  Net::Statsd::Server: manager interface started on 0.0.0.0:40002
2023-10-03 14:50:40.009887 +0000 note  Net::Statsd::Server: metrics flush will happen every 1s
2023-10-03 14:50:41.010462 +0000 note  Net::Statsd::Server: flushing metrics
# First flush. Test gauge should be there.
2023-10-03 14:50:42.011586 +0000 note  Net::Statsd::Server: flushing metrics
# Second flush. deleteGauges=false should keep the test gauge.
t/integration-tests/delete-gauges-false.t .. ok
2023-10-03 14:50:42.000000 +0000 note  Net::Statsd::Server: Initializing Net::Statsd::Server::Backend::Graphite backend
2023-10-03 14:50:42.000000 +0000 info  AnyEvent: Autoloaded model 'AnyEvent::Impl::EV', using it.
2023-10-03 14:50:42.213613 +0000 note  Net::Statsd::Server: statsd server started on 0.0.0.0:40001 (v0.17)
2023-10-03 14:50:42.213658 +0000 note  Net::Statsd::Server: manager interface started on 0.0.0.0:40002
2023-10-03 14:50:42.213690 +0000 note  Net::Statsd::Server: metrics flush will happen every 1s
2023-10-03 14:50:43.215934 +0000 note  Net::Statsd::Server: flushing metrics
# First flush. Test gauge should be there.
2023-10-03 14:50:44.217721 +0000 note  Net::Statsd::Server: flushing metrics
# Second flush. deleteIdleStats should have cleared the test gauge.
t/integration-tests/delete-idle-stats.t .... ok
2023-10-03 14:50:44.000000 +0000 note  Net::Statsd::Server: Initializing Net::Statsd::Server::Backend::Console backend
2023-10-03 14:50:44.000000 +0000 note  Net::Statsd::Server: Initializing Net::Statsd::Server::Backend::Graphite backend
2023-10-03 14:50:44.000000 +0000 info  AnyEvent: Autoloaded model 'AnyEvent::Impl::EV', using it.
2023-10-03 14:50:44.416842 +0000 note  Net::Statsd::Server: statsd server started on 0.0.0.0:40001 (v0.17)
2023-10-03 14:50:44.416872 +0000 note  Net::Statsd::Server: manager interface started on 0.0.0.0:40002
2023-10-03 14:50:44.416899 +0000 note  Net::Statsd::Server: metrics flush will happen every 1s
2023-10-03 14:50:45.419275 +0000 note  Net::Statsd::Server: flushing metrics
Flushing stats at Tue Oct  3 14:50:45 2023
{"timers":{},"sets":null,"gauges":{},"timer_data":{},"counter_rates":{"statsd.bad_lines_seen":0,"statsd.packets_received":1,"a_test_value,category=web,severity=high":100},"counters":{"statsd.packets_received":1,"a_test_value,category=web,severity=high":100,"statsd.bad_lines_seen":0},"pctThreshold":[90]}
# stats.counters.statsd.packets_received.rate 1.000000 1696344645
# stats.counters.statsd.packets_received.count 1 1696344645
# stats.counters.a_test_value,category=web,severity=high.rate 100.000000 1696344645
# stats.counters.a_test_value,category=web,severity=high.count 100 1696344645
# stats.counters.statsd.bad_lines_seen.rate 0.000000 1696344645
# stats.counters.statsd.bad_lines_seen.count 0 1696344645
# stats.statsd.numStats 3 1696344645
# stats.statsd.graphiteStats.calculationtime 0.035000 1696344645
# stats.statsd.processing_time 0.017 1696344645
# stats.statsd.graphiteStats.last_exception 94604213545664 1696344645
# stats.statsd.graphiteStats.last_flush 94604213545664 1696344645
t/integration-tests/keys-with-tags.t ....... ok
2023-10-03 14:50:45.000000 +0000 note  Net::Statsd::Server: Initializing Net::Statsd::Server::Backend::Graphite backend
2023-10-03 14:50:45.000000 +0000 info  AnyEvent: Autoloaded model 'AnyEvent::Impl::EV', using it.
2023-10-03 14:50:45.616056 +0000 note  Net::Statsd::Server: statsd server started on 0.0.0.0:40001 (v0.17)
2023-10-03 14:50:45.616086 +0000 note  Net::Statsd::Server: manager interface started on 0.0.0.0:40002
2023-10-03 14:50:45.616116 +0000 note  Net::Statsd::Server: metrics flush will happen every 1s
# Expected mean value is 2007.89
2023-10-03 14:50:46.617981 +0000 note  Net::Statsd::Server: flushing metrics
# stats.counters.statsd.packets_received.rate 100.000000 1696344646
# stats.counters.statsd.packets_received.count 100 1696344646
# stats.counters.statsd.bad_lines_seen.rate 0.000000 1696344646
# stats.counters.statsd.bad_lines_seen.count 0 1696344646
# stats.timers.read_latency.mean_95 1959.000000 1696344646
# stats.timers.read_latency.sum_squares_99 426872311.000000 1696344646
# stats.timers.read_latency.mean_99 1998.010101 1696344646
# stats.timers.read_latency.mean 2007.890000 1696344646
# stats.timers.read_latency.upper 2986.000000 1696344646
# stats.timers.read_latency.sum_98 194868.000000 1696344646
# stats.timers.read_latency.count_99 99.000000 1696344646
# stats.timers.read_latency.upper_99 2935.000000 1696344646
# stats.timers.read_latency.count 100.000000 1696344646
# stats.timers.read_latency.sum_95 186105.000000 1696344646
# stats.timers.read_latency.sum_squares_98 418258086.000000 1696344646
# stats.timers.read_latency.count_ps 100.000000 1696344646
# stats.timers.read_latency.lower 1018.000000 1696344646
# stats.timers.read_latency.sum_squares_95 392661265.000000 1696344646
# stats.timers.read_latency.upper_95 2889.000000 1696344646
# stats.timers.read_latency.std 571.194203 1696344646
# stats.timers.read_latency.count_95 95.000000 1696344646
# stats.timers.read_latency.mean_98 1988.448980 1696344646
# stats.timers.read_latency.sum_squares 435788507.000000 1696344646
# stats.timers.read_latency.sum 200789.000000 1696344646
# stats.timers.read_latency.median 2017.500000 1696344646
# stats.timers.read_latency.sum_99 197803.000000 1696344646
# stats.timers.read_latency.upper_98 2926.000000 1696344646
# stats.timers.read_latency.count_98 98.000000 1696344646
# stats.statsd.numStats 3 1696344646
# stats.statsd.graphiteStats.calculationtime 0.107000 1696344646
# stats.statsd.processing_time 0.188 1696344646
# stats.statsd.graphiteStats.last_exception 93877651274432 1696344646
# stats.statsd.graphiteStats.last_flush 93877651274432 1696344646
t/integration-tests/percent-threshold.t .... ok
2023-10-03 14:50:46.000000 +0000 note  Net::Statsd::Server: Initializing Net::Statsd::Server::Backend::Console backend
2023-10-03 14:50:46.000000 +0000 note  Net::Statsd::Server: Initializing Net::Statsd::Server::Backend::Graphite backend
2023-10-03 14:50:46.000000 +0000 info  AnyEvent: Autoloaded model 'AnyEvent::Impl::EV', using it.
2023-10-03 14:50:46.813390 +0000 note  Net::Statsd::Server: statsd server started on 0.0.0.0:40001 (v0.17)
2023-10-03 14:50:46.813420 +0000 note  Net::Statsd::Server: manager interface started on 0.0.0.0:40002
2023-10-03 14:50:46.813446 +0000 note  Net::Statsd::Server: metrics flush will happen every 1s
2023-10-03 14:50:47.814454 +0000 note  Net::Statsd::Server: flushing metrics
Flushing stats at Tue Oct  3 14:50:47 2023
{"timers":{"a_test_value":["100"]},"sets":null,"pctThreshold":["90"],"timer_data":{"a_test_value":{"median":"100","std":0,"count_ps":1,"lower":"100","count":1,"upper":"100","mean_90":"100","sum_squares_90":10000,"sum_90":"100","sum_squares":10000,"upper_90":"100","mean":100,"sum":"100","count_90":1}},"counters":{"statsd.bad_lines_seen":0,"statsd.packets_received":1},"gauges":{},"counter_rates":{"statsd.packets_received":1,"statsd.bad_lines_seen":0}}
# stats.counters.statsd.bad_lines_seen.rate 0.000000 1696344647
# stats.counters.statsd.bad_lines_seen.count 0 1696344647
# stats.counters.statsd.packets_received.rate 1.000000 1696344647
# stats.counters.statsd.packets_received.count 1 1696344647
# stats.timers.a_test_value.median 100.000000 1696344647
# stats.timers.a_test_value.std 0.000000 1696344647
# stats.timers.a_test_value.count_ps 1.000000 1696344647
# stats.timers.a_test_value.lower 100.000000 1696344647
# stats.timers.a_test_value.count 1.000000 1696344647
# stats.timers.a_test_value.upper 100.000000 1696344647
# stats.timers.a_test_value.mean_90 100.000000 1696344647
# stats.timers.a_test_value.sum_squares_90 10000.000000 1696344647
# stats.timers.a_test_value.sum_90 100.000000 1696344647
# stats.timers.a_test_value.sum_squares 10000.000000 1696344647
# stats.timers.a_test_value.upper_90 100.000000 1696344647
# stats.timers.a_test_value.mean 100.000000 1696344647
# stats.timers.a_test_value.sum 100.000000 1696344647
# stats.timers.a_test_value.count_90 1.000000 1696344647
# stats.statsd.numStats 3 1696344647
# stats.statsd.graphiteStats.calculationtime 0.062000 1696344647
# stats.statsd.processing_time 0.046 1696344647
# stats.statsd.graphiteStats.last_exception 94252466170560 1696344647
# stats.statsd.graphiteStats.last_flush 94252466170560 1696344647
t/integration-tests/timers-are-valid.t ..... ok
t/process-metrics.t ........................ ok
t/trim.t ................................... ok
All tests successful.
Files=12, Tests=92, 11 wallclock secs ( 0.04 usr  0.03 sys +  1.06 cusr  0.35 csys =  1.48 CPU)
Result: PASS

------------------------------
PREREQUISITES
------------------------------

Prerequisite modules loaded:

requires:

    Module                Need Have    
    --------------------- ---- --------
    AnyEvent::Handle::UDP 0    0.050   
    IO::Socket::INET      0    1.53    
    JSON::XS              0    4.03    

build_requires:

    Module                Need Have    
    --------------------- ---- --------
    ExtUtils::MakeMaker   0    7.70    
    Test::More            0    1.302195

configure_requires:

    Module                Need Have    
    --------------------- ---- --------
    ExtUtils::MakeMaker   0    7.70    


------------------------------
ENVIRONMENT AND OTHER CONTEXT
------------------------------

Environment variables:

    AUTOMATED_TESTING = 1
    LANG = en_US.UTF-8
    LC_ADDRESS = de_DE.UTF-8
    LC_IDENTIFICATION = de_DE.UTF-8
    LC_MEASUREMENT = de_DE.UTF-8
    LC_MONETARY = de_DE.UTF-8
    LC_NAME = de_DE.UTF-8
    LC_NUMERIC = de_DE.UTF-8
    LC_PAPER = de_DE.UTF-8
    LC_TELEPHONE = de_DE.UTF-8
    LC_TIME = de_DE.UTF-8
    PATH = /home/sand/bin:/usr/local/bin:/usr/local/sbin:/usr/sbin:/usr/bin:/sbin:/bin:/usr/games:/usr/local/games:/snap/bin:/usr/local/perl/bin:/usr/X11/bin
    PERL = /tmp/basesmoker-reloperl-1sUE/bin/perl
    PERL5LIB = /tmp/loop_over_bdir-2127-l_84Pi/MP3-PodcastFetch-1.05-0/blib/arch:/tmp/loop_over_bdir-2127-l_84Pi/MP3-PodcastFetch-1.05-0/blib/lib:/tmp/loop_over_bdir-2127-l_84Pi/App-rmcd-0.280-0/blib/arch:/tmp/loop_over_bdir-2127-l_84Pi/App-rmcd-0.280-0/blib/lib:/tmp/loop_over_bdir-2127-l_84Pi/Lemonldap-NG-Cli-0.2-0/blib/arch:/tmp/loop_over_bdir-2127-l_84Pi/Lemonldap-NG-Cli-0.2-0/blib/lib:/tmp/loop_over_bdir-2127-l_84Pi/Device-Kiln-0.03-0/blib/arch:/tmp/loop_over_bdir-2127-l_84Pi/Device-Kiln-0.03-0/blib/lib:/tmp/loop_over_bdir-2127-l_84Pi/Net-OpenVPN-DDNS-0.1-0/blib/arch:/tmp/loop_over_bdir-2127-l_84Pi/Net-OpenVPN-DDNS-0.1-0/blib/lib:/tmp/loop_over_bdir-2127-l_84Pi/DBIx-Migration-Directories-0.12-0/blib/arch:/tmp/loop_over_bdir-2127-l_84Pi/DBIx-Migration-Directories-0.12-0/blib/lib:/tmp/loop_over_bdir-2127-l_84Pi/HTML-Menu-TreeView-1.22-0/blib/arch:/tmp/loop_over_bdir-2127-l_84Pi/HTML-Menu-TreeView-1.22-0/blib/lib:/tmp/loop_over_bdir-2127-l_84Pi/RDF-NLP-SPARQLQuery-0.1-0/blib/arch:/tmp/loop_over_bdir-2127-l_84Pi/RDF-NLP-SPARQLQuery-0.1-0/blib/lib:/tmp/loop_over_bdir-2127-l_84Pi/App-nrun-v1.1.2-0/blib/arch:/tmp/loop_over_bdir-2127-l_84Pi/App-nrun-v1.1.2-0/blib/lib:/tmp/loop_over_bdir-2127-l_84Pi/Business-Shipping-DataFiles-1.02-0/blib/arch:/tmp/loop_over_bdir-2127-l_84Pi/Business-Shipping-DataFiles-1.02-0/blib/lib:/tmp/loop_over_bdir-2127-l_84Pi/WWW-Mechanize-Chrome-DOMops-0.06-0/blib/arch:/tmp/loop_over_bdir-2127-l_84Pi/WWW-Mechanize-Chrome-DOMops-0.06-0/blib/lib:/tmp/loop_over_bdir-2127-l_84Pi/Devel-Required-0.16-0/blib/arch:/tmp/loop_over_bdir-2127-l_84Pi/Devel-Required-0.16-0/blib/lib:/tmp/loop_over_bdir-2127-l_84Pi/CGI-Application-NetNewsIface-0.0204-0/blib/arch:/tmp/loop_over_bdir-2127-l_84Pi/CGI-Application-NetNewsIface-0.0204-0/blib/lib:/tmp/loop_over_bdir-2127-l_84Pi/mmds-1.902-0/blib/arch:/tmp/loop_over_bdir-2127-l_84Pi/mmds-1.902-0/blib/lib:/tmp/loop_over_bdir-2127-l_84Pi/Sysync-0.35-0/blib/arch:/tmp/loop_over_bdir-2127-l_84Pi/Sysync-0.35-0/blib/lib:/tmp/loop_over_bdir-2127-l_84Pi/Simulation-Automate-1.0.1-0/blib/arch:/tmp/loop_over_bdir-2127-l_84Pi/Simulation-Automate-1.0.1-0/blib/lib:/tmp/loop_over_bdir-2127-l_84Pi/ProjectBuilder-0.14.1-0/blib/arch:/tmp/loop_over_bdir-2127-l_84Pi/ProjectBuilder-0.14.1-0/blib/lib:/tmp/loop_over_bdir-2127-l_84Pi/downsexta-0/blib/arch:/tmp/loop_over_bdir-2127-l_84Pi/downsexta-0/blib/lib:/tmp/loop_over_bdir-2127-l_84Pi/Lingua-YaTeA-0.626-0/blib/arch:/tmp/loop_over_bdir-2127-l_84Pi/Lingua-YaTeA-0.626-0/blib/lib:/tmp/loop_over_bdir-2127-l_84Pi/NoZone-1.3-0/blib/arch:/tmp/loop_over_bdir-2127-l_84Pi/NoZone-1.3-0/blib/lib:/tmp/loop_over_bdir-2127-l_84Pi/perl-Hardware-UPS-Perl-0.43-0/blib/arch:/tmp/loop_over_bdir-2127-l_84Pi/perl-Hardware-UPS-Perl-0.43-0/blib/lib
    PERL5OPT = 
    PERL5_CPANPLUS_IS_RUNNING = 2135
    PERL5_CPAN_IS_RUNNING = 2135
    PERL_CANARY_STABILITY_NOPROMPT = 1
    PERL_MM_USE_DEFAULT = 1
    PERL_USE_UNSAFE_INC = 1
    SHELL = /usr/bin/zsh
    TERM = screen

Perl special variables (and OS-specific diagnostics, for MSWin32):

    $^X = /tmp/basesmoker-reloperl-1sUE/bin/perl
    $UID/$EUID = 1005 / 1005
    $GID = 1005 1005
    $EGID = 1005 1005

Perl module toolchain versions installed:

    Module              Have    
    ------------------- --------
    CPAN                2.36    
    CPAN::Meta          2.150010
    Cwd                 3.90    
    ExtUtils::CBuilder  0.280240
    ExtUtils::Command   7.70    
    ExtUtils::Install   2.22    
    ExtUtils::MakeMaker 7.70    
    ExtUtils::Manifest  1.75    
    ExtUtils::ParseXS   3.51    
    File::Spec          3.90    
    JSON                4.10    
    JSON::PP            4.16    
    Module::Build       0.4234  
    Module::Signature   0.88    
    Parse::CPAN::Meta   2.150010
    Test2               1.302195
    Test::Harness       3.47    
    Test::More          1.302195
    YAML                1.30    
    YAML::Syck          1.34    
    version             0.9930  


--

Summary of my perl5 (revision 5 version 39 subversion 3) configuration:
  Commit id: c8a2e4d1432cd1244a4e44d6bb71920b692076b7
  Platform:
    osname=linux
    osvers=6.2.0-32-generic
    archname=x86_64-linux-ld
    uname='linux k93jammy 6.2.0-32-generic #32~22.04.1-ubuntu smp preempt_dynamic fri aug 18 10:40:13 utc 2 x86_64 x86_64 x86_64 gnulinux '
    config_args='-Dprefix=/home/sand/src/perl/repoperls/installed-perls/host/k93jammy/v5.39.3/5674 -Dmyhostname=k93jammy -Dinstallusrbinperl=n -Uversiononly -Dusedevel -des -Ui_db -Dlibswanted=cl pthread socket inet nsl gdbm dbm malloc dl ld sun m crypt sec util c cposix posix ucb BSD gdbm_compat -Uuseithreads -Duselongdouble -DEBUGGING=-g'
    hint=recommended
    useposix=true
    d_sigaction=define
    useithreads=undef
    usemultiplicity=undef
    use64bitint=define
    use64bitall=define
    uselongdouble=define
    usemymalloc=n
    default_inc_excludes_dot=define
  Compiler:
    cc='cc'
    ccflags ='-fwrapv -fno-strict-aliasing -pipe -fstack-protector-strong -I/usr/local/include -D_LARGEFILE_SOURCE -D_FILE_OFFSET_BITS=64'
    optimize='-O2 -g'
    cppflags='-fwrapv -fno-strict-aliasing -pipe -fstack-protector-strong -I/usr/local/include'
    ccversion=''
    gccversion='11.4.0'
    gccosandvers=''
    intsize=4
    longsize=8
    ptrsize=8
    doublesize=8
    byteorder=12345678
    doublekind=3
    d_longlong=define
    longlongsize=8
    d_longdbl=define
    longdblsize=16
    longdblkind=3
    ivtype='long'
    ivsize=8
    nvtype='long double'
    nvsize=16
    Off_t='off_t'
    lseeksize=8
    alignbytes=16
    prototype=define
  Linker and Libraries:
    ld='cc'
    ldflags =' -fstack-protector-strong -L/usr/local/lib'
    libpth=/usr/local/lib /usr/lib/x86_64-linux-gnu /usr/lib /usr/lib64
    libs=-lpthread -lnsl -ldl -lm -lcrypt -lutil -lc
    perllibs=-lpthread -lnsl -ldl -lm -lcrypt -lutil -lc
    libc=/lib/x86_64-linux-gnu/libc.so.6
    so=so
    useshrplib=false
    libperl=libperl.a
    gnulibc_version='2.35'
  Dynamic Linking:
    dlsrc=dl_dlopen.xs
    dlext=so
    d_dlsymun=undef
    ccdlflags='-Wl,-E'
    cccdlflags='-fPIC'
    lddlflags='-shared -O2 -g -L/usr/local/lib -fstack-protector-strong'


Characteristics of this binary (from libperl): 
  Compile-time options:
    HAS_LONG_DOUBLE
    HAS_STRTOLD
    HAS_TIMES
    PERLIO_LAYERS
    PERL_COPY_ON_WRITE
    PERL_DONT_CREATE_GVSV
    PERL_HASH_FUNC_SIPHASH13
    PERL_HASH_USE_SBOX32
    PERL_MALLOC_WRAP
    PERL_OP_PARENT
    PERL_PRESERVE_IVUV
    PERL_USE_DEVEL
    PERL_USE_SAFE_PUTENV
    USE_64_BIT_ALL
    USE_64_BIT_INT
    USE_LARGE_FILES
    USE_LOCALE
    USE_LOCALE_COLLATE
    USE_LOCALE_CTYPE
    USE_LOCALE_NUMERIC
    USE_LOCALE_TIME
    USE_LONG_DOUBLE
    USE_PERLIO
    USE_PERL_ATOF
  Built under linux
  Compiled at Sep 20 2023 22:23:26
  %ENV:
    PERL="/tmp/basesmoker-reloperl-1sUE/bin/perl"
    PERL5LIB="/tmp/loop_over_bdir-2127-l_84Pi/MP3-PodcastFetch-1.05-0/blib/arch:/tmp/loop_over_bdir-2127-l_84Pi/MP3-PodcastFetch-1.05-0/blib/lib:/tmp/loop_over_bdir-2127-l_84Pi/App-rmcd-0.280-0/blib/arch:/tmp/loop_over_bdir-2127-l_84Pi/App-rmcd-0.280-0/blib/lib:/tmp/loop_over_bdir-2127-l_84Pi/Lemonldap-NG-Cli-0.2-0/blib/arch:/tmp/loop_over_bdir-2127-l_84Pi/Lemonldap-NG-Cli-0.2-0/blib/lib:/tmp/loop_over_bdir-2127-l_84Pi/Device-Kiln-0.03-0/blib/arch:/tmp/loop_over_bdir-2127-l_84Pi/Device-Kiln-0.03-0/blib/lib:/tmp/loop_over_bdir-2127-l_84Pi/Net-OpenVPN-DDNS-0.1-0/blib/arch:/tmp/loop_over_bdir-2127-l_84Pi/Net-OpenVPN-DDNS-0.1-0/blib/lib:/tmp/loop_over_bdir-2127-l_84Pi/DBIx-Migration-Directories-0.12-0/blib/arch:/tmp/loop_over_bdir-2127-l_84Pi/DBIx-Migration-Directories-0.12-0/blib/lib:/tmp/loop_over_bdir-2127-l_84Pi/HTML-Menu-TreeView-1.22-0/blib/arch:/tmp/loop_over_bdir-2127-l_84Pi/HTML-Menu-TreeView-1.22-0/blib/lib:/tmp/loop_over_bdir-2127-l_84Pi/RDF-NLP-SPARQLQuery-0.1-0/blib/arch:/tmp/loop_over_bdir-2127-l_84Pi/RDF-NLP-SPARQLQuery-0.1-0/blib/lib:/tmp/loop_over_bdir-2127-l_84Pi/App-nrun-v1.1.2-0/blib/arch:/tmp/loop_over_bdir-2127-l_84Pi/App-nrun-v1.1.2-0/blib/lib:/tmp/loop_over_bdir-2127-l_84Pi/Business-Shipping-DataFiles-1.02-0/blib/arch:/tmp/loop_over_bdir-2127-l_84Pi/Business-Shipping-DataFiles-1.02-0/blib/lib:/tmp/loop_over_bdir-2127-l_84Pi/WWW-Mechanize-Chrome-DOMops-0.06-0/blib/arch:/tmp/loop_over_bdir-2127-l_84Pi/WWW-Mechanize-Chrome-DOMops-0.06-0/blib/lib:/tmp/loop_over_bdir-2127-l_84Pi/Devel-Required-0.16-0/blib/arch:/tmp/loop_over_bdir-2127-l_84Pi/Devel-Required-0.16-0/blib/lib:/tmp/loop_over_bdir-2127-l_84Pi/CGI-Application-NetNewsIface-0.0204-0/blib/arch:/tmp/loop_over_bdir-2127-l_84Pi/CGI-Application-NetNewsIface-0.0204-0/blib/lib:/tmp/loop_over_bdir-2127-l_84Pi/mmds-1.902-0/blib/arch:/tmp/loop_over_bdir-2127-l_84Pi/mmds-1.902-0/blib/lib:/tmp/loop_over_bdir-2127-l_84Pi/Sysync-0.35-0/blib/arch:/tmp/loop_over_bdir-2127-l_84Pi/Sysync-0.35-0/blib/lib:/tmp/loop_over_bdir-2127-l_84Pi/Simulation-Automate-1.0.1-0/blib/arch:/tmp/loop_over_bdir-2127-l_84Pi/Simulation-Automate-1.0.1-0/blib/lib:/tmp/loop_over_bdir-2127-l_84Pi/ProjectBuilder-0.14.1-0/blib/arch:/tmp/loop_over_bdir-2127-l_84Pi/ProjectBuilder-0.14.1-0/blib/lib:/tmp/loop_over_bdir-2127-l_84Pi/downsexta-0/blib/arch:/tmp/loop_over_bdir-2127-l_84Pi/downsexta-0/blib/lib:/tmp/loop_over_bdir-2127-l_84Pi/Lingua-YaTeA-0.626-0/blib/arch:/tmp/loop_over_bdir-2127-l_84Pi/Lingua-YaTeA-0.626-0/blib/lib:/tmp/loop_over_bdir-2127-l_84Pi/NoZone-1.3-0/blib/arch:/tmp/loop_over_bdir-2127-l_84Pi/NoZone-1.3-0/blib/lib:/tmp/loop_over_bdir-2127-l_84Pi/perl-Hardware-UPS-Perl-0.43-0/blib/arch:/tmp/loop_over_bdir-2127-l_84Pi/perl-Hardware-UPS-Perl-0.43-0/blib/lib"
    PERL5OPT=""
    PERL5_CPANPLUS_IS_RUNNING="2135"
    PERL5_CPAN_IS_RUNNING="2135"
    PERL_CANARY_STABILITY_NOPROMPT="1"
    PERL_MM_USE_DEFAULT="1"
    PERL_USE_UNSAFE_INC="1"
  @INC:
    /tmp/loop_over_bdir-2127-l_84Pi/MP3-PodcastFetch-1.05-0/blib/arch
    /tmp/loop_over_bdir-2127-l_84Pi/MP3-PodcastFetch-1.05-0/blib/lib
    /tmp/loop_over_bdir-2127-l_84Pi/App-rmcd-0.280-0/blib/arch
    /tmp/loop_over_bdir-2127-l_84Pi/App-rmcd-0.280-0/blib/lib
    /tmp/loop_over_bdir-2127-l_84Pi/Lemonldap-NG-Cli-0.2-0/blib/arch
    /tmp/loop_over_bdir-2127-l_84Pi/Lemonldap-NG-Cli-0.2-0/blib/lib
    /tmp/loop_over_bdir-2127-l_84Pi/Device-Kiln-0.03-0/blib/arch
    /tmp/loop_over_bdir-2127-l_84Pi/Device-Kiln-0.03-0/blib/lib
    /tmp/loop_over_bdir-2127-l_84Pi/Net-OpenVPN-DDNS-0.1-0/blib/arch
    /tmp/loop_over_bdir-2127-l_84Pi/Net-OpenVPN-DDNS-0.1-0/blib/lib
    /tmp/loop_over_bdir-2127-l_84Pi/DBIx-Migration-Directories-0.12-0/blib/arch
    /tmp/loop_over_bdir-2127-l_84Pi/DBIx-Migration-Directories-0.12-0/blib/lib
    /tmp/loop_over_bdir-2127-l_84Pi/HTML-Menu-TreeView-1.22-0/blib/arch
    /tmp/loop_over_bdir-2127-l_84Pi/HTML-Menu-TreeView-1.22-0/blib/lib
    /tmp/loop_over_bdir-2127-l_84Pi/RDF-NLP-SPARQLQuery-0.1-0/blib/arch
    /tmp/loop_over_bdir-2127-l_84Pi/RDF-NLP-SPARQLQuery-0.1-0/blib/lib
    /tmp/loop_over_bdir-2127-l_84Pi/App-nrun-v1.1.2-0/blib/arch
    /tmp/loop_over_bdir-2127-l_84Pi/App-nrun-v1.1.2-0/blib/lib
    /tmp/loop_over_bdir-2127-l_84Pi/Business-Shipping-DataFiles-1.02-0/blib/arch
    /tmp/loop_over_bdir-2127-l_84Pi/Business-Shipping-DataFiles-1.02-0/blib/lib
    /tmp/loop_over_bdir-2127-l_84Pi/WWW-Mechanize-Chrome-DOMops-0.06-0/blib/arch
    /tmp/loop_over_bdir-2127-l_84Pi/WWW-Mechanize-Chrome-DOMops-0.06-0/blib/lib
    /tmp/loop_over_bdir-2127-l_84Pi/Devel-Required-0.16-0/blib/arch
    /tmp/loop_over_bdir-2127-l_84Pi/Devel-Required-0.16-0/blib/lib
    /tmp/loop_over_bdir-2127-l_84Pi/CGI-Application-NetNewsIface-0.0204-0/blib/arch
    /tmp/loop_over_bdir-2127-l_84Pi/CGI-Application-NetNewsIface-0.0204-0/blib/lib
    /tmp/loop_over_bdir-2127-l_84Pi/mmds-1.902-0/blib/arch
    /tmp/loop_over_bdir-2127-l_84Pi/mmds-1.902-0/blib/lib
    /tmp/loop_over_bdir-2127-l_84Pi/Sysync-0.35-0/blib/arch
    /tmp/loop_over_bdir-2127-l_84Pi/Sysync-0.35-0/blib/lib
    /tmp/loop_over_bdir-2127-l_84Pi/Simulation-Automate-1.0.1-0/blib/arch
    /tmp/loop_over_bdir-2127-l_84Pi/Simulation-Automate-1.0.1-0/blib/lib
    /tmp/loop_over_bdir-2127-l_84Pi/ProjectBuilder-0.14.1-0/blib/arch
    /tmp/loop_over_bdir-2127-l_84Pi/ProjectBuilder-0.14.1-0/blib/lib
    /tmp/loop_over_bdir-2127-l_84Pi/downsexta-0/blib/arch
    /tmp/loop_over_bdir-2127-l_84Pi/downsexta-0/blib/lib
    /tmp/loop_over_bdir-2127-l_84Pi/Lingua-YaTeA-0.626-0/blib/arch
    /tmp/loop_over_bdir-2127-l_84Pi/Lingua-YaTeA-0.626-0/blib/lib
    /tmp/loop_over_bdir-2127-l_84Pi/NoZone-1.3-0/blib/arch
    /tmp/loop_over_bdir-2127-l_84Pi/NoZone-1.3-0/blib/lib
    /tmp/loop_over_bdir-2127-l_84Pi/perl-Hardware-UPS-Perl-0.43-0/blib/arch
    /tmp/loop_over_bdir-2127-l_84Pi/perl-Hardware-UPS-Perl-0.43-0/blib/lib
    /home/sand/src/perl/repoperls/installed-perls/host/k93jammy/v5.39.3/5674/lib/site_perl/5.39.3/x86_64-linux-ld
    /home/sand/src/perl/repoperls/installed-perls/host/k93jammy/v5.39.3/5674/lib/site_perl/5.39.3
    /home/sand/src/perl/repoperls/installed-perls/host/k93jammy/v5.39.3/5674/lib/5.39.3/x86_64-linux-ld
    /home/sand/src/perl/repoperls/installed-perls/host/k93jammy/v5.39.3/5674/lib/5.39.3
    .