IO-AsyncX-Sendfile v0.002 Perl 5 v5.24.4 x86_64-linux-thread-multi-ld

Status
Pass
From
Andreas J. König (ANDK)
Dist
IO-AsyncX-Sendfile v0.002
Platform
Perl 5 v5.24.4 x86_64-linux-thread-multi-ld
Date
2019-01-24 09:00:32
ID
817d5ab8-1fb6-11e9-a6ed-1ef6e5f744c1
This distribution has been tested as part of the CPAN Testers
project, supporting the Perl programming language.  See
http://wiki.cpantesters.org/ for more information or email
questions to cpan-testers-discuss@perl.org


--
Dear Tom Molesworth,

This is a computer-generated report for IO-AsyncX-Sendfile-0.002
on perl 5.24.4, created by CPAN-Reporter-1.2018.

Thank you for uploading your work to CPAN.  Congratulations!
All tests were successful.

Sections of this report:

    * Tester comments
    * Program output
    * Prerequisites
    * Environment and other context

------------------------------
TESTER COMMENTS
------------------------------

Additional comments from tester:

this report is from an automated smoke testing program
and was not reviewed by a human for accuracy

------------------------------
PROGRAM OUTPUT
------------------------------

Output from '/usr/bin/make test':

PERL_DL_NONLAZY=1 "/home/sand/src/perl/repoperls/installed-perls/host/k93msid/v5.24.4/ac75/bin/perl" "-MExtUtils::Command::MM" "-MTest::Harness" "-e" "undef *Test::Harness::Switches; test_harness(0, 'blib/lib', 'blib/arch')" t/*.t
t/00-check-deps.t ............. ok
t/00-compile.t ................ ok
# 
# 
# Generated by Dist::Zilla::Plugin::ReportVersions::Tiny v1.10
# perl: 5.024004 (wanted 5.010001) on linux from /home/sand/src/perl/repoperls/installed-perls/host/k93msid/v5.24.4/ac75/bin/perl
# 
# Digest::SHA                                   => 6.02       (want any version)
# ExtUtils::MakeMaker                           => 7.34       (want 6.48)   
# File::Spec                                    => 3.75       (want any version)
# File::Temp                                    => 0.2308     (want any version)
# Future                                        => 0.39       (want 0.30)   
# IO::Async                                     => 0.72       (want 0.64)   
# IO::Handle                                    => 1.39       (want any version)
# IPC::Open3                                    => 1.20       (want any version)
# Sys::Sendfile                                 => 0.17       (want 0.14)   
# Test::CheckDeps                               => 0.010      (want 0.010)  
# Test::Fatal                                   => 0.014      (want 0.010)  
# Test::More                                    => 1.302140   (want 0.98)   
# parent                                        => 0.234      (want any version)
# 
# Thanks for using my code.  I hope it works for you.
# If not, please try and include this output in the bug report.
# That will help me reproduce the issue and solve your problem.
# 
t/000-report-versions-tiny.t .. ok
t/parallel.t .................. ok
All tests successful.
Files=4, Tests=178,  2 wallclock secs ( 0.02 usr  0.05 sys +  0.90 cusr  0.20 csys =  1.17 CPU)
Result: PASS

------------------------------
PREREQUISITES
------------------------------

Prerequisite modules loaded:

requires:

    Module              Need     Have    
    ------------------- -------- --------
    Future              0.30     0.39    
    IO::Async           0.64     0.72    
    parent              0        0.234   
    perl                5.010001 5.024004
    Sys::Sendfile       0.14     0.17    

build_requires:

    Module              Need     Have    
    ------------------- -------- --------
    Digest::SHA         0        6.02    
    ExtUtils::MakeMaker 0        7.34    
    File::Spec          0        3.75    
    File::Temp          0        0.2308  
    IO::Handle          0        1.39    
    IPC::Open3          0        1.20    
    Test::CheckDeps     0.010    0.010   
    Test::Fatal         0.010    0.014   
    Test::More          0.98     1.302140

configure_requires:

    Module              Need     Have    
    ------------------- -------- --------
    ExtUtils::MakeMaker 6.48     7.34    


------------------------------
ENVIRONMENT AND OTHER CONTEXT
------------------------------

Environment variables:

    AUTOMATED_TESTING = 1
    LANG = en_US.UTF-8
    PATH = /home/sand/bin:/usr/local/bin:/usr/bin:/bin:/usr/games:/usr/local/perl/bin:/usr/X11/bin:/sbin:/usr/sbin
    PERL5LIB = /tmp/loop_over_bdir-12413-YtiIpu/Sys-Sendfile-0.17-0/blib/arch:/tmp/loop_over_bdir-12413-YtiIpu/Sys-Sendfile-0.17-0/blib/lib:/tmp/loop_over_bdir-12413-YtiIpu/IO-AsyncX-System-0.003-0/blib/arch:/tmp/loop_over_bdir-12413-YtiIpu/IO-AsyncX-System-0.003-0/blib/lib:/tmp/loop_over_bdir-12413-YtiIpu/Alien-unibilium-0.13-0/blib/arch:/tmp/loop_over_bdir-12413-YtiIpu/Alien-unibilium-0.13-0/blib/lib:/tmp/loop_over_bdir-12413-YtiIpu/Alien-libtermkey-0.19-0/blib/arch:/tmp/loop_over_bdir-12413-YtiIpu/Alien-libtermkey-0.19-0/blib/lib:/tmp/loop_over_bdir-12413-YtiIpu/Test-HexString-0.03-0/blib/arch:/tmp/loop_over_bdir-12413-YtiIpu/Test-HexString-0.03-0/blib/lib:/tmp/loop_over_bdir-12413-YtiIpu/Ryu-0.035-0/blib/arch:/tmp/loop_over_bdir-12413-YtiIpu/Ryu-0.035-0/blib/lib
    PERL5OPT = 
    PERL5_CPANPLUS_IS_RUNNING = 12414
    PERL5_CPAN_IS_RUNNING = 12414
    PERL5_CPAN_IS_RUNNING_IN_RECURSION = 12153,12414
    PERL_CANARY_STABILITY_NOPROMPT = 1
    PERL_MM_USE_DEFAULT = 1
    PERL_USE_UNSAFE_INC = 1
    SHELL = /usr/bin/zsh
    TERM = screen

Perl special variables (and OS-specific diagnostics, for MSWin32):

    $^X = /home/sand/src/perl/repoperls/installed-perls/host/k93msid/v5.24.4/ac75/bin/perl
    $UID/$EUID = 1005 / 1005
    $GID = 1005 1005
    $EGID = 1005 1005

Perl module toolchain versions installed:

    Module              Have    
    ------------------- --------
    CPAN                2.22    
    CPAN::Meta          2.150010
    Cwd                 3.75    
    ExtUtils::CBuilder  0.280230
    ExtUtils::Command   7.34    
    ExtUtils::Install   2.06    
    ExtUtils::MakeMaker 7.34    
    ExtUtils::Manifest  1.70    
    ExtUtils::ParseXS   3.31    
    File::Spec          3.75    
    JSON                3.99_01 
    JSON::PP            4.00    
    Module::Build       0.4224  
    Module::Signature   0.83    
    Parse::CPAN::Meta   2.150010
    Test::Harness       3.42    
    Test::More          1.302140
    YAML                1.26    
    YAML::Syck          1.31    
    version             0.9916  


--

Summary of my perl5 (revision 5 version 24 subversion 4) configuration:
  Derived from: 901dd848e31de6d0cacfb77c029b4e92c41a13ce
  Platform:
    osname=linux, osvers=4.18.0-2-amd64, archname=x86_64-linux-thread-multi-ld
    uname='linux k93msid 4.18.0-2-amd64 #1 smp debian 4.18.10-2 (2018-10-07) x86_64 gnulinux '
    config_args='-Dprefix=/home/sand/src/perl/repoperls/installed-perls/host/k93msid/v5.24.4/ac75 -Dmyhostname=k93msid -Dinstallusrbinperl=n -Uversiononly -Dusedevel -des -Ui_db -Dlibswanted=cl pthread socket inet nsl gdbm dbm malloc dl ld sun m crypt sec util c cposix posix ucb BSD gdbm_compat -Duseithreads -Duselongdouble -DEBUGGING=both'
    hint=recommended, useposix=true, d_sigaction=define
    useithreads=define, usemultiplicity=define
    use64bitint=define, use64bitall=define, uselongdouble=define
    usemymalloc=n, bincompat5005=undef
  Compiler:
    cc='cc', ccflags ='-D_REENTRANT -D_GNU_SOURCE -fwrapv -DDEBUGGING -fno-strict-aliasing -pipe -fstack-protector-strong -I/usr/local/include -D_LARGEFILE_SOURCE -D_FILE_OFFSET_BITS=64',
    optimize='-O2 -g',
    cppflags='-D_REENTRANT -D_GNU_SOURCE -fwrapv -DDEBUGGING -fno-strict-aliasing -pipe -fstack-protector-strong -I/usr/local/include'
    ccversion='', gccversion='8.2.0', gccosandvers=''
    intsize=4, longsize=8, ptrsize=8, doublesize=8, byteorder=12345678, doublekind=3
    d_longlong=define, longlongsize=8, d_longdbl=define, longdblsize=16, longdblkind=3
    ivtype='long', ivsize=8, nvtype='long double', nvsize=16, Off_t='off_t', lseeksize=8
    alignbytes=16, prototype=define
  Linker and Libraries:
    ld='cc', ldflags =' -fstack-protector-strong -L/usr/local/lib'
    libpth=/usr/local/lib /usr/lib/gcc/x86_64-linux-gnu/8/include-fixed /usr/include/x86_64-linux-gnu /usr/lib /lib/x86_64-linux-gnu /lib/../lib /usr/lib/x86_64-linux-gnu /usr/lib/../lib /lib
    libs=-lpthread -lnsl -ldl -lm -lcrypt -lutil -lc
    perllibs=-lpthread -lnsl -ldl -lm -lcrypt -lutil -lc
    libc=libc-2.27.so, so=so, useshrplib=false, libperl=libperl.a
    gnulibc_version='2.27'
  Dynamic Linking:
    dlsrc=dl_dlopen.xs, dlext=so, d_dlsymun=undef, ccdlflags='-Wl,-E'
    cccdlflags='-fPIC', lddlflags='-shared -O2 -g -L/usr/local/lib -fstack-protector-strong'


Characteristics of this binary (from libperl): 
  Compile-time options: DEBUGGING HAS_TIMES MULTIPLICITY PERLIO_LAYERS
                        PERL_COPY_ON_WRITE PERL_DONT_CREATE_GVSV
                        PERL_HASH_FUNC_ONE_AT_A_TIME_HARD
                        PERL_IMPLICIT_CONTEXT PERL_MALLOC_WRAP
                        PERL_PRESERVE_IVUV PERL_TRACK_MEMPOOL PERL_USE_DEVEL
                        USE_64_BIT_ALL USE_64_BIT_INT USE_ITHREADS
                        USE_LARGE_FILES USE_LOCALE USE_LOCALE_COLLATE
                        USE_LOCALE_CTYPE USE_LOCALE_NUMERIC USE_LOCALE_TIME
                        USE_LONG_DOUBLE USE_PERLIO USE_PERL_ATOF
                        USE_REENTRANT_API
  Locally applied patches:
	uncommitted-changes
  Built under linux
  Compiled at Oct 28 2018 06:26:25
  %ENV:
    PERL5LIB="/tmp/loop_over_bdir-12413-YtiIpu/Sys-Sendfile-0.17-0/blib/arch:/tmp/loop_over_bdir-12413-YtiIpu/Sys-Sendfile-0.17-0/blib/lib:/tmp/loop_over_bdir-12413-YtiIpu/IO-AsyncX-System-0.003-0/blib/arch:/tmp/loop_over_bdir-12413-YtiIpu/IO-AsyncX-System-0.003-0/blib/lib:/tmp/loop_over_bdir-12413-YtiIpu/Alien-unibilium-0.13-0/blib/arch:/tmp/loop_over_bdir-12413-YtiIpu/Alien-unibilium-0.13-0/blib/lib:/tmp/loop_over_bdir-12413-YtiIpu/Alien-libtermkey-0.19-0/blib/arch:/tmp/loop_over_bdir-12413-YtiIpu/Alien-libtermkey-0.19-0/blib/lib:/tmp/loop_over_bdir-12413-YtiIpu/Test-HexString-0.03-0/blib/arch:/tmp/loop_over_bdir-12413-YtiIpu/Test-HexString-0.03-0/blib/lib:/tmp/loop_over_bdir-12413-YtiIpu/Ryu-0.035-0/blib/arch:/tmp/loop_over_bdir-12413-YtiIpu/Ryu-0.035-0/blib/lib"
    PERL5OPT=""
    PERL5_CPANPLUS_IS_RUNNING="12414"
    PERL5_CPAN_IS_RUNNING="12414"
    PERL5_CPAN_IS_RUNNING_IN_RECURSION="12153,12414"
    PERL_CANARY_STABILITY_NOPROMPT="1"
    PERL_MM_USE_DEFAULT="1"
    PERL_USE_UNSAFE_INC="1"
  @INC:
    /tmp/loop_over_bdir-12413-YtiIpu/Sys-Sendfile-0.17-0/blib/arch
    /tmp/loop_over_bdir-12413-YtiIpu/Sys-Sendfile-0.17-0/blib/lib
    /tmp/loop_over_bdir-12413-YtiIpu/IO-AsyncX-System-0.003-0/blib/arch
    /tmp/loop_over_bdir-12413-YtiIpu/IO-AsyncX-System-0.003-0/blib/lib
    /tmp/loop_over_bdir-12413-YtiIpu/Alien-unibilium-0.13-0/blib/arch
    /tmp/loop_over_bdir-12413-YtiIpu/Alien-unibilium-0.13-0/blib/lib
    /tmp/loop_over_bdir-12413-YtiIpu/Alien-libtermkey-0.19-0/blib/arch
    /tmp/loop_over_bdir-12413-YtiIpu/Alien-libtermkey-0.19-0/blib/lib
    /tmp/loop_over_bdir-12413-YtiIpu/Test-HexString-0.03-0/blib/arch
    /tmp/loop_over_bdir-12413-YtiIpu/Test-HexString-0.03-0/blib/lib
    /tmp/loop_over_bdir-12413-YtiIpu/Ryu-0.035-0/blib/arch
    /tmp/loop_over_bdir-12413-YtiIpu/Ryu-0.035-0/blib/lib
    /home/sand/src/perl/repoperls/installed-perls/host/k93msid/v5.24.4/ac75/lib/site_perl/5.24.4/x86_64-linux-thread-multi-ld
    /home/sand/src/perl/repoperls/installed-perls/host/k93msid/v5.24.4/ac75/lib/site_perl/5.24.4
    /home/sand/src/perl/repoperls/installed-perls/host/k93msid/v5.24.4/ac75/lib/5.24.4/x86_64-linux-thread-multi-ld
    /home/sand/src/perl/repoperls/installed-perls/host/k93msid/v5.24.4/ac75/lib/5.24.4
    .