Archive-Zip-SimpleZip v1.000 Perl 5 v5.32.1 amd64-openbsd
- Status
- Pass
- From
- David Solimano
- Dist
-
Archive-Zip-SimpleZip v1.000
- Platform
- Perl 5 v5.32.1 amd64-openbsd
- Date
- 2022-12-24 00:04:15
- ID
- 814b0dd6-831e-11ed-b5ea-24e947d6f9cd
This distribution has been tested as part of the CPAN Testers
project, supporting the Perl programming language. See
http://wiki.cpantesters.org/ for more information or email
questions to cpan-testers-discuss@perl.org
--
Dear Paul Marquess,
This is a computer-generated report for Archive-Zip-SimpleZip-1.000
on perl 5.32.1, created by CPAN-Reporter-1.2011.
Thank you for uploading your work to CPAN. Congratulations!
All tests were successful.
Sections of this report:
* Tester comments
* Program output
* Prerequisites
* Environment and other context
------------------------------
TESTER COMMENTS
------------------------------
Additional comments from tester:
this report is from an automated smoke testing program
and was not reviewed by a human for accuracy
------------------------------
PROGRAM OUTPUT
------------------------------
Output from '/usr/bin/make test':
PERL_DL_NONLAZY=1 "/usr/bin/perl" "-MExtUtils::Command::MM" "-MTest::Harness" "-e" "undef *Test::Harness::Switches; test_harness(0, 'blib/lib', 'blib/arch')" t/*.t
#
#
# perl 5.032001
# Archive::Zip::SimpleZip 1.000
# Archive::Zip::SimpleUnzip 1.000
# IO::Compress::Base 2.201
# IO::Compress::Zip 2.201
# IO::Compress::Bzip2 2.201
# IO::Compress::Lzma 2.201
# IO::Compress::Xz 2.201
# IO::Compress::Zstd Not Installed
# IO::Uncompress::Base 2.201
# IO::Uncompress::Unzip 2.201
# IO::Uncompress::Bunzip2 2.201
# IO::Uncompress::UnLzma 2.201
# IO::Uncompress::UnXz 2.201
# IO::Uncompress::UnZstd Not Installed
# Compress::Raw::Zlib 2.202
# Compress::Raw::Bzip2 2.201
# Compress::Raw::Lzma 2.201
# Compress::Stream::Zstd Not Installed
# zlib 1.2.12
# bzip2 1.0.8, 13-Jul-2019
# lzma 5.2.5
#
#
t/000prereq.t ............. ok
t/001main.t ............... ok
t/010main-unzip.t ......... ok
t/020main-unzip-stream.t .. ok
t/111const-deflate.t ...... ok
t/999pod.t ................ skipped: Test::Pod 1.00 required for testing POD
t/meta-json.t ............. skipped: Test::CPAN::Meta::JSON required for testing META.json
t/meta-yaml.t ............. skipped: Test::CPAN::Meta required for testing META.yml
All tests successful.
Files=8, Tests=24354, 133 wallclock secs ( 5.07 usr 0.74 sys + 12.92 cusr 13.15 csys = 31.88 CPU)
Result: PASS
------------------------------
PREREQUISITES
------------------------------
Prerequisite modules loaded:
requires:
Module Need Have
-------------------------- ----- -----
IO::Compress::Base 2.201 2.201
IO::Compress::Bzip2 2.201 2.201
IO::Compress::RawDeflate 2.201 2.201
IO::Compress::Zip 2.201 2.201
IO::Uncompress::Base 2.201 2.201
IO::Uncompress::RawInflate 2.201 2.201
IO::Uncompress::Unzip 2.201 2.201
Perl::OSType 0 1.010
build_requires:
Module Need Have
-------------------------- ----- -----
ExtUtils::MakeMaker 0 7.44
configure_requires:
Module Need Have
-------------------------- ----- -----
ExtUtils::MakeMaker 0 7.44
opt_requires:
Module Need Have
-------------------------- ----- -----
IO::Compress::Bzip2 2.201 2.201
IO::Compress::Lzma 2.201 2.201
IO::Compress::Xz 2.201 2.201
! IO::Compress::Zstd 2.201 n/a
IO::Uncompress::Bunzip2 2.201 2.201
IO::Uncompress::UnLzma 2.201 2.201
IO::Uncompress::UnXz 2.201 2.201
! IO::Uncompress::UnZstd 2.201 n/a
------------------------------
ENVIRONMENT AND OTHER CONTEXT
------------------------------
Environment variables:
AUTOMATED_TESTING = 1
PATH = /home/perluser/bin:/bin:/sbin:/usr/bin:/usr/sbin:/usr/X11R6/bin:/usr/local/bin:/usr/local/sbin:/usr/games:.
PERL5LIB = /home/perluser/.cpan/build/IO-Compress-Lzma-2.201-0/blib/arch:/home/perluser/.cpan/build/IO-Compress-Lzma-2.201-0/blib/lib:/home/perluser/.cpan/build/Compress-Raw-Lzma-2.201-0/blib/arch:/home/perluser/.cpan/build/Compress-Raw-Lzma-2.201-0/blib/lib:/home/perluser/.cpan/build/IO-Compress-2.201-0/blib/arch:/home/perluser/.cpan/build/IO-Compress-2.201-0/blib/lib:/home/perluser/.cpan/build/Compress-Raw-Zlib-2.202-0/blib/arch:/home/perluser/.cpan/build/Compress-Raw-Zlib-2.202-0/blib/lib:/home/perluser/.cpan/build/Compress-Raw-Bzip2-2.201-0/blib/arch:/home/perluser/.cpan/build/Compress-Raw-Bzip2-2.201-0/blib/lib
PERL5OPT =
PERL5_CPANPLUS_IS_RUNNING = 36241
PERL5_CPAN_IS_RUNNING = 36241
PERL5_CPAN_IS_RUNNING_IN_RECURSION = 99887,36241
PERL_CR_SMOKER_CURRENT = Archive-Zip-SimpleZip-1.000
PERL_EXTUTILS_AUTOINSTALL = --defaultdeps
PERL_MM_USE_DEFAULT = 1
PERL_USE_UNSAFE_INC = 1
SHELL = /bin/ksh
TERM = screen
Perl special variables (and OS-specific diagnostics, for MSWin32):
$^X = /usr/bin/perl
$UID/$EUID = 1000 / 1000
$GID = 1000 1000
$EGID = 1000 1000
Perl module toolchain versions installed:
Module Have
------------------- --------
CPAN 2.27
CPAN::Meta 2.150010
Cwd 3.78
ExtUtils::CBuilder 0.280234
ExtUtils::Command 7.44
ExtUtils::Install 2.14
ExtUtils::MakeMaker 7.44
ExtUtils::Manifest 1.72
ExtUtils::ParseXS 3.40
File::Spec 3.78
JSON 2.90
JSON::PP 4.04
Module::Build 0.4231
Module::Signature n/a
Parse::CPAN::Meta 2.150010
Test::Harness 3.42
Test::More 1.302191
YAML 1.30
YAML::Syck n/a
version 0.9924
--
Summary of my perl5 (revision 5 version 32 subversion 1) configuration:
Platform:
osname=openbsd
osvers=7.2
archname=amd64-openbsd
uname='openbsd'
config_args='-dse -Dopenbsd_distribution=defined -Dmksymlinks'
hint=recommended
useposix=true
d_sigaction=define
useithreads=undef
usemultiplicity=undef
use64bitint=define
use64bitall=define
uselongdouble=undef
usemymalloc=n
default_inc_excludes_dot=define
bincompat5005=undef
Compiler:
cc='cc'
ccflags ='-DNO_LOCALE_NUMERIC -DNO_LOCALE_COLLATE -fno-strict-aliasing -fno-delete-null-pointer-checks -pipe -fstack-protector-strong -I/usr/local/include'
optimize='-O2'
cppflags='-DBIG_TIME -DNO_LOCALE_NUMERIC -DNO_LOCALE_COLLATE -fno-strict-aliasing -fno-delete-null-pointer-checks -pipe -fstack-protector-strong -I/usr/local/include'
ccversion=''
gccversion='OpenBSD Clang 13.0.0'
gccosandvers=''
intsize=4
longsize=8
ptrsize=8
doublesize=8
byteorder=12345678
doublekind=3
d_longlong=define
longlongsize=8
d_longdbl=define
longdblsize=16
longdblkind=3
ivtype='long'
ivsize=8
nvtype='double'
nvsize=8
Off_t='off_t'
lseeksize=8
alignbytes=8
prototype=define
Linker and Libraries:
ld='cc'
ldflags ='-Wl,-E -fstack-protector-strong -L/usr/local/lib'
libpth=/usr/lib /usr/lib/clang/13.0.0/lib /usr/lib
libs=-lm -lc
perllibs=-lm -lc
libc=/usr/lib/libc.so.96.2
so=so
useshrplib=true
libperl=libperl.so.22.0
gnulibc_version=''
Dynamic Linking:
dlsrc=dl_dlopen.xs
dlext=so
d_dlsymun=undef
ccdlflags='-Wl,-R/usr/libdata/perl5/amd64-openbsd/CORE'
cccdlflags='-DPIC -fpic '
lddlflags='-shared -fpic -fstack-protector-strong -L/usr/local/lib'
Characteristics of this binary (from libperl):
Compile-time options:
HAS_TIMES
PERLIO_LAYERS
PERL_COPY_ON_WRITE
PERL_DONT_CREATE_GVSV
PERL_MALLOC_WRAP
PERL_OP_PARENT
PERL_PRESERVE_IVUV
USE_64_BIT_ALL
USE_64_BIT_INT
USE_LARGE_FILES
USE_LOCALE
USE_LOCALE_CTYPE
USE_LOCALE_TIME
USE_PERLIO
USE_PERL_ATOF
Built under openbsd
%ENV:
PERL5LIB="/home/perluser/.cpan/build/IO-Compress-Lzma-2.201-0/blib/arch:/home/perluser/.cpan/build/IO-Compress-Lzma-2.201-0/blib/lib:/home/perluser/.cpan/build/Compress-Raw-Lzma-2.201-0/blib/arch:/home/perluser/.cpan/build/Compress-Raw-Lzma-2.201-0/blib/lib:/home/perluser/.cpan/build/IO-Compress-2.201-0/blib/arch:/home/perluser/.cpan/build/IO-Compress-2.201-0/blib/lib:/home/perluser/.cpan/build/Compress-Raw-Zlib-2.202-0/blib/arch:/home/perluser/.cpan/build/Compress-Raw-Zlib-2.202-0/blib/lib:/home/perluser/.cpan/build/Compress-Raw-Bzip2-2.201-0/blib/arch:/home/perluser/.cpan/build/Compress-Raw-Bzip2-2.201-0/blib/lib"
PERL5OPT=""
PERL5_CPANPLUS_IS_RUNNING="36241"
PERL5_CPAN_IS_RUNNING="36241"
PERL5_CPAN_IS_RUNNING_IN_RECURSION="99887,36241"
PERL_CR_SMOKER_CURRENT="Archive-Zip-SimpleZip-1.000"
PERL_EXTUTILS_AUTOINSTALL="--defaultdeps"
PERL_MM_USE_DEFAULT="1"
PERL_USE_UNSAFE_INC="1"
@INC:
/home/perluser/.cpan/build/IO-Compress-Lzma-2.201-0/blib/arch
/home/perluser/.cpan/build/IO-Compress-Lzma-2.201-0/blib/lib
/home/perluser/.cpan/build/Compress-Raw-Lzma-2.201-0/blib/arch
/home/perluser/.cpan/build/Compress-Raw-Lzma-2.201-0/blib/lib
/home/perluser/.cpan/build/IO-Compress-2.201-0/blib/arch
/home/perluser/.cpan/build/IO-Compress-2.201-0/blib/lib
/home/perluser/.cpan/build/Compress-Raw-Zlib-2.202-0/blib/arch
/home/perluser/.cpan/build/Compress-Raw-Zlib-2.202-0/blib/lib
/home/perluser/.cpan/build/Compress-Raw-Bzip2-2.201-0/blib/arch
/home/perluser/.cpan/build/Compress-Raw-Bzip2-2.201-0/blib/lib
/usr/local/libdata/perl5/site_perl/amd64-openbsd
/usr/local/libdata/perl5/site_perl
/usr/libdata/perl5/amd64-openbsd
/usr/libdata/perl5
.