Back
From: metabase:user:30f4dfbe-2aae-11df-837a-5e0a49663a4f
Subject: PASS MozRepl-0.06 v5.15.3 GNU/Linux
Date: 2012-09-02T04:56:06Z
This distribution has been tested as part of the CPAN Testers
project, supporting the Perl programming language. See
http://wiki.cpantesters.org/ for more information or email
questions to cpan-testers-discuss@perl.org
--
Dear Toru Yamaguchi,
This is a computer-generated report for MozRepl-0.06
on perl 5.15.3, created by CPAN-Reporter-1.2006.
Thank you for uploading your work to CPAN. Congratulations!
All tests were successful.
Sections of this report:
* Tester comments
* Program output
* Prerequisites
* Environment and other context
------------------------------
TESTER COMMENTS
------------------------------
Additional comments from tester:
this report is from an automated smoke testing program
and was not reviewed by a human for accuracy
------------------------------
PROGRAM OUTPUT
------------------------------
Output from '/usr/bin/make test':
/home/njh/perl5/perlbrew/perls/perl-5.15.3/bin/perl5.15.3 "-Iinc" Makefile.PL --config= --installdeps=Data::JavaScript::Anon,0,Module::Pluggable::Fast,0,Template::Provider::FromDATA,0,Text::SimpleTable,0
PERL_DL_NONLAZY=1 /home/njh/perl5/perlbrew/perls/perl-5.15.3/bin/perl5.15.3 "-MExtUtils::Command::MM" "-e" "test_harness(0, 'inc', 'blib/lib', 'blib/arch')" t/00-load.t t/10-plugin-repl-enter.t t/11-plugin-repl-search.t t/12-plugin-repl-inspect.t t/13-plugin-repl-load.t t/14-plugin-repl-rename.t t/15-plugin-repl-print.t t/16-plugin-repl-home.t t/17-plugin-repl-back.t t/18-plugin-repl-util-help_url_for.t t/19-plugin-repl-util-doc_for.t t/20-plugin-json.t t/pod-coverage.t t/pod.t
# Testing MozRepl 0.06
t/00-load.t ........................... ok
[DEBUG] MozRepl logging enabled
[DEBUG]
---- Client arguments ----
.----------------------+------------------------------------------.
| client_arg_name | client_arg_value |
+----------------------+------------------------------------------+
| host | localhost |
| port | 4242 |
| timeout | 10 |
| extra_client_args | {} |
'----------------------+------------------------------------------'
t/10-plugin-repl-enter.t .............. ok
[DEBUG] MozRepl logging enabled
[DEBUG]
---- Client arguments ----
.----------------------+------------------------------------------.
| client_arg_name | client_arg_value |
+----------------------+------------------------------------------+
| host | localhost |
| port | 4242 |
| timeout | 10 |
| extra_client_args | {} |
'----------------------+------------------------------------------'
t/11-plugin-repl-search.t ............. ok
[DEBUG] MozRepl logging enabled
[DEBUG]
---- Client arguments ----
.----------------------+------------------------------------------.
| client_arg_name | client_arg_value |
+----------------------+------------------------------------------+
| host | localhost |
| port | 4242 |
| timeout | 10 |
| extra_client_args | {} |
'----------------------+------------------------------------------'
t/12-plugin-repl-inspect.t ............ ok
[DEBUG] MozRepl logging enabled
[DEBUG]
---- Client arguments ----
.----------------------+------------------------------------------.
| client_arg_name | client_arg_value |
+----------------------+------------------------------------------+
| host | localhost |
| port | 4242 |
| timeout | 10 |
| extra_client_args | {} |
'----------------------+------------------------------------------'
t/13-plugin-repl-load.t ............... ok
[DEBUG] MozRepl logging enabled
[DEBUG]
---- Client arguments ----
.----------------------+------------------------------------------.
| client_arg_name | client_arg_value |
+----------------------+------------------------------------------+
| host | localhost |
| port | 4242 |
| timeout | 10 |
| extra_client_args | {} |
'----------------------+------------------------------------------'
t/14-plugin-repl-rename.t ............. ok
[DEBUG] MozRepl logging enabled
[DEBUG]
---- Client arguments ----
.----------------------+------------------------------------------.
| client_arg_name | client_arg_value |
+----------------------+------------------------------------------+
| host | localhost |
| port | 4242 |
| timeout | 10 |
| extra_client_args | {} |
'----------------------+------------------------------------------'
t/15-plugin-repl-print.t .............. ok
[DEBUG] MozRepl logging enabled
[DEBUG]
---- Client arguments ----
.----------------------+------------------------------------------.
| client_arg_name | client_arg_value |
+----------------------+------------------------------------------+
| host | localhost |
| port | 4242 |
| timeout | 10 |
| extra_client_args | {} |
'----------------------+------------------------------------------'
t/16-plugin-repl-home.t ............... ok
[DEBUG] MozRepl logging enabled
[DEBUG]
---- Client arguments ----
.----------------------+------------------------------------------.
| client_arg_name | client_arg_value |
+----------------------+------------------------------------------+
| host | localhost |
| port | 4242 |
| timeout | 10 |
| extra_client_args | {} |
'----------------------+------------------------------------------'
t/17-plugin-repl-back.t ............... ok
[DEBUG] MozRepl logging enabled
[DEBUG]
---- Client arguments ----
.----------------------+------------------------------------------.
| client_arg_name | client_arg_value |
+----------------------+------------------------------------------+
| host | localhost |
| port | 4242 |
| timeout | 10 |
| extra_client_args | {} |
'----------------------+------------------------------------------'
t/18-plugin-repl-util-help_url_for.t .. ok
[DEBUG] MozRepl logging enabled
[DEBUG]
---- Client arguments ----
.----------------------+------------------------------------------.
| client_arg_name | client_arg_value |
+----------------------+------------------------------------------+
| host | localhost |
| port | 4242 |
| timeout | 10 |
| extra_client_args | {} |
'----------------------+------------------------------------------'
t/19-plugin-repl-util-doc_for.t ....... ok
[DEBUG] MozRepl logging enabled
[DEBUG]
---- Client arguments ----
.----------------------+------------------------------------------.
| client_arg_name | client_arg_value |
+----------------------+------------------------------------------+
| host | localhost |
| port | 4242 |
| timeout | 10 |
| extra_client_args | {} |
'----------------------+------------------------------------------'
t/20-plugin-json.t .................... ok
t/pod-coverage.t ...................... ok
t/pod.t ............................... ok
All tests successful.
Files=14, Tests=74, 1 wallclock secs ( 0.04 usr 0.01 sys + 0.64 cusr 0.10 csys = 0.79 CPU)
Result: PASS
------------------------------
PREREQUISITES
------------------------------
Prerequisite modules loaded:
requires:
Module Need Have
---------------------------- ---- ----
Carp::Clan 0 6.04
Class::Accessor::Fast 0 0.34
Class::Data::Inheritable 0 0.08
Data::Dump 0 1.21
Data::JavaScript::Anon 0 1.03
File::Spec 0 3.34
Module::Pluggable::Fast 0 0.19
Net::Telnet 0 3.03
Template 0 2.24
Template::Provider::FromDATA 0 0.12
Text::SimpleTable 0 2.03
UNIVERSAL::require 0 0.13
URI 0 1.60
build_requires:
Module Need Have
---------------------------- ---- ----
ExtUtils::MakeMaker 0 6.62
------------------------------
ENVIRONMENT AND OTHER CONTEXT
------------------------------
Environment variables:
AUTOMATED_TESTING = 1
LANG = en_GB.UTF-8
LANGUAGE = en_GB:en
LD_LIBRARY_PATH = :/usr/local/lib:/usr/lib/qt-3.3/lib:/usr/X11R6/lib
MANPATH_WITHOUT_PERLBREW = /usr/local/man:/usr/local/share/man:/usr/share/man:/usr/local/man:/home/njh/man:/usr/share/inn/man:/usr/share/perl5/man:/usr/share/tcl-8.0/man:/usr/share/tclX-8.0.4/man:/usr/share/tix-4.1/man:/usr/share/tk-8.0/man:/usr/server/doc:/usr/share/man:/opt/intel/cc/9.1.038/man
PATH = /home/njh/perl5/perlbrew/bin:/home/njh/perl5/perlbrew/perls/perl-5.15.3/bin:/home/njh/perl5/perlbrew/bin:/usr/local/bin:/usr/bin:/bin:/usr/local/games:/usr/games:/home/njh/bin
PATH_WITHOUT_PERLBREW = /usr/local/bin:/usr/bin:/bin:/usr/local/games:/usr/games:/home/njh/bin
PERL5LIB = /home/njh/.cpan/build/Data-JavaScript-Anon-1.03-n_YDDI/blib/arch:/home/njh/.cpan/build/Data-JavaScript-Anon-1.03-n_YDDI/blib/lib:/home/njh/.cpan/build/Class-Default-1.51-MTg4qv/blib/arch:/home/njh/.cpan/build/Class-Default-1.51-MTg4qv/blib/lib:/home/njh/.cpan/build/Text-SimpleTable-2.03-HHQAJM/blib/arch:/home/njh/.cpan/build/Text-SimpleTable-2.03-HHQAJM/blib/lib:/home/njh/.cpan/build/Module-Pluggable-Fast-0.19-7T1IJG/blib/arch:/home/njh/.cpan/build/Module-Pluggable-Fast-0.19-7T1IJG/blib/lib:/home/njh/.cpan/build/Template-Provider-FromDATA-0.12-Jx3VU0/blib/arch:/home/njh/.cpan/build/Template-Provider-FromDATA-0.12-Jx3VU0/blib/lib:/home/njh/.cpan/build/Object-Import-1.002-n1lmvI/blib/arch:/home/njh/.cpan/build/Object-Import-1.002-n1lmvI/blib/lib:/home/njh/.cpan/build/Shell-Command-0.06-er59z_/blib/arch:/home/njh/.cpan/build/Shell-Command-0.06-er59z_/blib/lib
PERL5OPT =
PERL5_CPANPLUS_IS_RUNNING = 12449
PERL5_CPAN_IS_RUNNING = 12449
PERL5_MINISMOKEBOX = 0.54
PERLBREW_BASHRC_VERSION = 0.49
PERLBREW_HOME = /home/njh/.perlbrew
PERLBREW_LIB =
PERLBREW_MANPATH = /home/njh/perl5/perlbrew/perls/perl-5.15.3/man
PERLBREW_PATH = /home/njh/perl5/perlbrew/bin:/home/njh/perl5/perlbrew/perls/perl-5.15.3/bin
PERLBREW_PERL = perl-5.15.3
PERLBREW_ROOT = /home/njh/perl5/perlbrew
PERLBREW_VERSION = 0.49
PERL_EXTUTILS_AUTOINSTALL = --defaultdeps
PERL_LOCAL_LIB_ROOT =
PERL_MB_OPT =
PERL_MM_OPT =
PERL_MM_USE_DEFAULT = 1
SHELL = /bin/bash
TERM = linux
Perl special variables (and OS-specific diagnostics, for MSWin32):
$^X = /home/njh/perl5/perlbrew/perls/perl-5.15.3/bin/perl5.15.3
$UID/$EUID = 1000 / 1000
$GID = 1000 24 25 29 30 44 46 108 112 1000
$EGID = 1000 24 25 29 30 44 46 108 112 1000
Perl module toolchain versions installed:
Module Have
------------------- --------
CPAN 1.9800
CPAN::Meta 2.120921
Cwd 3.37
ExtUtils::CBuilder 0.280205
ExtUtils::Command 1.17
ExtUtils::Install 1.57
ExtUtils::MakeMaker 6.62
ExtUtils::Manifest 1.60
ExtUtils::ParseXS 3.15
File::Spec 3.34
JSON 2.53
JSON::PP 2.27200
Module::Build 0.4003
Module::Signature 0.68
Parse::CPAN::Meta 1.4404
Test::Harness 3.25
Test::More 0.98
YAML 0.84
YAML::Syck 1.20
version 0.99
--
Summary of my perl5 (revision 5 version 15 subversion 3) configuration:
Platform:
osname=linux, osvers=3.2.0-2-amd64, archname=x86_64-linux
uname='linux gateway 3.2.0-2-amd64 #1 smp sun apr 15 16:47:38 utc 2012 x86_64 gnulinux '
config_args='-de -Dprefix=/home/njh/perl5/perlbrew/perls/perl-5.15.3 -Dusedevel -Accflags=-O2 -W -Wformat=2 -Wswitch -Wshadow -Wwrite-strings -Wuninitialized -Wall -pipe -mtune=native -march=native -fomit-frame-pointer -mfpmath=sse -pedantic -D_FORTIFY_SOURCE=2 -Wpointer-arith -Wstrict-prototypes -fstack-protector -Wstack-protector -Wextra -Wbad-function-cast -Wcast-align -Wcast-qual -Wdisabled-optimization -Wendif-labels -Wfloat-equal -Wformat-nonliteral -Winline -Wmissing-declarations -Wmissing-prototypes -Wnested-externs -Wpointer-arith -Wundef -Wformat-security'
hint=recommended, useposix=true, d_sigaction=define
useithreads=undef, usemultiplicity=undef
useperlio=define, d_sfio=undef, uselargefiles=define, usesocks=undef
use64bitint=define, use64bitall=define, uselongdouble=undef
usemymalloc=n, bincompat5005=undef
Compiler:
cc='cc', ccflags ='-O2 -W -Wformat=2 -Wswitch -Wshadow -Wwrite-strings -Wuninitialized -Wall -pipe -mtune=native -march=native -fomit-frame-pointer -mfpmath=sse -pedantic -D_FORTIFY_SOURCE=2 -Wpointer-arith -Wstrict-prototypes -fstack-protector -Wstack-protector -Wextra -Wbad-function-cast -Wcast-align -Wcast-qual -Wdisabled-optimization -Wendif-labels -Wfloat-equal -Wformat-nonliteral -Winline -Wmissing-declarations -Wmissing-prototypes -Wnested-externs -Wpointer-arith -Wundef -Wformat-security -fno-strict-aliasing -I/usr/local/include -D_LARGEFILE_SOURCE -D_FILE_OFFSET_BITS=64',
optimize='-O2',
cppflags='-O2 -W -Wformat=2 -Wswitch -Wshadow -Wwrite-strings -Wuninitialized -Wall -pipe -mtune=native -march=native -fomit-frame-pointer -mfpmath=sse -pedantic -D_FORTIFY_SOURCE=2 -Wpointer-arith -Wstrict-prototypes -fstack-protector -Wstack-protector -Wextra -Wbad-function-cast -Wcast-align -Wcast-qual -Wdisabled-optimization -Wendif-labels -Wfloat-equal -Wformat-nonliteral -Winline -Wmissing-declarations -Wmissing-prototypes -Wnested-externs -Wpointer-arith -Wundef -Wformat-security -fno-strict-aliasing -I/usr/local/include'
ccversion='', gccversion='4.6.3', gccosandvers=''
intsize=4, longsize=8, ptrsize=8, doublesize=8, byteorder=12345678
d_longlong=define, longlongsize=8, d_longdbl=define, longdblsize=16
ivtype='long', ivsize=8, nvtype='double', nvsize=8, Off_t='off_t', lseeksize=8
alignbytes=8, prototype=define
Linker and Libraries:
ld='cc', ldflags =' -fstack-protector -L/usr/local/lib'
libpth=/usr/local/lib /lib/x86_64-linux-gnu /lib/../lib /usr/lib/x86_64-linux-gnu /usr/lib/../lib /lib /usr/lib
libs=-lnsl -lgdbm -ldb -ldl -lm -lcrypt -lutil -lc -lgdbm_compat
perllibs=-lnsl -ldl -lm -lcrypt -lutil -lc
libc=, so=so, useshrplib=false, libperl=libperl.a
gnulibc_version='2.13'
Dynamic Linking:
dlsrc=dl_dlopen.xs, dlext=so, d_dlsymun=undef, ccdlflags='-Wl,-E'
cccdlflags='-fPIC', lddlflags='-shared -O2 -L/usr/local/lib -fstack-protector'
Characteristics of this binary (from libperl):
Compile-time options: HAS_TIMES PERLIO_LAYERS PERL_DONT_CREATE_GVSV
PERL_MALLOC_WRAP PERL_PRESERVE_IVUV PERL_USE_DEVEL
USE_64_BIT_ALL USE_64_BIT_INT USE_LARGE_FILES
USE_LOCALE USE_LOCALE_COLLATE USE_LOCALE_CTYPE
USE_LOCALE_NUMERIC USE_PERLIO USE_PERL_ATOF
Built under linux
Compiled at Apr 22 2012 20:19:49
%ENV:
PERL5LIB="/home/njh/.cpan/build/Data-JavaScript-Anon-1.03-n_YDDI/blib/arch:/home/njh/.cpan/build/Data-JavaScript-Anon-1.03-n_YDDI/blib/lib:/home/njh/.cpan/build/Class-Default-1.51-MTg4qv/blib/arch:/home/njh/.cpan/build/Class-Default-1.51-MTg4qv/blib/lib:/home/njh/.cpan/build/Text-SimpleTable-2.03-HHQAJM/blib/arch:/home/njh/.cpan/build/Text-SimpleTable-2.03-HHQAJM/blib/lib:/home/njh/.cpan/build/Module-Pluggable-Fast-0.19-7T1IJG/blib/arch:/home/njh/.cpan/build/Module-Pluggable-Fast-0.19-7T1IJG/blib/lib:/home/njh/.cpan/build/Template-Provider-FromDATA-0.12-Jx3VU0/blib/arch:/home/njh/.cpan/build/Template-Provider-FromDATA-0.12-Jx3VU0/blib/lib:/home/njh/.cpan/build/Object-Import-1.002-n1lmvI/blib/arch:/home/njh/.cpan/build/Object-Import-1.002-n1lmvI/blib/lib:/home/njh/.cpan/build/Shell-Command-0.06-er59z_/blib/arch:/home/njh/.cpan/build/Shell-Command-0.06-er59z_/blib/lib"
PERL5OPT=""
PERL5_CPANPLUS_IS_RUNNING="12449"
PERL5_CPAN_IS_RUNNING="12449"
PERL5_MINISMOKEBOX="0.54"
PERLBREW_BASHRC_VERSION="0.49"
PERLBREW_HOME="/home/njh/.perlbrew"
PERLBREW_LIB=""
PERLBREW_MANPATH="/home/njh/perl5/perlbrew/perls/perl-5.15.3/man"
PERLBREW_PATH="/home/njh/perl5/perlbrew/bin:/home/njh/perl5/perlbrew/perls/perl-5.15.3/bin"
PERLBREW_PERL="perl-5.15.3"
PERLBREW_ROOT="/home/njh/perl5/perlbrew"
PERLBREW_VERSION="0.49"
PERL_EXTUTILS_AUTOINSTALL="--defaultdeps"
PERL_LOCAL_LIB_ROOT=""
PERL_MB_OPT=""
PERL_MM_OPT=""
PERL_MM_USE_DEFAULT="1"
@INC:
/home/njh/.cpan/build/Data-JavaScript-Anon-1.03-n_YDDI/blib/arch
/home/njh/.cpan/build/Data-JavaScript-Anon-1.03-n_YDDI/blib/lib
/home/njh/.cpan/build/Class-Default-1.51-MTg4qv/blib/arch
/home/njh/.cpan/build/Class-Default-1.51-MTg4qv/blib/lib
/home/njh/.cpan/build/Text-SimpleTable-2.03-HHQAJM/blib/arch
/home/njh/.cpan/build/Text-SimpleTable-2.03-HHQAJM/blib/lib
/home/njh/.cpan/build/Module-Pluggable-Fast-0.19-7T1IJG/blib/arch
/home/njh/.cpan/build/Module-Pluggable-Fast-0.19-7T1IJG/blib/lib
/home/njh/.cpan/build/Template-Provider-FromDATA-0.12-Jx3VU0/blib/arch
/home/njh/.cpan/build/Template-Provider-FromDATA-0.12-Jx3VU0/blib/lib
/home/njh/.cpan/build/Object-Import-1.002-n1lmvI/blib/arch
/home/njh/.cpan/build/Object-Import-1.002-n1lmvI/blib/lib
/home/njh/.cpan/build/Shell-Command-0.06-er59z_/blib/arch
/home/njh/.cpan/build/Shell-Command-0.06-er59z_/blib/lib
/home/njh/perl5/perlbrew/perls/perl-5.15.3/lib/site_perl/5.15.3/x86_64-linux
/home/njh/perl5/perlbrew/perls/perl-5.15.3/lib/site_perl/5.15.3
/home/njh/perl5/perlbrew/perls/perl-5.15.3/lib/5.15.3/x86_64-linux
/home/njh/perl5/perlbrew/perls/perl-5.15.3/lib/5.15.3
.