Path-FindDev vv0.5.3 Perl 5 v5.27.1 x86_64-linux-ld
- Status
- Pass
- From
- Andreas J. König (ANDK)
- Dist
-
Path-FindDev vv0.5.3
- Platform
- Perl 5 v5.27.1 x86_64-linux-ld
- Date
- 2017-10-08 00:49:13
- ID
- 80c81b26-abc2-11e7-a13c-79bc09a78a48
This distribution has been tested as part of the CPAN Testers
project, supporting the Perl programming language. See
http://wiki.cpantesters.org/ for more information or email
questions to cpan-testers-discuss@perl.org
--
Dear Kent Fredric,
This is a computer-generated report for Path-FindDev-v0.5.3
on perl 5.27.1, created by CPAN-Reporter-1.2018.
Thank you for uploading your work to CPAN. Congratulations!
All tests were successful.
Sections of this report:
* Tester comments
* Program output
* Prerequisites
* Environment and other context
------------------------------
TESTER COMMENTS
------------------------------
Additional comments from tester:
this report is from an automated smoke testing program
and was not reviewed by a human for accuracy
------------------------------
PROGRAM OUTPUT
------------------------------
Output from '/usr/bin/make test':
PERL_DL_NONLAZY=1 "/home/sand/src/perl/repoperls/installed-perls/host/k93msid/v5.27.1/2d7c/bin/perl" "-MExtUtils::Command::MM" "-MTest::Harness" "-e" "undef *Test::Harness::Switches; test_harness(0, 'blib/lib', 'blib/arch')" t/*.t t/00-compile/*.t
t/00-compile/lib_Path_FindDev_Object_pm.t .. ok
t/00-compile/lib_Path_FindDev_pm.t ......... ok
#
# Versions for all modules listed in MYMETA.json (including optional ones):
#
# === Configure Requires ===
#
# Module Want Have
# ------------------- ---- -------
# ExtUtils::MakeMaker any 7.31_04
#
# === Configure Recommends ===
#
# Module Want Have
# ------------------- ---- -------
# ExtUtils::MakeMaker 7.00 7.31_04
#
# === Build Requires ===
#
# Module Want Have
# ------------------- ---- -------
# ExtUtils::MakeMaker any 7.31_04
#
# === Test Requires ===
#
# Module Want Have
# ------------------- ---- --------
# ExtUtils::MakeMaker any 7.31_04
# File::Spec any 3.67
# FindBin any 1.51
# Test::More any 1.302097
#
# === Test Recommends ===
#
# Module Want Have
# ------------------- -------- --------
# CPAN::Meta 2.120900 2.150010
# ExtUtils::MakeMaker 7.00 7.31_04
# Test::More 0.99 1.302097
#
# === Runtime Requires ===
#
# Module Want Have
# ------------------- ------ --------
# Carp any 1.42
# Class::Tiny 0.010 1.006
# Path::IsDev v0.2.2 1.001003
# Path::IsDev::Object any 1.001003
# Path::Tiny 0.054 0.104
# Scalar::Util any 1.46_02
# Sub::Exporter any 0.987
# strict any 1.11
# warnings any 1.37
#
# === Runtime Recommends ===
#
# Module Want Have
# ---------- ----- -----
# Path::Tiny 0.058 0.104
#
t/00-report-prereqs.t ...................... ok
# System path sanity check skipped due to potential security risks, set ENV{SYSTEM_PATH_TEST} if you wish to run this test
t/basic.t .................................. ok
All tests successful.
Files=4, Tests=5, 1 wallclock secs ( 0.03 usr 0.03 sys + 0.39 cusr 0.09 csys = 0.54 CPU)
Result: PASS
------------------------------
PREREQUISITES
------------------------------
Prerequisite modules loaded:
requires:
Module Need Have
------------------- ------ --------
Carp 0 1.42
Class::Tiny 0.010 1.006
Path::IsDev v0.2.2 1.001003
Path::IsDev::Object 0 1.001003
Path::Tiny 0.054 0.104
perl 5.006 5.027001
Scalar::Util 0 1.46_02
strict 0 1.11
Sub::Exporter 0 0.987
warnings 0 1.37
build_requires:
Module Need Have
------------------- ------ --------
ExtUtils::MakeMaker 0 7.31_04
File::Spec 0 3.67
FindBin 0 1.51
Test::More 0 1.302097
configure_requires:
Module Need Have
------------------- ------ --------
ExtUtils::MakeMaker 0 7.31_04
perl 5.006 5.027001
------------------------------
ENVIRONMENT AND OTHER CONTEXT
------------------------------
Environment variables:
AUTOMATED_TESTING = 1
LANG = en_US.UTF-8
PATH = /home/sand/bin:/usr/local/bin:/usr/bin:/bin:/usr/games:/usr/local/perl/bin:/usr/X11/bin:/sbin:/usr/sbin
PERL5LIB = /tmp/loop_over_bdir-17310-MypKyF/Path-IsDev-1.001003-0/blib/arch:/tmp/loop_over_bdir-17310-MypKyF/Path-IsDev-1.001003-0/blib/lib:/tmp/loop_over_bdir-17310-MypKyF/Getopt-ArgvFile-1.11-0/blib/arch:/tmp/loop_over_bdir-17310-MypKyF/Getopt-ArgvFile-1.11-0/blib/lib
PERL5OPT =
PERL5_CPANPLUS_IS_RUNNING = 17318
PERL5_CPAN_IS_RUNNING = 17318
PERL5_CPAN_IS_RUNNING_IN_RECURSION = 6645,17318
PERL_CANARY_STABILITY_NOPROMPT = 1
PERL_MM_USE_DEFAULT = 1
PERL_USE_UNSAFE_INC = 1
SHELL = /usr/bin/zsh
TERM = screen
Perl special variables (and OS-specific diagnostics, for MSWin32):
$^X = /home/sand/src/perl/repoperls/installed-perls/host/k93msid/v5.27.1/2d7c/bin/perl
$UID/$EUID = 1005 / 1005
$GID = 1005 1005
$EGID = 1005 1005
Perl module toolchain versions installed:
Module Have
------------------- --------
CPAN 2.18
CPAN::Meta 2.150010
Cwd 3.67
ExtUtils::CBuilder 0.280226
ExtUtils::Command 7.31_04
ExtUtils::Install 2.14
ExtUtils::MakeMaker 7.31_04
ExtUtils::Manifest 1.70
ExtUtils::ParseXS 3.34
File::Spec 3.67
JSON 2.94
JSON::PP 2.94
Module::Build 0.4224
Module::Signature 0.81
Parse::CPAN::Meta 2.150010
Test::Harness 3.39
Test::More 1.302097
YAML 1.23
YAML::Syck 1.30
version 0.9918
--
Summary of my perl5 (revision 5 version 27 subversion 1) configuration:
Commit id: c13d440c84d87f6921931062eadca1f58969ac98
Platform:
osname=linux
osvers=4.12.0-2-amd64
archname=x86_64-linux-ld
uname='linux k93msid 4.12.0-2-amd64 #1 smp debian 4.12.13-1 (2017-09-19) x86_64 gnulinux '
config_args='-Dprefix=/home/sand/src/perl/repoperls/installed-perls/host/k93msid/v5.27.1/2d7c -Dmyhostname=k93msid -Dinstallusrbinperl=n -Uversiononly -Dusedevel -des -Ui_db -Dlibswanted=cl pthread socket inet nsl gdbm dbm malloc dl ld sun m crypt sec util c cposix posix ucb BSD gdbm_compat -Uuseithreads -Duselongdouble -DDEBUGGING=-g'
hint=recommended
useposix=true
d_sigaction=define
useithreads=undef
usemultiplicity=undef
use64bitint=define
use64bitall=define
uselongdouble=define
usemymalloc=n
default_inc_excludes_dot=define
bincompat5005=undef
Compiler:
cc='cc'
ccflags ='-fwrapv -fno-strict-aliasing -pipe -fstack-protector-strong -I/usr/local/include -D_LARGEFILE_SOURCE -D_FILE_OFFSET_BITS=64'
optimize='-O2 -g'
cppflags='-fwrapv -fno-strict-aliasing -pipe -fstack-protector-strong -I/usr/local/include'
ccversion=''
gccversion='7.2.0'
gccosandvers=''
intsize=4
longsize=8
ptrsize=8
doublesize=8
byteorder=12345678
doublekind=3
d_longlong=define
longlongsize=8
d_longdbl=define
longdblsize=16
longdblkind=3
ivtype='long'
ivsize=8
nvtype='long double'
nvsize=16
Off_t='off_t'
lseeksize=8
alignbytes=16
prototype=define
Linker and Libraries:
ld='cc'
ldflags =' -fstack-protector-strong -L/usr/local/lib'
libpth=/usr/local/lib /usr/lib/gcc/x86_64-linux-gnu/7/include-fixed /usr/include/x86_64-linux-gnu /usr/lib /lib/x86_64-linux-gnu /lib/../lib /usr/lib/x86_64-linux-gnu /usr/lib/../lib /lib
libs=-lpthread -lnsl -ldl -lm -lcrypt -lutil -lc
perllibs=-lpthread -lnsl -ldl -lm -lcrypt -lutil -lc
libc=libc-2.24.so
so=so
useshrplib=false
libperl=libperl.a
gnulibc_version='2.24'
Dynamic Linking:
dlsrc=dl_dlopen.xs
dlext=so
d_dlsymun=undef
ccdlflags='-Wl,-E'
cccdlflags='-fPIC'
lddlflags='-shared -O2 -g -L/usr/local/lib -fstack-protector-strong'
Characteristics of this binary (from libperl):
Compile-time options:
HAS_TIMES
PERLIO_LAYERS
PERL_COPY_ON_WRITE
PERL_DONT_CREATE_GVSV
PERL_MALLOC_WRAP
PERL_OP_PARENT
PERL_PRESERVE_IVUV
PERL_USE_DEVEL
USE_64_BIT_ALL
USE_64_BIT_INT
USE_LARGE_FILES
USE_LOCALE
USE_LOCALE_COLLATE
USE_LOCALE_CTYPE
USE_LOCALE_NUMERIC
USE_LOCALE_TIME
USE_LONG_DOUBLE
USE_PERLIO
USE_PERL_ATOF
Built under linux
Compiled at Oct 2 2017 15:50:50
%ENV:
PERL5LIB="/tmp/loop_over_bdir-17310-MypKyF/Path-IsDev-1.001003-0/blib/arch:/tmp/loop_over_bdir-17310-MypKyF/Path-IsDev-1.001003-0/blib/lib:/tmp/loop_over_bdir-17310-MypKyF/Getopt-ArgvFile-1.11-0/blib/arch:/tmp/loop_over_bdir-17310-MypKyF/Getopt-ArgvFile-1.11-0/blib/lib"
PERL5OPT=""
PERL5_CPANPLUS_IS_RUNNING="17318"
PERL5_CPAN_IS_RUNNING="17318"
PERL5_CPAN_IS_RUNNING_IN_RECURSION="6645,17318"
PERL_CANARY_STABILITY_NOPROMPT="1"
PERL_MM_USE_DEFAULT="1"
PERL_USE_UNSAFE_INC="1"
@INC:
/tmp/loop_over_bdir-17310-MypKyF/Path-IsDev-1.001003-0/blib/arch
/tmp/loop_over_bdir-17310-MypKyF/Path-IsDev-1.001003-0/blib/lib
/tmp/loop_over_bdir-17310-MypKyF/Getopt-ArgvFile-1.11-0/blib/arch
/tmp/loop_over_bdir-17310-MypKyF/Getopt-ArgvFile-1.11-0/blib/lib
/home/sand/src/perl/repoperls/installed-perls/host/k93msid/v5.27.1/2d7c/lib/site_perl/5.27.1/x86_64-linux-ld
/home/sand/src/perl/repoperls/installed-perls/host/k93msid/v5.27.1/2d7c/lib/site_perl/5.27.1
/home/sand/src/perl/repoperls/installed-perls/host/k93msid/v5.27.1/2d7c/lib/5.27.1/x86_64-linux-ld
/home/sand/src/perl/repoperls/installed-perls/host/k93msid/v5.27.1/2d7c/lib/5.27.1
.