Back
From: metabase:user:314402c4-2aae-11df-837a-5e0a49663a4f
Subject: PASS XML-CompileX-Schema-Loader-0.006 v5.24.1 GNU/Linux
Date: 2017-08-03T22:53:01Z
This distribution has been tested as part of the CPAN Testers
project, supporting the Perl programming language. See
http://wiki.cpantesters.org/ for more information or email
questions to cpan-testers-discuss@perl.org
--
Dear Mark Gardner,
This is a computer-generated report for XML-CompileX-Schema-Loader-0.006
on perl 5.24.1, created by CPAN-Reporter-1.2018.
Thank you for uploading your work to CPAN. Congratulations!
All tests were successful.
Sections of this report:
* Tester comments
* Program output
* Prerequisites
* Environment and other context
------------------------------
TESTER COMMENTS
------------------------------
Additional comments from tester:
none provided
------------------------------
PROGRAM OUTPUT
------------------------------
Output from '/usr/bin/make test':
PERL_DL_NONLAZY=1 "/opt/perl-5.24.1/bin/perl" "-MExtUtils::Command::MM" "-MTest::Harness" "-e" "undef *Test::Harness::Switches; test_harness(0, 'blib/lib', 'blib/arch')" t/*.t
t/00-compile.t ............... ok
# Testing with Perl 5.024001, /opt/perl-5.24.1/bin/perl
# Carp version is 1.40
# Const::Fast version is 0.014
# ExtUtils::MakeMaker version is 7.3
# File::Spec version is 3.6301
# HTTP::Exception version is 0.04006
# HTTP::Response version is 6.13
# HTTP::Status version is 6.13
# IO::Handle version is 1.36
# IPC::Open3 version is 1.20
# LWP::UserAgent version is 6.26
# List::MoreUtils version is 0.419
# Modern::Perl version is 1.20170117
# Moo version is 2.003002
# MooX::Types::MooseLike::Base version is 0.29
# Path::Tiny version is 0.104
# Scalar::Util version is 1.48
# Test::LWP::UserAgent version is 0.033
# Test::More version is 1.302086
# Test::Most version is 0.35
# URI version is 1.71
# URI::file version is 4.21
# XML::Compile::SOAP11 version is 3.22
# XML::Compile::SOAP::Util version is 3.22
# XML::Compile::Transport::SOAPHTTP version is 3.22
# XML::Compile::Util version is 1.58
# XML::Compile::WSDL11 version is 3.06
# XML::LibXML version is 2.0129
# strict version is 1.11
# utf8 version is 1.19
# warnings version is 1.36
t/000-report-versions.t ...... ok
t/author-critic.t ............ skipped: these tests are for testing by the author
t/author-eol.t ............... skipped: these tests are for testing by the author
t/author-no-tabs.t ........... skipped: these tests are for testing by the author
t/release-cpan-changes.t ..... skipped: these tests are for release candidate testing
t/release-dist-manifest.t .... skipped: these tests are for release candidate testing
t/release-distmeta.t ......... skipped: these tests are for release candidate testing
t/release-kwalitee.t ......... skipped: these tests are for release candidate testing
t/release-meta-json.t ........ skipped: these tests are for release candidate testing
t/release-minimum-version.t .. skipped: these tests are for release candidate testing
t/release-mojibake.t ......... skipped: these tests are for release candidate testing
t/release-pod-coverage.t ..... skipped: these tests are for release candidate testing
t/release-pod-linkcheck.t .... skipped: these tests are for release candidate testing
t/release-pod-syntax.t ....... skipped: these tests are for release candidate testing
t/release-portability.t ...... skipped: these tests are for release candidate testing
t/release-synopsis.t ......... skipped: these tests are for release candidate testing
t/release-test-version.t ..... skipped: these tests are for release candidate testing
t/release-unused-vars.t ...... skipped: these tests are for release candidate testing
Argument "HTTP_OK" isn't numeric in numeric ge (>=) at /opt/perl-5.24.1/lib/site_perl/5.24.1/HTTP/Status.pm line 108.
Argument "HTTP_OK" isn't numeric in numeric ge (>=) at /opt/perl-5.24.1/lib/site_perl/5.24.1/HTTP/Status.pm line 108.
t/stockquote.t ............... ok
All tests successful.
Files=20, Tests=36, 2 wallclock secs ( 0.03 usr 0.08 sys + 1.00 cusr 0.25 csys = 1.36 CPU)
Result: PASS
------------------------------
PREREQUISITES
------------------------------
Prerequisite modules loaded:
requires:
Module Need Have
--------------------------------- ----- ----------
HTTP::Exception 0 0.04006
List::MoreUtils 0 0.419
LWP::UserAgent 0 6.26
Modern::Perl 0 1.20170117
Moo 0 2.003002
MooX::Types::MooseLike::Base 0 0.29
perl 5.010 5.024001
URI 0 1.71
utf8 0 1.19
XML::Compile::SOAP::Util 0 3.22
XML::Compile::Util 0 1.58
XML::Compile::WSDL11 0 3.06
XML::LibXML 0 2.0129
build_requires:
Module Need Have
--------------------------------- ----- ----------
Carp 0 1.40
Const::Fast 0 0.014
ExtUtils::MakeMaker 0 7.30
File::Spec 0 3.63_01
HTTP::Response 0 6.13
HTTP::Status 0 6.13
IO::Handle 0 1.36
IPC::Open3 0 1.20
Path::Tiny 0 0.104
Scalar::Util 0 1.48
strict 0 1.11
Test::LWP::UserAgent 0 0.033
Test::More 0.94 1.302086
Test::Most 0 0.35
URI::file 0 4.21
warnings 0 1.36
XML::Compile::SOAP11 0 3.22
XML::Compile::Transport::SOAPHTTP 0 3.22
configure_requires:
Module Need Have
--------------------------------- ----- ----------
ExtUtils::MakeMaker 0 7.30
------------------------------
ENVIRONMENT AND OTHER CONTEXT
------------------------------
Environment variables:
LANG = C
PATH = /usr/local/bin:/usr/bin:/bin:/usr/local/sbin:/usr/sbin:/sbin:/home/cpansand/bin/linux-gnu:/home/cpansand/bin/sh:/home/cpansand/bin:/usr/games:/home/cpansand/devel:/home/eserte/src/srezic-misc/scripts
PERL5LIB = /home/cpansand/.cpan/build/2017080321/XML-Compile-WSDL11-3.06-xQj3JD/blib/arch:/home/cpansand/.cpan/build/2017080321/XML-Compile-WSDL11-3.06-xQj3JD/blib/lib:/home/cpansand/.cpan/build/2017080321/HTTP-Exception-0.04006-0okwrV/blib/arch:/home/cpansand/.cpan/build/2017080321/HTTP-Exception-0.04006-0okwrV/blib/lib:/home/cpansand/.cpan/build/2017080321/XML-Compile-SOAP-3.22-imGtGo/blib/arch:/home/cpansand/.cpan/build/2017080321/XML-Compile-SOAP-3.22-imGtGo/blib/lib:/home/cpansand/.cpan/build/2017080321/WWW-Mechanize-Cached-GZip-0.12-AqoHIV/blib/arch:/home/cpansand/.cpan/build/2017080321/WWW-Mechanize-Cached-GZip-0.12-AqoHIV/blib/lib:/home/cpansand/.cpan/build/2017080321/WWW-DanDomain-0.08-36ySnJ/blib/arch:/home/cpansand/.cpan/build/2017080321/WWW-DanDomain-0.08-36ySnJ/blib/lib:/home/cpansand/.cpan/build/2017080321/Cpanel-JSON-XS-3.0237-hJqzCT/blib/arch:/home/cpansand/.cpan/build/2017080321/Cpanel-JSON-XS-3.0237-hJqzCT/blib/lib
PERL5OPT =
PERL5_CPANPLUS_IS_RUNNING = 23595
PERL5_CPAN_IS_RUNNING = 23595
PERL5_CPAN_IS_RUNNING_IN_RECURSION = 15491,23595
PERLDOC = -MPod::Perldoc::ToTextOverstrike
PERL_BATCH = yes
PERL_CANARY_STABILITY_NOPROMPT = 1
PERL_CPAN_REPORTER_CONFIG = /var/tmp/cpansmoker-1023/2017080318/cpanreporter_000_config.ini
PERL_EXTUTILS_AUTOINSTALL = --defaultdeps
SHELL = /usr/bin/zsh
TERM = screen
TMPDIR = /var/tmp/cpansmoker-1023/2017080318
Perl special variables (and OS-specific diagnostics, for MSWin32):
$^X = /opt/perl-5.24.1/bin/perl
$UID/$EUID = 1023 / 1023
$GID = 1023 1023
$EGID = 1023 1023
Perl module toolchain versions installed:
Module Have
------------------- ----------
CPAN 2.11_01
CPAN::Meta 2.150005
Cwd 3.63_01
ExtUtils::CBuilder 0.280225
ExtUtils::Command 7.30
ExtUtils::Install 2.06
ExtUtils::MakeMaker 7.30
ExtUtils::Manifest 1.70
ExtUtils::ParseXS 3.31
File::Spec 3.63_01
JSON 2.94
JSON::PP 2.94
Module::Build 0.4224
Module::Signature 0.81
Parse::CPAN::Meta 1.4417_001
Test::Harness 3.36_01
Test::More 1.302086
YAML 1.23
YAML::Syck 1.30
version 0.9916
--
Summary of my perl5 (revision 5 version 24 subversion 1) configuration:
Platform:
osname=linux, osvers=4.9.0-3-amd64, archname=x86_64-linux
uname='linux debian9 4.9.0-3-amd64 #1 smp debian 4.9.30-2+deb9u1 (2017-06-18) x86_64 gnulinux '
config_args='-ds -e -Dprefix=/opt/perl-5.24.1 -Dcf_email=srezic@cpan.org'
hint=recommended, useposix=true, d_sigaction=define
useithreads=undef, usemultiplicity=undef
use64bitint=define, use64bitall=define, uselongdouble=undef
usemymalloc=n, bincompat5005=undef
Compiler:
cc='cc', ccflags ='-fwrapv -fno-strict-aliasing -pipe -fstack-protector-strong -I/usr/local/include -D_LARGEFILE_SOURCE -D_FILE_OFFSET_BITS=64',
optimize='-O2',
cppflags='-fwrapv -fno-strict-aliasing -pipe -fstack-protector-strong -I/usr/local/include'
ccversion='', gccversion='6.3.0 20170516', gccosandvers=''
intsize=4, longsize=8, ptrsize=8, doublesize=8, byteorder=12345678, doublekind=3
d_longlong=define, longlongsize=8, d_longdbl=define, longdblsize=16, longdblkind=3
ivtype='long', ivsize=8, nvtype='double', nvsize=8, Off_t='off_t', lseeksize=8
alignbytes=8, prototype=define
Linker and Libraries:
ld='cc', ldflags =' -fstack-protector-strong -L/usr/local/lib'
libpth=/usr/local/lib /usr/lib/gcc/x86_64-linux-gnu/6/include-fixed /usr/include/x86_64-linux-gnu /usr/lib /lib/x86_64-linux-gnu /lib/../lib /usr/lib/x86_64-linux-gnu /usr/lib/../lib /lib
libs=-lpthread -lnsl -lgdbm -ldb -ldl -lm -lcrypt -lutil -lc -lgdbm_compat
perllibs=-lpthread -lnsl -ldl -lm -lcrypt -lutil -lc
libc=libc-2.24.so, so=so, useshrplib=false, libperl=libperl.a
gnulibc_version='2.24'
Dynamic Linking:
dlsrc=dl_dlopen.xs, dlext=so, d_dlsymun=undef, ccdlflags='-Wl,-E'
cccdlflags='-fPIC', lddlflags='-shared -O2 -L/usr/local/lib -fstack-protector-strong'
Characteristics of this binary (from libperl):
Compile-time options: HAS_TIMES PERLIO_LAYERS PERL_COPY_ON_WRITE
PERL_DONT_CREATE_GVSV
PERL_HASH_FUNC_ONE_AT_A_TIME_HARD PERL_MALLOC_WRAP
PERL_PRESERVE_IVUV USE_64_BIT_ALL USE_64_BIT_INT
USE_LARGE_FILES USE_LOCALE USE_LOCALE_COLLATE
USE_LOCALE_CTYPE USE_LOCALE_NUMERIC USE_LOCALE_TIME
USE_PERLIO USE_PERL_ATOF
Built under linux
Compiled at Jun 23 2017 20:31:37
%ENV:
PERL5LIB="/home/cpansand/.cpan/build/2017080321/XML-Compile-WSDL11-3.06-xQj3JD/blib/arch:/home/cpansand/.cpan/build/2017080321/XML-Compile-WSDL11-3.06-xQj3JD/blib/lib:/home/cpansand/.cpan/build/2017080321/HTTP-Exception-0.04006-0okwrV/blib/arch:/home/cpansand/.cpan/build/2017080321/HTTP-Exception-0.04006-0okwrV/blib/lib:/home/cpansand/.cpan/build/2017080321/XML-Compile-SOAP-3.22-imGtGo/blib/arch:/home/cpansand/.cpan/build/2017080321/XML-Compile-SOAP-3.22-imGtGo/blib/lib:/home/cpansand/.cpan/build/2017080321/WWW-Mechanize-Cached-GZip-0.12-AqoHIV/blib/arch:/home/cpansand/.cpan/build/2017080321/WWW-Mechanize-Cached-GZip-0.12-AqoHIV/blib/lib:/home/cpansand/.cpan/build/2017080321/WWW-DanDomain-0.08-36ySnJ/blib/arch:/home/cpansand/.cpan/build/2017080321/WWW-DanDomain-0.08-36ySnJ/blib/lib:/home/cpansand/.cpan/build/2017080321/Cpanel-JSON-XS-3.0237-hJqzCT/blib/arch:/home/cpansand/.cpan/build/2017080321/Cpanel-JSON-XS-3.0237-hJqzCT/blib/lib"
PERL5OPT=""
PERL5_CPANPLUS_IS_RUNNING="23595"
PERL5_CPAN_IS_RUNNING="23595"
PERL5_CPAN_IS_RUNNING_IN_RECURSION="15491,23595"
PERLDOC="-MPod::Perldoc::ToTextOverstrike"
PERL_BATCH="yes"
PERL_CANARY_STABILITY_NOPROMPT="1"
PERL_CPAN_REPORTER_CONFIG="/var/tmp/cpansmoker-1023/2017080318/cpanreporter_000_config.ini"
PERL_EXTUTILS_AUTOINSTALL="--defaultdeps"
@INC:
/home/cpansand/.cpan/build/2017080321/XML-Compile-WSDL11-3.06-xQj3JD/blib/arch
/home/cpansand/.cpan/build/2017080321/XML-Compile-WSDL11-3.06-xQj3JD/blib/lib
/home/cpansand/.cpan/build/2017080321/HTTP-Exception-0.04006-0okwrV/blib/arch
/home/cpansand/.cpan/build/2017080321/HTTP-Exception-0.04006-0okwrV/blib/lib
/home/cpansand/.cpan/build/2017080321/XML-Compile-SOAP-3.22-imGtGo/blib/arch
/home/cpansand/.cpan/build/2017080321/XML-Compile-SOAP-3.22-imGtGo/blib/lib
/home/cpansand/.cpan/build/2017080321/WWW-Mechanize-Cached-GZip-0.12-AqoHIV/blib/arch
/home/cpansand/.cpan/build/2017080321/WWW-Mechanize-Cached-GZip-0.12-AqoHIV/blib/lib
/home/cpansand/.cpan/build/2017080321/WWW-DanDomain-0.08-36ySnJ/blib/arch
/home/cpansand/.cpan/build/2017080321/WWW-DanDomain-0.08-36ySnJ/blib/lib
/home/cpansand/.cpan/build/2017080321/Cpanel-JSON-XS-3.0237-hJqzCT/blib/arch
/home/cpansand/.cpan/build/2017080321/Cpanel-JSON-XS-3.0237-hJqzCT/blib/lib
/opt/perl-5.24.1/lib/site_perl/5.24.1/x86_64-linux
/opt/perl-5.24.1/lib/site_perl/5.24.1
/opt/perl-5.24.1/lib/5.24.1/x86_64-linux
/opt/perl-5.24.1/lib/5.24.1
.