YAML-Dump v1.84 Perl 5 v5.12.5 x86_64-dragonfly-thread-multi-ld
- Status
- Pass
- From
- Nigel Horne
- Dist
-
YAML-Dump v1.84
- Platform
- Perl 5 v5.12.5 x86_64-dragonfly-thread-multi-ld
- Date
- 2018-04-21 00:25:32
- ID
- 80a48edc-44fa-11e8-9da6-f703c768dc7a
This distribution has been tested as part of the CPAN Testers
project, supporting the Perl programming language. See
http://wiki.cpantesters.org/ for more information or email
questions to cpan-testers-discuss@perl.org
--
Dear Flavio Poletti,
This is a computer-generated report for YAML-Dump-1.84
on perl 5.12.5, created by CPAN-Reporter-1.2018.
Thank you for uploading your work to CPAN. Congratulations!
All tests were successful.
Sections of this report:
* Tester comments
* Program output
* Prerequisites
* Environment and other context
------------------------------
TESTER COMMENTS
------------------------------
Additional comments from tester:
this report is from an automated smoke testing program
and was not reviewed by a human for accuracy
------------------------------
PROGRAM OUTPUT
------------------------------
Output from './Build test':
# Testing YAML::Dump 1.84
t/00-load.t .............. ok
t/01-dump.t .............. ok
t/author-pod-coverage.t .. skipped: these tests are for testing by the author
t/author-pod-syntax.t .... skipped: these tests are for testing by the author
t/release-pod-version.t .. skipped: these tests are for release candidate testing
All tests successful.
Files=5, Tests=35, 0 wallclock secs ( 0.08 usr 0.07 sys + 0.23 cusr 0.12 csys = 0.49 CPU)
Result: PASS
------------------------------
PREREQUISITES
------------------------------
Prerequisite modules loaded:
requires:
Module Need Have
------------------- ----- --------
perl 5.010 5.012005
build_requires:
Module Need Have
------------------- ----- --------
Path::Tiny 0.096 0.104
Test::Exception 0 0.43
Test::More 0.88 1.302120
configure_requires:
Module Need Have
------------------- ----- --------
Module::Build::Tiny 0.034 0.039
------------------------------
ENVIRONMENT AND OTHER CONTEXT
------------------------------
Environment variables:
AUTOMATED_TESTING = 1
PATH = /home/njh/perl5/perlbrew/bin:/home/njh/perl5/perlbrew/perls/perl-5.12.5-thread-multi-ld/bin:src/njh/smoker/bin:/bin:/sbin:/usr/bin:/usr/sbin:/usr/local/bin:/usr/local/sbin:/usr/pkg/bin:/usr/pkg/sbin
PERL5LIB = /home/njh/.cpan/build/Module-Build-Tiny-0.039-21/blib/arch:/home/njh/.cpan/build/Module-Build-Tiny-0.039-21/blib/lib:/home/njh/.cpan/build/ExtUtils-InstallPaths-0.011-21/blib/arch:/home/njh/.cpan/build/ExtUtils-InstallPaths-0.011-21/blib/lib:/home/njh/.cpan/build/ExtUtils-Helpers-0.026-21/blib/arch:/home/njh/.cpan/build/ExtUtils-Helpers-0.026-21/blib/lib:/home/njh/.cpan/build/ExtUtils-Config-0.008-21/blib/arch:/home/njh/.cpan/build/ExtUtils-Config-0.008-21/blib/lib:/home/njh/.cpan/build/XML-FeedPP-0.95-0/blib/arch:/home/njh/.cpan/build/XML-FeedPP-0.95-0/blib/lib:/home/njh/.cpan/build/XML-TreePP-0.43-0/blib/arch:/home/njh/.cpan/build/XML-TreePP-0.43-0/blib/lib
PERL5OPT =
PERL5_CPANPLUS_IS_RUNNING = 311231
PERL5_CPAN_IS_RUNNING = 311231
PERLBREW_HOME = /home/njh/.perlbrew
PERLBREW_MANPATH = /home/njh/perl5/perlbrew/perls/perl-5.12.5-thread-multi-ld/man
PERLBREW_PATH = /home/njh/perl5/perlbrew/bin:/home/njh/perl5/perlbrew/perls/perl-5.12.5-thread-multi-ld/bin
PERLBREW_PERL = perl-5.12.5-thread-multi-ld
PERLBREW_ROOT = /home/njh/perl5/perlbrew
PERLBREW_SHELLRC_VERSION = 0.82
PERLBREW_VERSION = 0.82
SHELL = /bin/sh
Perl special variables (and OS-specific diagnostics, for MSWin32):
$^X = /home/njh/perl5/perlbrew/perls/perl-5.12.5-thread-multi-ld/bin/perl5.12.5
$UID/$EUID = 1001 / 1001
$GID = 1001 1001 0
$EGID = 1001 1001 0
Perl module toolchain versions installed:
Module Have
------------------- --------
CPAN 2.16
CPAN::Meta 2.143240
Cwd 3.31
ExtUtils::CBuilder 0.27
ExtUtils::Command 7.30
ExtUtils::Install 2.06
ExtUtils::MakeMaker 7.30
ExtUtils::Manifest 1.70
ExtUtils::ParseXS 2.21
File::Spec 3.31_01
JSON n/a
JSON::PP 2.27203
Module::Build 0.3603
Module::Signature n/a
Parse::CPAN::Meta 1.4414
Test::Harness 3.39
Test::More 1.302120
YAML 1.24
YAML::Syck 1.30
version 0.9918
--
Summary of my perl5 (revision 5 version 12 subversion 5) configuration:
Platform:
osname=dragonfly, osvers=5.0-release, archname=x86_64-dragonfly-thread-multi-ld
uname='dragonfly david.bandsman.co.uk 5.0-release dragonfly v5.0.2-release #4: sun dec 3 17:42:25 est 2017 root@www.shiningsilence.com:usrobjhomejustinrelease5_0sysx86_64_generic x86_64 '
config_args='-de -Dprefix=/home/njh/perl5/perlbrew/perls/perl-5.12.5-thread-multi-ld -Dusedevel -Dusethreads -Dusemultiplicity -Duselongdouble -Accflags= -Aeval:scriptdir=/home/njh/perl5/perlbrew/perls/perl-5.12.5-thread-multi-ld/bin'
hint=recommended, useposix=true, d_sigaction=define
useithreads=define, usemultiplicity=define
useperlio=define, d_sfio=undef, uselargefiles=define, usesocks=undef
use64bitint=define, use64bitall=define, uselongdouble=define
usemymalloc=n, bincompat5005=undef
Compiler:
cc='cc', ccflags ='-DHAS_FPSETMASK -DHAS_FLOATINGPOINT_H -fno-strict-aliasing -pipe -fstack-protector -I/usr/local/include',
optimize='-O',
cppflags='-DHAS_FPSETMASK -DHAS_FLOATINGPOINT_H -fno-strict-aliasing -pipe -fstack-protector -I/usr/local/include'
ccversion='', gccversion='5.4.1 [DragonFly] Release/2016-08-27', gccosandvers=''
intsize=4, longsize=8, ptrsize=8, doublesize=8, byteorder=12345678
d_longlong=define, longlongsize=8, d_longdbl=define, longdblsize=16
ivtype='long', ivsize=8, nvtype='long double', nvsize=16, Off_t='off_t', lseeksize=8
alignbytes=16, prototype=define
Linker and Libraries:
ld='cc', ldflags ='-pthread -Wl,-E -fstack-protector -L/usr/local/lib'
libpth=/usr/lib /usr/local/lib
libs=-ldl -lm -lcrypt -lutil -lc
perllibs=-ldl -lm -lcrypt -lutil -lc
libc=, so=so, useshrplib=false, libperl=libperl.a
gnulibc_version=''
Dynamic Linking:
dlsrc=dl_dlopen.xs, dlext=so, d_dlsymun=undef, ccdlflags=' '
cccdlflags='-DPIC -fPIC', lddlflags='-shared -L/usr/local/lib -fstack-protector'
Characteristics of this binary (from libperl):
Compile-time options: MULTIPLICITY PERL_DONT_CREATE_GVSV
PERL_IMPLICIT_CONTEXT PERL_MALLOC_WRAP PERL_USE_DEVEL
USE_64_BIT_ALL USE_64_BIT_INT USE_ITHREADS
USE_LARGE_FILES USE_LONG_DOUBLE USE_PERLIO
USE_PERL_ATOF USE_REENTRANT_API
Locally applied patches:
Devel::PatchPerl 1.48
Built under dragonfly
Compiled at Jan 31 2018 01:32:28
%ENV:
PERL5LIB="/home/njh/.cpan/build/Module-Build-Tiny-0.039-21/blib/arch:/home/njh/.cpan/build/Module-Build-Tiny-0.039-21/blib/lib:/home/njh/.cpan/build/ExtUtils-InstallPaths-0.011-21/blib/arch:/home/njh/.cpan/build/ExtUtils-InstallPaths-0.011-21/blib/lib:/home/njh/.cpan/build/ExtUtils-Helpers-0.026-21/blib/arch:/home/njh/.cpan/build/ExtUtils-Helpers-0.026-21/blib/lib:/home/njh/.cpan/build/ExtUtils-Config-0.008-21/blib/arch:/home/njh/.cpan/build/ExtUtils-Config-0.008-21/blib/lib:/home/njh/.cpan/build/XML-FeedPP-0.95-0/blib/arch:/home/njh/.cpan/build/XML-FeedPP-0.95-0/blib/lib:/home/njh/.cpan/build/XML-TreePP-0.43-0/blib/arch:/home/njh/.cpan/build/XML-TreePP-0.43-0/blib/lib"
PERL5OPT=""
PERL5_CPANPLUS_IS_RUNNING="311231"
PERL5_CPAN_IS_RUNNING="311231"
PERLBREW_HOME="/home/njh/.perlbrew"
PERLBREW_MANPATH="/home/njh/perl5/perlbrew/perls/perl-5.12.5-thread-multi-ld/man"
PERLBREW_PATH="/home/njh/perl5/perlbrew/bin:/home/njh/perl5/perlbrew/perls/perl-5.12.5-thread-multi-ld/bin"
PERLBREW_PERL="perl-5.12.5-thread-multi-ld"
PERLBREW_ROOT="/home/njh/perl5/perlbrew"
PERLBREW_SHELLRC_VERSION="0.82"
PERLBREW_VERSION="0.82"
@INC:
/home/njh/.cpan/build/Module-Build-Tiny-0.039-21/blib/arch
/home/njh/.cpan/build/Module-Build-Tiny-0.039-21/blib/lib
/home/njh/.cpan/build/ExtUtils-InstallPaths-0.011-21/blib/arch
/home/njh/.cpan/build/ExtUtils-InstallPaths-0.011-21/blib/lib
/home/njh/.cpan/build/ExtUtils-Helpers-0.026-21/blib/arch
/home/njh/.cpan/build/ExtUtils-Helpers-0.026-21/blib/lib
/home/njh/.cpan/build/ExtUtils-Config-0.008-21/blib/arch
/home/njh/.cpan/build/ExtUtils-Config-0.008-21/blib/lib
/home/njh/.cpan/build/XML-FeedPP-0.95-0/blib/arch
/home/njh/.cpan/build/XML-FeedPP-0.95-0/blib/lib
/home/njh/.cpan/build/XML-TreePP-0.43-0/blib/arch
/home/njh/.cpan/build/XML-TreePP-0.43-0/blib/lib
/home/njh/perl5/perlbrew/perls/perl-5.12.5-thread-multi-ld/lib/site_perl/5.12.5/x86_64-dragonfly-thread-multi-ld
/home/njh/perl5/perlbrew/perls/perl-5.12.5-thread-multi-ld/lib/site_perl/5.12.5
/home/njh/perl5/perlbrew/perls/perl-5.12.5-thread-multi-ld/lib/5.12.5/x86_64-dragonfly-thread-multi-ld
/home/njh/perl5/perlbrew/perls/perl-5.12.5-thread-multi-ld/lib/5.12.5
.