Report for Switcheroo-0.008

Back
From: metabase:user:0b89f010-c06b-11e2-94cd-ca7365ccac31
Subject: PASS Switcheroo-0.008 v5.18.1 Mac OS X
Date: 2016-12-16T15:08:29Z

This distribution has been tested as part of the CPAN Testers
project, supporting the Perl programming language.  See
http://wiki.cpantesters.org/ for more information or email
questions to cpan-testers-discuss@perl.org


--
Dear Toby Inkster,

This is a computer-generated report for Switcheroo-0.008
on perl 5.18.1, created by CPAN-Reporter-1.2018.

Thank you for uploading your work to CPAN.  Congratulations!
All tests were successful.

Sections of this report:

    * Tester comments
    * Program output
    * Prerequisites
    * Environment and other context

------------------------------
TESTER COMMENTS
------------------------------

Additional comments from tester:

none provided

------------------------------
PROGRAM OUTPUT
------------------------------

Output from '/usr/bin/make test':

PERL_DL_NONLAZY=1 "/Users/ken/perl5/perlbrew/perls/perl-5.18.1t/bin/perl" "-MExtUtils::Command::MM" "-MTest::Harness" "-e" "undef *Test::Harness::Switches; test_harness(0, 'blib/lib', 'blib/arch')" t/*.t
t/01basic.t ....... ok
t/02pod-eg.t ...... ok
t/03callerargs.t .. ok
t/04closure.t ..... ok
t/05typetiny.t .... ok
t/06smartmatch.t .. skipped: Test requires module 'Smart::Match' but it's not found
All tests successful.

Test Summary Report
-------------------
t/03callerargs.t (Wstat: 0 Tests: 19 Failed: 0)
  TODO passed:   16, 19
Files=6, Tests=32,  0 wallclock secs ( 0.04 usr  0.01 sys +  0.39 cusr  0.06 csys =  0.50 CPU)
Result: PASS

------------------------------
PREREQUISITES
------------------------------

Prerequisite modules loaded:

requires:

    Module              Need  Have    
    ------------------- ----- --------
    Exporter::Tiny      0.026 0.042   
    match::simple       0.004 0.009   
    PadWalker           0     2.2     
    Parse::Keyword      0.06  0.08    
    perl                5.014 5.018001

build_requires:

    Module              Need  Have    
    ------------------- ----- --------
    Test::More          0.96  1.302067
    Test::Requires      0.06  0.07    

configure_requires:

    Module              Need  Have    
    ------------------- ----- --------
    ExtUtils::MakeMaker 6.17  7.04    


------------------------------
ENVIRONMENT AND OTHER CONTEXT
------------------------------

Environment variables:

    CPAN_TEST_AUTHOR = 0
    LANG = en_AU.UTF-8
    PATH = /Users/ken/perl5/perlbrew/bin:/Users/ken/perl5/perlbrew/perls/perl-5.18.1t/bin:/Users/ken/local/opt/perl6/builds/2016_04/rakudo/bin:/Users/ken/local/opt/perl6/builds/2016_04/rakudo/share/perl6/site/bin:/Users/ken/local/opt/sqlite/bin:/Users/ken/local/opt/ruby/bin:/usr/local/bin:/usr/bin:/bin:/usr/sbin:/sbin:/opt/X11/bin:/Users/ken/local/bin:/Users/ken/local/dev/tix/bin:/opt/local/bin:/opt/local/sbin:.
    PATH_WITHOUT_PERLBREW = /Users/ken/local/opt/perl6/builds/2016_04/rakudo/bin:/Users/ken/local/opt/perl6/builds/2016_04/rakudo/share/perl6/site/bin:/Users/ken/local/opt/sqlite/bin:/Users/ken/local/opt/ruby/bin:/usr/local/bin:/usr/bin:/bin:/usr/sbin:/sbin:/opt/X11/bin:/Users/ken/local/bin:/Users/ken/local/dev/tix/bin:/opt/local/bin:/opt/local/sbin:.
    PERL5LIB = /Users/ken/local/lib/perl
    PERL5OPT = 
    PERL5_CPANPLUS_IS_RUNNING = 44039
    PERL5_CPAN_IS_RUNNING = 44039
    PERLBREW_BASHRC_VERSION = 0.30
    PERLBREW_HOME = /Users/ken/.perlbrew
    PERLBREW_MANPATH = /Users/ken/perl5/perlbrew/perls/perl-5.18.1t/man
    PERLBREW_PATH = /Users/ken/perl5/perlbrew/bin:/Users/ken/perl5/perlbrew/perls/perl-5.18.1t/bin
    PERLBREW_PERL = perl-5.18.1t
    PERLBREW_ROOT = /Users/ken/perl5/perlbrew
    PERLBREW_VERSION = 0.73
    SHELL = /bin/bash
    TERM = xterm-256color
    TMPDIR = /var/folders/5q/df1h1dps5_s5xs1q4tryvvc40000gn/T/

Perl special variables (and OS-specific diagnostics, for MSWin32):

    $^X = /Users/ken/perl5/perlbrew/perls/perl-5.18.1t/bin/perl
    $UID/$EUID = 501 / 501
    $GID = 20 20 12 61 79 80 81 98 204 402 33 100 398 399
    $EGID = 20 20 12 61 79 80 81 98 204 402 33 100 398 399

Perl module toolchain versions installed:

    Module              Have    
    ------------------- --------
    CPAN                2.14    
    CPAN::Meta          2.150010
    Cwd                 3.40    
    ExtUtils::CBuilder  0.280210
    ExtUtils::Command   1.17    
    ExtUtils::Install   1.59    
    ExtUtils::MakeMaker 7.04    
    ExtUtils::Manifest  1.65    
    ExtUtils::ParseXS   3.24    
    File::Spec          3.40    
    JSON                2.59    
    JSON::PP            2.27400 
    Module::Build       0.4205  
    Module::Signature   n/a     
    Parse::CPAN::Meta   2.150010
    Test::Harness       3.30    
    Test::More          1.302067
    YAML                1.20    
    YAML::Syck          1.27    
    version             0.9908  


--

Summary of my perl5 (revision 5 version 18 subversion 1) configuration:
   
  Platform:
    osname=darwin, osvers=11.4.2, archname=darwin-thread-multi-2level
    uname='darwin ganymede 11.4.2 darwin kernel version 11.4.2: thu aug 23 16:25:48 pdt 2012; root:xnu-1699.32.7~1release_x86_64 x86_64 '
    config_args='-de -Dprefix=/Users/ken/perl5/perlbrew/perls/perl-5.18.1t -Dusethreads'
    hint=recommended, useposix=true, d_sigaction=define
    useithreads=define, usemultiplicity=define
    useperlio=define, d_sfio=undef, uselargefiles=define, usesocks=undef
    use64bitint=define, use64bitall=define, uselongdouble=undef
    usemymalloc=n, bincompat5005=undef
  Compiler:
    cc='cc', ccflags ='-fno-common -DPERL_DARWIN -fno-strict-aliasing -pipe -fstack-protector -I/usr/local/include -I/opt/local/include',
    optimize='-O3',
    cppflags='-fno-common -DPERL_DARWIN -fno-strict-aliasing -pipe -fstack-protector -I/usr/local/include -I/opt/local/include'
    ccversion='', gccversion='4.2.1 (Based on Apple Inc. build 5658) (LLVM build 2336.1.00)', gccosandvers=''
    intsize=4, longsize=8, ptrsize=8, doublesize=8, byteorder=12345678
    d_longlong=define, longlongsize=8, d_longdbl=define, longdblsize=16
    ivtype='long', ivsize=8, nvtype='double', nvsize=8, Off_t='off_t', lseeksize=8
    alignbytes=8, prototype=define
  Linker and Libraries:
    ld='env MACOSX_DEPLOYMENT_TARGET=10.3 cc', ldflags =' -fstack-protector -L/usr/local/lib -L/opt/local/lib'
    libpth=/usr/local/lib /opt/local/lib /usr/lib
    libs=-lgdbm -ldbm -ldl -lm -lutil -lc
    perllibs=-ldl -lm -lutil -lc
    libc=, so=dylib, useshrplib=false, libperl=libperl.a
    gnulibc_version=''
  Dynamic Linking:
    dlsrc=dl_dlopen.xs, dlext=bundle, d_dlsymun=undef, ccdlflags=' '
    cccdlflags=' ', lddlflags=' -bundle -undefined dynamic_lookup -L/usr/local/lib -L/opt/local/lib -fstack-protector'


Characteristics of this binary (from libperl): 
  Compile-time options: HAS_TIMES MULTIPLICITY PERLIO_LAYERS
                        PERL_DONT_CREATE_GVSV
                        PERL_HASH_FUNC_ONE_AT_A_TIME_HARD
                        PERL_IMPLICIT_CONTEXT PERL_MALLOC_WRAP
                        PERL_PRESERVE_IVUV PERL_SAWAMPERSAND USE_64_BIT_ALL
                        USE_64_BIT_INT USE_ITHREADS USE_LARGE_FILES
                        USE_LOCALE USE_LOCALE_COLLATE USE_LOCALE_CTYPE
                        USE_LOCALE_NUMERIC USE_PERLIO USE_PERL_ATOF
                        USE_REENTRANT_API
  Built under darwin
  Compiled at Aug 28 2013 15:25:59
  %ENV:
    PERL5LIB="/Users/ken/local/lib/perl"
    PERL5OPT=""
    PERL5_CPANPLUS_IS_RUNNING="44039"
    PERL5_CPAN_IS_RUNNING="44039"
    PERLBREW_BASHRC_VERSION="0.30"
    PERLBREW_HOME="/Users/ken/.perlbrew"
    PERLBREW_MANPATH="/Users/ken/perl5/perlbrew/perls/perl-5.18.1t/man"
    PERLBREW_PATH="/Users/ken/perl5/perlbrew/bin:/Users/ken/perl5/perlbrew/perls/perl-5.18.1t/bin"
    PERLBREW_PERL="perl-5.18.1t"
    PERLBREW_ROOT="/Users/ken/perl5/perlbrew"
    PERLBREW_VERSION="0.73"
  @INC:
    /Users/ken/local/lib/perl
    /Users/ken/perl5/perlbrew/perls/perl-5.18.1t/lib/site_perl/5.18.1/darwin-thread-multi-2level
    /Users/ken/perl5/perlbrew/perls/perl-5.18.1t/lib/site_perl/5.18.1
    /Users/ken/perl5/perlbrew/perls/perl-5.18.1t/lib/5.18.1/darwin-thread-multi-2level
    /Users/ken/perl5/perlbrew/perls/perl-5.18.1t/lib/5.18.1
    .