AnyEvent-HTTP-Message v0.302 Perl 5 v5.12.5 darwin-2level

Status
Pass
From
Nigel Horne
Dist
AnyEvent-HTTP-Message v0.302
Platform
Perl 5 v5.12.5 darwin-2level
Date
2018-03-04 04:50:03
ID
806ff5b8-1f67-11e8-943b-7dd4befa0787
This distribution has been tested as part of the CPAN Testers
project, supporting the Perl programming language.  See
http://wiki.cpantesters.org/ for more information or email
questions to cpan-testers-discuss@perl.org


--
Dear Randy Stauner,

This is a computer-generated report for AnyEvent-HTTP-Message-0.302
on perl 5.12.5, created by CPAN-Reporter-1.2018.

Thank you for uploading your work to CPAN.  Congratulations!
All tests were successful.

Sections of this report:

    * Tester comments
    * Program output
    * Prerequisites
    * Environment and other context

------------------------------
TESTER COMMENTS
------------------------------

Additional comments from tester:

this report is from an automated smoke testing program
and was not reviewed by a human for accuracy

------------------------------
PROGRAM OUTPUT
------------------------------

Output from '/sw/bin/make test':

PERL_DL_NONLAZY=1 "/Users/hornenj/perl5/perlbrew/perls/perl-5.12.5/bin/perl" "-MExtUtils::Command::MM" "-MTest::Harness" "-e" "undef *Test::Harness::Switches; test_harness(0, 'blib/lib', 'blib/arch')" t/*.t
t/message.t ............ ok
t/00-compile.t ......... ok
# Prerequisite Report:
#    Version Module               
#   -------- ---------------------
#       2.23 AnyEvent::HTTP       
#       1.36 Carp                 
#       5.72 Exporter             
#       7.30 ExtUtils::MakeMaker  
#       1.15 File::Find           
#       3.47 File::Spec::Functions
#     0.2304 File::Temp           
#       6.11 HTTP::Message        
#       1.47 List::Util           
#       1.47 Scalar::Util         
#   1.302106 Test::More           
#      0.234 parent               
#       1.04 strict               
#       1.09 warnings             
t/00-report-prereqs.t .. ok
t/request.t ............ ok
t/response.t ........... ok
All tests successful.
Files=5, Tests=99,  0 wallclock secs ( 0.03 usr  0.02 sys +  0.42 cusr  0.12 csys =  0.59 CPU)
Result: PASS

------------------------------
PREREQUISITES
------------------------------

Prerequisite modules loaded:

requires:

    Module                Need Have    
    --------------------- ---- --------
    AnyEvent::HTTP        2    2.23    
    Carp                  0    1.36    
    parent                0    0.234   
    Scalar::Util          0    1.47    
    strict                0    1.04    
    warnings              0    1.09    

build_requires:

    Module                Need Have    
    --------------------- ---- --------
    Exporter              0    5.72    
    ExtUtils::MakeMaker   0    7.30    
    File::Find            0    1.15    
    File::Spec::Functions 0    3.47    
    File::Temp            0    0.2304  
    List::Util            0    1.47    
    Test::More            0.88 1.302106

configure_requires:

    Module                Need Have    
    --------------------- ---- --------
    ExtUtils::MakeMaker   6.30 7.30    


------------------------------
ENVIRONMENT AND OTHER CONTEXT
------------------------------

Environment variables:

    AUTOMATED_TESTING = 1
    HARNESS_OPTIONS = c:j3
    LANG = en_US.UTF-8
    LC_ALL = POSIX
    PATH = /Users/hornenj/perl5/perlbrew/bin:/Users/hornenj/perl5/perlbrew/perls/perl-5.12.5/bin:src/njh/smoker/bin:/Users/hornenj/bin:/usr/bin:/bin:/usr/X11R6/bin:/sw/bin
    PERL5LIB = /Users/hornenj/.cpan/build/AnyEvent-HTTP-2.23-44/blib/arch:/Users/hornenj/.cpan/build/AnyEvent-HTTP-2.23-44/blib/lib:/Users/hornenj/.cpan/build/AnyEvent-7.14-41/blib/arch:/Users/hornenj/.cpan/build/AnyEvent-7.14-41/blib/lib:/Users/hornenj/.cpan/build/JSONP-1.83-60/blib/arch:/Users/hornenj/.cpan/build/JSONP-1.83-60/blib/lib:/Users/hornenj/.cpan/build/JSONP-1.82-60/blib/arch:/Users/hornenj/.cpan/build/JSONP-1.82-60/blib/lib:/Users/hornenj/.cpan/build/Want-0.29-59/blib/arch:/Users/hornenj/.cpan/build/Want-0.29-59/blib/lib:/Users/hornenj/.cpan/build/Mozilla-CA-20180117-36/blib/arch:/Users/hornenj/.cpan/build/Mozilla-CA-20180117-36/blib/lib
    PERL5OPT = 
    PERL5_CPANPLUS_IS_RUNNING = 3217
    PERL5_CPAN_IS_RUNNING = 3217
    PERLBREW_HOME = /Users/hornenj/.perlbrew
    PERLBREW_MANPATH = /Users/hornenj/perl5/perlbrew/perls/perl-5.12.5/man
    PERLBREW_PATH = /Users/hornenj/perl5/perlbrew/bin:/Users/hornenj/perl5/perlbrew/perls/perl-5.12.5/bin
    PERLBREW_PERL = perl-5.12.5
    PERLBREW_ROOT = /Users/hornenj/perl5/perlbrew
    PERLBREW_SHELLRC_VERSION = 0.82
    PERLBREW_VERSION = 0.82
    SHELL = /bin/bash
    TERM = xterm-256color
    TMPDIR = /var/folders/pz/pd7y1qjs6s3cbk170cw50fjc000c61/T/
    VERSIONER_PERL_PREFER_32_BIT = no
    VERSIONER_PERL_VERSION = 5.18

Perl special variables (and OS-specific diagnostics, for MSWin32):

    $^X = /Users/hornenj/perl5/perlbrew/perls/perl-5.12.5/bin/perl
    $UID/$EUID = 12481 / 12481
    $GID = 14 14 5344 37191 527 12 62 98 204 399 206 37223 241 223 100
    $EGID = 14 14 5344 37191 527 12 62 98 204 399 206 37223 241 223 100

Perl module toolchain versions installed:

    Module              Have    
    ------------------- --------
    CPAN                2.16    
    CPAN::Meta          2.150005
    Cwd                 3.47    
    ExtUtils::CBuilder  0.280224
    ExtUtils::Command   7.30    
    ExtUtils::Install   2.06    
    ExtUtils::MakeMaker 7.30    
    ExtUtils::Manifest  1.70    
    ExtUtils::ParseXS   3.30    
    File::Spec          3.47    
    JSON                2.93    
    JSON::PP            2.27400 
    Module::Build       0.4214  
    Module::Signature   n/a     
    Parse::CPAN::Meta   1.4422  
    Test::Harness       3.36    
    Test::More          1.302106
    YAML                1.24    
    YAML::Syck          1.30    
    version             0.9912  


--

Summary of my perl5 (revision 5 version 12 subversion 5) configuration:
   
  Platform:
    osname=darwin, osvers=12.2.1, archname=darwin-2level
    uname='darwin ncbimac2008.ncbi.nlm.nih.gov 12.2.1 darwin kernel version 12.2.1: thu oct 18 12:13:47 pdt 2012; root:xnu-2050.20.9~1release_x86_64 x86_64 '
    config_args='-de -Dprefix=/Users/hornenj/perl5/perlbrew/perls/perl-5.12.5'
    hint=recommended, useposix=true, d_sigaction=define
    useithreads=undef, usemultiplicity=undef
    useperlio=define, d_sfio=undef, uselargefiles=define, usesocks=undef
    use64bitint=define, use64bitall=define, uselongdouble=undef
    usemymalloc=n, bincompat5005=undef
  Compiler:
    cc='cc', ccflags ='-fno-common -DPERL_DARWIN -no-cpp-precomp -fno-strict-aliasing -pipe -fstack-protector',
    optimize='-O3',
    cppflags='-no-cpp-precomp -fno-common -DPERL_DARWIN -no-cpp-precomp -fno-strict-aliasing -pipe -fstack-protector'
    ccversion='', gccversion='4.2.1 Compatible Apple LLVM 4.2 (clang-425.0.24)', gccosandvers=''
    intsize=4, longsize=8, ptrsize=8, doublesize=8, byteorder=12345678
    d_longlong=define, longlongsize=8, d_longdbl=define, longdblsize=16
    ivtype='long', ivsize=8, nvtype='double', nvsize=8, Off_t='off_t', lseeksize=8
    alignbytes=8, prototype=define
  Linker and Libraries:
    ld='env MACOSX_DEPLOYMENT_TARGET=10.3 cc', ldflags =' -fstack-protector'
    libpth=/usr/lib
    libs=-ldbm -ldl -lm -lutil -lc
    perllibs=-ldl -lm -lutil -lc
    libc=, so=dylib, useshrplib=false, libperl=libperl.a
    gnulibc_version=''
  Dynamic Linking:
    dlsrc=dl_dlopen.xs, dlext=bundle, d_dlsymun=undef, ccdlflags=' '
    cccdlflags=' ', lddlflags=' -bundle -undefined dynamic_lookup -fstack-protector'


Characteristics of this binary (from libperl): 
  Compile-time options: PERL_DONT_CREATE_GVSV PERL_MALLOC_WRAP USE_64_BIT_ALL
                        USE_64_BIT_INT USE_LARGE_FILES USE_PERLIO
                        USE_PERL_ATOF
  Built under darwin
  Compiled at Mar  5 2013 11:08:14
  %ENV:
    PERL5LIB="/Users/hornenj/.cpan/build/AnyEvent-HTTP-2.23-44/blib/arch:/Users/hornenj/.cpan/build/AnyEvent-HTTP-2.23-44/blib/lib:/Users/hornenj/.cpan/build/AnyEvent-7.14-41/blib/arch:/Users/hornenj/.cpan/build/AnyEvent-7.14-41/blib/lib:/Users/hornenj/.cpan/build/JSONP-1.83-60/blib/arch:/Users/hornenj/.cpan/build/JSONP-1.83-60/blib/lib:/Users/hornenj/.cpan/build/JSONP-1.82-60/blib/arch:/Users/hornenj/.cpan/build/JSONP-1.82-60/blib/lib:/Users/hornenj/.cpan/build/Want-0.29-59/blib/arch:/Users/hornenj/.cpan/build/Want-0.29-59/blib/lib:/Users/hornenj/.cpan/build/Mozilla-CA-20180117-36/blib/arch:/Users/hornenj/.cpan/build/Mozilla-CA-20180117-36/blib/lib"
    PERL5OPT=""
    PERL5_CPANPLUS_IS_RUNNING="3217"
    PERL5_CPAN_IS_RUNNING="3217"
    PERLBREW_HOME="/Users/hornenj/.perlbrew"
    PERLBREW_MANPATH="/Users/hornenj/perl5/perlbrew/perls/perl-5.12.5/man"
    PERLBREW_PATH="/Users/hornenj/perl5/perlbrew/bin:/Users/hornenj/perl5/perlbrew/perls/perl-5.12.5/bin"
    PERLBREW_PERL="perl-5.12.5"
    PERLBREW_ROOT="/Users/hornenj/perl5/perlbrew"
    PERLBREW_SHELLRC_VERSION="0.82"
    PERLBREW_VERSION="0.82"
  @INC:
    /Users/hornenj/.cpan/build/AnyEvent-HTTP-2.23-44/blib/arch
    /Users/hornenj/.cpan/build/AnyEvent-HTTP-2.23-44/blib/lib
    /Users/hornenj/.cpan/build/AnyEvent-7.14-41/blib/arch
    /Users/hornenj/.cpan/build/AnyEvent-7.14-41/blib/lib
    /Users/hornenj/.cpan/build/JSONP-1.83-60/blib/arch
    /Users/hornenj/.cpan/build/JSONP-1.83-60/blib/lib
    /Users/hornenj/.cpan/build/JSONP-1.82-60/blib/arch
    /Users/hornenj/.cpan/build/JSONP-1.82-60/blib/lib
    /Users/hornenj/.cpan/build/Want-0.29-59/blib/arch
    /Users/hornenj/.cpan/build/Want-0.29-59/blib/lib
    /Users/hornenj/.cpan/build/Mozilla-CA-20180117-36/blib/arch
    /Users/hornenj/.cpan/build/Mozilla-CA-20180117-36/blib/lib
    /Users/hornenj/perl5/perlbrew/perls/perl-5.12.5/lib/site_perl/5.12.5/darwin-2level
    /Users/hornenj/perl5/perlbrew/perls/perl-5.12.5/lib/site_perl/5.12.5
    /Users/hornenj/perl5/perlbrew/perls/perl-5.12.5/lib/5.12.5/darwin-2level
    /Users/hornenj/perl5/perlbrew/perls/perl-5.12.5/lib/5.12.5
    .