HTML-FillInForm-Lite v1.15 Perl 5 v5.8.9 darwin-2level

Status
Pass
From
Neil Bowers
Dist
HTML-FillInForm-Lite v1.15
Platform
Perl 5 v5.8.9 darwin-2level
Date
2021-09-18 00:58:13
ID
806f6764-181b-11ec-93ff-148818c543de
This distribution has been tested as part of the CPAN Testers
project, supporting the Perl programming language.  See
http://wiki.cpantesters.org/ for more information or email
questions to cpan-testers-discuss@perl.org


--
Dear Goro Fuji,

This is a computer-generated report for HTML-FillInForm-Lite-1.15
on perl 5.8.9, created by CPAN-Reporter-1.2018.

Thank you for uploading your work to CPAN.  Congratulations!
All tests were successful.

Sections of this report:

    * Tester comments
    * Program output
    * Prerequisites
    * Environment and other context

------------------------------
TESTER COMMENTS
------------------------------

Additional comments from tester:

none provided

------------------------------
PROGRAM OUTPUT
------------------------------

Output from './Build test':

t/00basic.t .......... ok
CGI::param called in list context from /private/var/root/.cpan/build/HTML-FillInForm-Lite-1.15-AlNItS/blib/lib/HTML/FillInForm/Lite.pm line 372, this can lead to vulnerabilities. See the warning in "Fetching the value or values of a single named parameter" at /usr/local/perl/589/lib/5.8.9/CGI.pm line 414.
t/01input.t .......... ok
t/02select.t ......... ok
t/03textarea.t ....... ok
t/04target.t ......... ok
t/05encoding.t ....... ok
t/07fobj.t ........... ok
t/08select-extra.t ... ok
t/09decode_entity.t .. ok
CGI::param called in list context from /private/var/root/.cpan/build/HTML-FillInForm-Lite-1.15-AlNItS/blib/lib/HTML/FillInForm/Lite.pm line 372, this can lead to vulnerabilities. See the warning in "Fetching the value or values of a single named parameter" at /usr/local/perl/589/lib/5.8.9/CGI.pm line 414.
t/10compat.t ......... ok
t/11html4compat.t .... ok
t/12empty_elem.t ..... ok
t/13simple.t ......... ok
t/14stringobj.t ...... ok
t/15data-attr.t ...... ok
t/16html5.t .......... ok
t/17suffix.t ......... ok
t/99pod.t ............ ok
t/99podcoverage.t .... ok
All tests successful.
Files=19, Tests=300,  2 wallclock secs ( 0.08 usr  0.05 sys +  0.94 cusr  0.26 csys =  1.33 CPU)
Result: PASS

------------------------------
PREREQUISITES
------------------------------

Prerequisite modules loaded:

requires:

    Module              Need     Have    
    ------------------- -------- --------
    perl                5.008001 5.008009

build_requires:

    Module              Need     Have    
    ------------------- -------- --------
    CGI                 0        4.53    
    ExtUtils::MakeMaker 6.59     7.62    
    Test::More          0.62     1.302177
    Test::Requires      0        0.07    

configure_requires:

    Module              Need     Have    
    ------------------- -------- --------
    Module::Build::Tiny 0.035    0.039   


------------------------------
ENVIRONMENT AND OTHER CONTEXT
------------------------------

Environment variables:

    PATH = /usr/local/apache/bin:/usr/local/bin:/opt/local/bin:/usr/local/bin:/usr/bin:/bin:/usr/sbin:/sbin:/Applications/VMware Fusion.app/Contents/Public:/usr/local/go/bin:/opt/X11/bin:/usr/local/git/bin
    PERL5LIB = 
    PERL5OPT = 
    PERL5_CPANPLUS_IS_RUNNING = 11886
    PERL5_CPAN_IS_RUNNING = 11886
    SHELL = /bin/sh
    TERM = xterm

Perl special variables (and OS-specific diagnostics, for MSWin32):

    $^X = /usr/local/perl/589/bin/perl
    $UID/$EUID = 0 / 0
    $GID = 0 0 1 2 3 4 5 8 9 12 20 29 61 80 701 702 33
    $EGID = 0 0 1 2 3 4 5 8 9 12 20 29 61 80 701 702 33

Perl module toolchain versions installed:

    Module              Have    
    ------------------- --------
    CPAN                2.05    
    CPAN::Meta          2.150010
    Cwd                 3.40    
    ExtUtils::CBuilder  0.280216
    ExtUtils::Command   7.62    
    ExtUtils::Install   2.06    
    ExtUtils::MakeMaker 7.62    
    ExtUtils::Manifest  1.70    
    ExtUtils::ParseXS   3.35    
    File::Spec          3.40    
    JSON                2.90    
    JSON::PP            4.06    
    Module::Build       0.4231  
    Module::Signature   n/a     
    Parse::CPAN::Meta   2.150010
    Test::Harness       3.42    
    Test::More          1.302177
    YAML                1.30    
    YAML::Syck          n/a     
    version             0.9929  


--

Summary of my perl5 (revision 5 version 8 subversion 9) configuration:
  Platform:
    osname=darwin, osvers=12.5.0, archname=darwin-2level
    uname='darwin tucumcari.local 12.5.0 darwin kernel version 12.5.0: sun sep 29 13:33:47 pdt 2013; root:xnu-2050.48.12~1release_x86_64 x86_64 '
    config_args='-Dprefix=/usr/local/perl/589'
    hint=recommended, useposix=true, d_sigaction=define
    usethreads=undef use5005threads=undef useithreads=undef usemultiplicity=undef
    useperlio=define d_sfio=undef uselargefiles=define usesocks=undef
    use64bitint=define use64bitall=define uselongdouble=undef
    usemymalloc=n, bincompat5005=undef
  Compiler:
    cc='gcc', ccflags ='-fno-common -DPERL_DARWIN -no-cpp-precomp -fno-strict-aliasing -pipe -I/usr/local/include -I/opt/local/include',
    optimize='-O3',
    cppflags='-no-cpp-precomp -fno-common -DPERL_DARWIN -no-cpp-precomp -fno-strict-aliasing -pipe -I/usr/local/include -I/opt/local/include'
    ccversion='', gccversion='4.2.1 (Based on Apple Inc. build 5658) (LLVM build 2336.11.00)', gccosandvers=''
    intsize=4, longsize=8, ptrsize=8, doublesize=8, byteorder=12345678
    d_longlong=define, longlongsize=8, d_longdbl=define, longdblsize=16
    ivtype='long', ivsize=8, nvtype='double', nvsize=8, Off_t='off_t', lseeksize=8
    alignbytes=8, prototype=define
  Linker and Libraries:
    ld='env MACOSX_DEPLOYMENT_TARGET=10.3 gcc', ldflags =' -L/usr/local/lib -L/opt/local/lib'
    libpth=/usr/local/lib /opt/local/lib /usr/lib
    libs=-lgdbm -ldbm -ldl -lm -lutil -lc
    perllibs=-ldl -lm -lutil -lc
    libc=, so=dylib, useshrplib=false, libperl=libperl.a
    gnulibc_version=''
  Dynamic Linking:
    dlsrc=dl_dlopen.xs, dlext=bundle, d_dlsymun=undef, ccdlflags=' '
    cccdlflags=' ', lddlflags=' -bundle -undefined dynamic_lookup -L/usr/local/lib -L/opt/local/lib'


Characteristics of this binary (from libperl): 
  Compile-time options: PERL_MALLOC_WRAP USE_64_BIT_ALL USE_64_BIT_INT
                        USE_FAST_STDIO USE_LARGE_FILES USE_PERLIO
  Built under darwin
  Compiled at May 14 2014 14:41:40
  %ENV:
    PERL5LIB=""
    PERL5OPT=""
    PERL5_CPANPLUS_IS_RUNNING="11886"
    PERL5_CPAN_IS_RUNNING="11886"
  @INC:
    /usr/local/perl/589/lib/5.8.9/darwin-2level
    /usr/local/perl/589/lib/5.8.9
    /usr/local/perl/589/lib/site_perl/5.8.9/darwin-2level
    /usr/local/perl/589/lib/site_perl/5.8.9
    .