Config-Model-TkUI v1.376 Perl 5 v5.36.0 amd64-freebsd-ld

Status
Pass
From
Slaven Rezić
Dist
Config-Model-TkUI v1.376
Platform
Perl 5 v5.36.0 amd64-freebsd-ld
Date
2022-12-27 15:38:24
ID
7fda797e-85fc-11ed-85db-2f046e8775ea
This distribution has been tested as part of the CPAN Testers
project, supporting the Perl programming language.  See
http://wiki.cpantesters.org/ for more information or email
questions to cpan-testers-discuss@perl.org


--
Dear Dominique Dumont,

This is a computer-generated report for Config-Model-TkUI-1.376
on perl 5.36.0, created by CPAN-Reporter-1.2018.

Thank you for uploading your work to CPAN.  Congratulations!
All tests were successful.

Sections of this report:

    * Tester comments
    * Program output
    * Prerequisites
    * Environment and other context

------------------------------
TESTER COMMENTS
------------------------------

Additional comments from tester:

none provided

------------------------------
PROGRAM OUTPUT
------------------------------

Output from './Build test':

t/author-critic.t ........ skipped: these tests are for testing by the author
Name "Pod::POM::Node::Pod::ATTRIBS" used only once: possible typo at /usr/perl5.36.0Dp/lib/site_perl/5.36.0/Pod/POM/Node.pm line 81.
Name "Pod::POM::Node::Verbatim::EXPECT" used only once: possible typo at /usr/perl5.36.0Dp/lib/site_perl/5.36.0/Pod/POM/Node.pm line 137.
t/config-model-ui.t ...... ok
Name "Pod::POM::Node::Pod::ATTRIBS" used only once: possible typo at /usr/perl5.36.0Dp/lib/site_perl/5.36.0/Pod/POM/Node.pm line 81.
Name "Pod::POM::Node::Verbatim::EXPECT" used only once: possible typo at /usr/perl5.36.0Dp/lib/site_perl/5.36.0/Pod/POM/Node.pm line 137.
t/config-model-wizard.t .. ok
t/filter.t ............... ok
t/pod.t .................. ok
All tests successful.
Files=5, Tests=128, 24 wallclock secs ( 0.03 usr  0.02 sys +  3.62 cusr  0.26 csys =  3.92 CPU)
Result: PASS

------------------------------
PREREQUISITES
------------------------------

Prerequisite modules loaded:

requires:

    Module                        Need  Have     
    ----------------------------- ----- ---------
    Carp                          0     1.52     
    Config::Model                 2.139 2.150    
    Config::Model::ObjTreeScanner 0     2.150    
    File::HomeDir                 0     1.006    
    List::MoreUtils               0     0.430    
    Log::Log4perl                 1.11  1.57     
    Path::Tiny                    0     0.122    
    perl                          5.012 5.036000 
    Pod::POM                      0     2.01     
    Pod::POM::View::Text          0     2.01     
    Scalar::Util                  0     1.63     
    Text::Diff                    0     1.45     
    Text::Wrap                    0     2021.0814
    Tk                            0     804.036  
    Tk::Adjuster                  0     4.008    
    Tk::Balloon                   0     4.013    
    Tk::BrowseEntry               0     4.015    
    Tk::Dialog                    0     4.005    
    Tk::DialogBox                 0     4.016    
    Tk::DirSelect                 0     1.12     
    Tk::DoubleClick               0     0.04     
    Tk::FontDialog                0     0.18     
    Tk::Frame                     0     4.010    
    Tk::Menubutton                0     4.005    
    Tk::NoteBook                  0     4.012    
    Tk::Pane                      0     4.007    
    Tk::Photo                     0     4.006    
    Tk::PNG                       0     4.004    
    Tk::Pod                       0     5.41     
    Tk::Pod::Text                 0     5.32     
    Tk::ROText                    0     4.011    
    Tk::Toplevel                  0     4.006    
    Tk::Tree                      0     4.72     
    Try::Tiny                     0     0.31     
    YAML                          0     1.30     

build_requires:

    Module                        Need  Have     
    ----------------------------- ----- ---------
    Config::Model::Tester::Setup  0     4.007    
    Config::Model::Value          0     2.150    
    Module::Build                 0.34  0.4231   
    Test::Log::Log4perl           0     0.32     
    Test::Memory::Cycle           0     1.06     
    Test::More                    0     1.302191 
    Test::Pod                     1.00  1.52     
    XXX                           0     0.38     
    YAML::XS                      0     0.83     

configure_requires:

    Module                        Need  Have     
    ----------------------------- ----- ---------
    Module::Build                 0.34  0.4231   


------------------------------
ENVIRONMENT AND OTHER CONTEXT
------------------------------

Environment variables:

    PATH = /usr/local/bin:/usr/bin:/bin:/usr/local/sbin:/usr/sbin:/sbin:/home/cpansand/bin/sh:/home/cpansand/bin:/usr/games:/home/cpansand/devel:/usr/home/eserte/src/srezic-misc/scripts
    PERL5LIB = /home/cpansand/.cpan/build/2022122715/Tk-Pod-0.9943-1/blib/arch:/home/cpansand/.cpan/build/2022122715/Tk-Pod-0.9943-1/blib/lib:/home/cpansand/.cpan/build/2022122715/Tk-FontDialog-0.18-1/blib/arch:/home/cpansand/.cpan/build/2022122715/Tk-FontDialog-0.18-1/blib/lib:/home/cpansand/.cpan/build/2022122715/Tk-DoubleClick-0.04-1/blib/arch:/home/cpansand/.cpan/build/2022122715/Tk-DoubleClick-0.04-1/blib/lib:/home/cpansand/.cpan/build/2022122715/Tk-DirSelect-1.12-1/blib/arch:/home/cpansand/.cpan/build/2022122715/Tk-DirSelect-1.12-1/blib/lib
    PERL5OPT = 
    PERL5_CPANPLUS_IS_RUNNING = 71255
    PERL5_CPAN_IS_RUNNING = 71255
    PERL5_CPAN_IS_RUNNING_IN_RECURSION = 70825,71255
    PERL_BATCH = yes
    PERL_CANARY_STABILITY_NOPROMPT = 1
    PERL_CPAN_REPORTER_CONFIG = /var/tmp/cpansmoker-1023/2022122715/cpanreporter_000_config.ini
    PERL_EXTUTILS_AUTOINSTALL = --defaultdeps
    PERL_USE_UNSAFE_INC = 1
    SHELL = /bin/sh
    TMPDIR = /var/tmp/cpansmoker-1023/2022122715

Perl special variables (and OS-specific diagnostics, for MSWin32):

    $^X = /usr/perl5.36.0Dp/bin/perl
    $UID/$EUID = 1023 / 1023
    $GID = 1023 1023
    $EGID = 1023 1023

Perl module toolchain versions installed:

    Module              Have    
    ------------------- --------
    CPAN                2.33    
    CPAN::Meta          2.150010
    Cwd                 3.84    
    ExtUtils::CBuilder  0.280236
    ExtUtils::Command   7.66    
    ExtUtils::Install   2.20    
    ExtUtils::MakeMaker 7.66    
    ExtUtils::Manifest  1.73    
    ExtUtils::ParseXS   3.45    
    File::Spec          3.84    
    JSON                4.09    
    JSON::PP            4.15    
    Module::Build       0.4231  
    Module::Signature   n/a     
    Parse::CPAN::Meta   2.150010
    Test::Harness       3.44    
    Test::More          1.302191
    YAML                1.30    
    YAML::Syck          1.34    
    version             0.9929  


--

Summary of my perl5 (revision 5 version 36 subversion 0) configuration:
   
  Platform:
    osname=freebsd
    osvers=13.1-stable
    archname=amd64-freebsd-ld
    uname='freebsd cloud10.bbbike.org 13.1-stable freebsd 13.1-stable #1 stable13-249d205cb: thu may 5 07:39:11 utc 2022 root@cloud10.bbbike.org:usrobjusrhomeprojectsfreebsd-srcamd64.amd64sysgeneric amd64 '
    config_args='-ds -e -Dprefix=/usr/perl5.36.0Dp -Duselongdouble -Dcf_email=srezic@cpan.org -Doptimize=-O2 -pipe'
    hint=recommended
    useposix=true
    d_sigaction=define
    useithreads=undef
    usemultiplicity=undef
    use64bitint=define
    use64bitall=define
    uselongdouble=define
    usemymalloc=n
    default_inc_excludes_dot=define
  Compiler:
    cc='cc'
    ccflags ='-DHAS_FPSETMASK -DHAS_FLOATINGPOINT_H -fno-strict-aliasing -pipe -fstack-protector-strong -I/usr/local/include'
    optimize='-O2 -pipe'
    cppflags='-DHAS_FPSETMASK -DHAS_FLOATINGPOINT_H -fno-strict-aliasing -pipe -fstack-protector-strong -I/usr/local/include'
    ccversion=''
    gccversion='FreeBSD Clang 13.0.0 (git@github.com:llvm/llvm-project.git llvmorg-13.0.0-0-gd7b669b3a303)'
    gccosandvers=''
    intsize=4
    longsize=8
    ptrsize=8
    doublesize=8
    byteorder=12345678
    doublekind=3
    d_longlong=define
    longlongsize=8
    d_longdbl=define
    longdblsize=16
    longdblkind=3
    ivtype='long'
    ivsize=8
    nvtype='long double'
    nvsize=16
    Off_t='off_t'
    lseeksize=8
    alignbytes=16
    prototype=define
  Linker and Libraries:
    ld='cc'
    ldflags ='-pthread -Wl,-E  -fstack-protector-strong -L/usr/local/lib'
    libpth=/usr/lib /usr/local/lib /usr/lib/clang/13.0.0/lib
    libs=-lpthread -lgdbm -ldl -lm -lcrypt -lutil -lc
    perllibs=-lpthread -ldl -lm -lcrypt -lutil -lc
    libc=
    so=so
    useshrplib=false
    libperl=libperl.a
    gnulibc_version=''
  Dynamic Linking:
    dlsrc=dl_dlopen.xs
    dlext=so
    d_dlsymun=undef
    ccdlflags=' '
    cccdlflags='-DPIC -fPIC'
    lddlflags='-shared  -L/usr/local/lib -fstack-protector-strong'


Characteristics of this binary (from libperl): 
  Compile-time options:
    HAS_TIMES
    PERLIO_LAYERS
    PERL_COPY_ON_WRITE
    PERL_DONT_CREATE_GVSV
    PERL_MALLOC_WRAP
    PERL_OP_PARENT
    PERL_PRESERVE_IVUV
    USE_64_BIT_ALL
    USE_64_BIT_INT
    USE_LARGE_FILES
    USE_LOCALE
    USE_LOCALE_COLLATE
    USE_LOCALE_CTYPE
    USE_LOCALE_NUMERIC
    USE_LOCALE_TIME
    USE_LONG_DOUBLE
    USE_PERLIO
    USE_PERL_ATOF
  Built under freebsd
  Compiled at May 31 2022 04:58:10
  %ENV:
    PERL5LIB="/home/cpansand/.cpan/build/2022122715/Tk-Pod-0.9943-1/blib/arch:/home/cpansand/.cpan/build/2022122715/Tk-Pod-0.9943-1/blib/lib:/home/cpansand/.cpan/build/2022122715/Tk-FontDialog-0.18-1/blib/arch:/home/cpansand/.cpan/build/2022122715/Tk-FontDialog-0.18-1/blib/lib:/home/cpansand/.cpan/build/2022122715/Tk-DoubleClick-0.04-1/blib/arch:/home/cpansand/.cpan/build/2022122715/Tk-DoubleClick-0.04-1/blib/lib:/home/cpansand/.cpan/build/2022122715/Tk-DirSelect-1.12-1/blib/arch:/home/cpansand/.cpan/build/2022122715/Tk-DirSelect-1.12-1/blib/lib"
    PERL5OPT=""
    PERL5_CPANPLUS_IS_RUNNING="71255"
    PERL5_CPAN_IS_RUNNING="71255"
    PERL5_CPAN_IS_RUNNING_IN_RECURSION="70825,71255"
    PERL_BATCH="yes"
    PERL_CANARY_STABILITY_NOPROMPT="1"
    PERL_CPAN_REPORTER_CONFIG="/var/tmp/cpansmoker-1023/2022122715/cpanreporter_000_config.ini"
    PERL_EXTUTILS_AUTOINSTALL="--defaultdeps"
    PERL_USE_UNSAFE_INC="1"
  @INC:
    /home/cpansand/.cpan/build/2022122715/Tk-Pod-0.9943-1/blib/arch
    /home/cpansand/.cpan/build/2022122715/Tk-Pod-0.9943-1/blib/lib
    /home/cpansand/.cpan/build/2022122715/Tk-FontDialog-0.18-1/blib/arch
    /home/cpansand/.cpan/build/2022122715/Tk-FontDialog-0.18-1/blib/lib
    /home/cpansand/.cpan/build/2022122715/Tk-DoubleClick-0.04-1/blib/arch
    /home/cpansand/.cpan/build/2022122715/Tk-DoubleClick-0.04-1/blib/lib
    /home/cpansand/.cpan/build/2022122715/Tk-DirSelect-1.12-1/blib/arch
    /home/cpansand/.cpan/build/2022122715/Tk-DirSelect-1.12-1/blib/lib
    /usr/perl5.36.0Dp/lib/site_perl/5.36.0/amd64-freebsd-ld
    /usr/perl5.36.0Dp/lib/site_perl/5.36.0
    /usr/perl5.36.0Dp/lib/5.36.0/amd64-freebsd-ld
    /usr/perl5.36.0Dp/lib/5.36.0
    .