Geo-JSON v0.007 Perl 5 v5.14.0 x86_64-linux-thread-multi

Status
Pass
From
Nigel Horne
Dist
Geo-JSON v0.007
Platform
Perl 5 v5.14.0 x86_64-linux-thread-multi
Date
2018-08-16 09:26:47
ID
7fcfd51e-a136-11e8-ac4b-91e1574f9e0a
This distribution has been tested as part of the CPAN Testers
project, supporting the Perl programming language.  See
http://wiki.cpantesters.org/ for more information or email
questions to cpan-testers-discuss@perl.org


--
Dear Michael Jemmeson,

This is a computer-generated report for Geo-JSON-0.007
on perl 5.14.0, created by CPAN-Reporter-1.2018.

Thank you for uploading your work to CPAN.  Congratulations!
All tests were successful.

Sections of this report:

    * Tester comments
    * Program output
    * Prerequisites
    * Environment and other context

------------------------------
TESTER COMMENTS
------------------------------

Additional comments from tester:

this report is from an automated smoke testing program
and was not reviewed by a human for accuracy

------------------------------
PROGRAM OUTPUT
------------------------------

Output from './Build test':

t/crs.t ................. ok
t/feature.t ............. ok
t/feature_collection.t .. ok
t/json.t ................ ok
t/object.t .............. ok
t/release-pod-syntax.t .. skipped: these tests are for release candidate testing
t/samples.t ............. ok
t/types.t ............... ok
t/utils.t ............... ok
All tests successful.
Files=9, Tests=224,  2 wallclock secs ( 0.05 usr  0.01 sys +  1.05 cusr  0.10 csys =  1.21 CPU)
Result: PASS

------------------------------
PREREQUISITES
------------------------------

Prerequisite modules loaded:

requires:

    Module                Need     Have    
    --------------------- -------- --------
    base                  0        2.18    
    Carp                  0        1.32    
    constant              0        1.27    
    Exporter              0        5.68    
    JSON                  0        2.97001 
    List::Util            0        1.35    
    Moo                   1.004003 2.003004
    Moo::Role             0        2.003004
    perl                  5.008    5.014000
    strict                0        1.04    
    Type::Library         0        1.004002
    Type::Utils           0        1.004002
    Types::Standard       0        1.004002
    warnings              0        1.12    

build_requires:

    Module                Need     Have    
    --------------------- -------- --------
    Class::Load           0        0.20    
    ExtUtils::MakeMaker   0        7.34    
    File::Spec::Functions 0        3.74    
    lib                   0        0.63    
    Path::Class           0        0.33    
    Test::Fatal           0        0.014   
    Test::More            0        1.302136
    Test::Most            0        0.35    

configure_requires:

    Module                Need     Have    
    --------------------- -------- --------
    ExtUtils::MakeMaker   6.17     7.34    
    Module::Build::Tiny   0.039    0.039   


------------------------------
ENVIRONMENT AND OTHER CONTEXT
------------------------------

Environment variables:

    AUTOMATED_TESTING = 1
    LANG = en_GB.UTF-8
    LANGUAGE = en_GB:en
    PATH = /home/njh/perl5/perlbrew/bin:/home/njh/perl5/perlbrew/perls/perl-5.14.0/bin:/home/njh/perl5/perlbrew/bin:/usr/bin:/bin
    PERL5LIB = /home/njh/.cpan/build/Type-Tiny-1.004002-12/blib/arch:/home/njh/.cpan/build/Type-Tiny-1.004002-12/blib/lib:/home/njh/.cpan/build/Exporter-Tiny-1.002001-9/blib/arch:/home/njh/.cpan/build/Exporter-Tiny-1.002001-9/blib/lib:/home/njh/.cpan/build/Moo-2.003004-2/blib/arch:/home/njh/.cpan/build/Moo-2.003004-2/blib/lib:/home/njh/.cpan/build/Sub-Quote-2.005001-2/blib/arch:/home/njh/.cpan/build/Sub-Quote-2.005001-2/blib/lib:/home/njh/.cpan/build/Role-Tiny-2.000006-0/blib/arch:/home/njh/.cpan/build/Role-Tiny-2.000006-0/blib/lib:/home/njh/.cpan/build/Module-Runtime-0.016-2/blib/arch:/home/njh/.cpan/build/Module-Runtime-0.016-2/blib/lib
    PERL5OPT = 
    PERL5_CPANPLUS_IS_RUNNING = 24630
    PERL5_CPAN_IS_RUNNING = 24630
    PERL5_MINISMOKEBOX = 0.68
    PERLBREW_LIB = 
    PERLBREW_MANPATH = /home/njh/perl5/perlbrew/perls/perl-5.14.0/man
    PERLBREW_PATH = /home/njh/perl5/perlbrew/bin:/home/njh/perl5/perlbrew/perls/perl-5.14.0/bin
    PERLBREW_PERL = perl-5.14.0
    PERLBREW_ROOT = /home/njh/perl5/perlbrew
    PERLBREW_SHELLRC_VERSION = 0.82
    PERLBREW_VERSION = 0.82
    PERL_EXTUTILS_AUTOINSTALL = --defaultdeps
    PERL_LOCAL_LIB_ROOT = 
    PERL_MM_USE_DEFAULT = 1
    SHELL = /bin/sh
    TEMP = /tmp/user/1000
    TMPDIR = /tmp/user/1000

Perl special variables (and OS-specific diagnostics, for MSWin32):

    $^X = /home/njh/perl5/perlbrew/perls/perl-5.14.0/bin/perl
    $UID/$EUID = 1000 / 1000
    $GID = 1000 4 24 25 29 30 44 46 108 112 1000
    $EGID = 1000 4 24 25 29 30 44 46 108 112 1000

Perl module toolchain versions installed:

    Module              Have    
    ------------------- --------
    CPAN                2.16    
    CPAN::Meta          2.150005
    Cwd                 3.74    
    ExtUtils::CBuilder  0.280216
    ExtUtils::Command   7.34    
    ExtUtils::Install   2.06    
    ExtUtils::MakeMaker 7.34    
    ExtUtils::Manifest  1.70    
    ExtUtils::ParseXS   3.30    
    File::Spec          3.74    
    JSON                2.97001 
    JSON::PP            2.27400 
    Module::Build       0.4206  
    Module::Signature   0.73    
    Parse::CPAN::Meta   1.4422  
    Test::Harness       3.36    
    Test::More          1.302136
    YAML                1.26    
    YAML::Syck          1.30    
    version             0.9904  


--

Summary of my perl5 (revision 5 version 14 subversion 0) configuration:
   
  Platform:
    osname=linux, osvers=3.2.0-4-amd64, archname=x86_64-linux-thread-multi
    uname='linux nigelhorne.force9.co.uk 3.2.0-4-amd64 #1 smp debian 3.2.32-1 x86_64 gnulinux '
    config_args='-de -Dprefix=/home/njh/perl5/perlbrew/perls/perl-5.14.0 -Duseithreads -Dusemultiplicity -Accflags=-O2 -W -Wformat=2 -Wswitch -Wshadow -Wwrite-strings -Wuninitialized -Wall -pipe -mtune=native -march=native -fomit-frame-pointer -msse2 -msse -mmmx -mfpmath=sse -pedantic -D_FORTIFY_SOURCE=2 -Wpointer-arith -Wstrict-prototypes -fstack-protector -Wstack-protector -Wextra -Wbad-function-cast -Wcast-align -Wcast-qual -Wdisabled-optimization -Wendif-labels -Wfloat-equal -Wformat-nonliteral -Winline -Wmissing-declarations -Wmissing-prototypes -Wnested-externs -Wpointer-arith -Wundef -Wformat-security -ftree-vectorize -fassociative-math -ftree-vectorizer-verbose=2 -Aeval:scriptdir=/home/njh/perl5/perlbrew/perls/perl-5.14.0/bin'
    hint=recommended, useposix=true, d_sigaction=define
    useithreads=define, usemultiplicity=define
    useperlio=define, d_sfio=undef, uselargefiles=define, usesocks=undef
    use64bitint=define, use64bitall=define, uselongdouble=undef
    usemymalloc=n, bincompat5005=undef
  Compiler:
    cc='cc', ccflags ='-D_REENTRANT -D_GNU_SOURCE -O2 -W -Wformat=2 -Wswitch -Wshadow -Wwrite-strings -Wuninitialized -Wall -pipe -mtune=native -march=native -fomit-frame-pointer -msse2 -msse -mmmx -mfpmath=sse -pedantic -D_FORTIFY_SOURCE=2 -Wpointer-arith -Wstrict-prototypes -fstack-protector -Wstack-protector -Wextra -Wbad-function-cast -Wcast-align -Wcast-qual -Wdisabled-optimization -Wendif-labels -Wfloat-equal -Wformat-nonliteral -Winline -Wmissing-declarations -Wmissing-prototypes -Wnested-externs -Wpointer-arith -Wundef -Wformat-security -ftree-vectorize -fassociative-math -ftree-vectorizer-verbose=2 -fno-strict-aliasing -I/usr/local/include -D_LARGEFILE_SOURCE -D_FILE_OFFSET_BITS=64',
    optimize='-O2',
    cppflags='-D_REENTRANT -D_GNU_SOURCE -O2 -W -Wformat=2 -Wswitch -Wshadow -Wwrite-strings -Wuninitialized -Wall -pipe -mtune=native -march=native -fomit-frame-pointer -msse2 -msse -mmmx -mfpmath=sse -pedantic -D_FORTIFY_SOURCE=2 -Wpointer-arith -Wstrict-prototypes -fstack-protector -Wstack-protector -Wextra -Wbad-function-cast -Wcast-align -Wcast-qual -Wdisabled-optimization -Wendif-labels -Wfloat-equal -Wformat-nonliteral -Winline -Wmissing-declarations -Wmissing-prototypes -Wnested-externs -Wpointer-arith -Wundef -Wformat-security -ftree-vectorize -fassociative-math -ftree-vectorizer-verbose=2 -fno-strict-aliasing -I/usr/local/include'
    ccversion='', gccversion='4.7.2', gccosandvers=''
    intsize=4, longsize=8, ptrsize=8, doublesize=8, byteorder=12345678
    d_longlong=define, longlongsize=8, d_longdbl=define, longdblsize=16
    ivtype='long', ivsize=8, nvtype='double', nvsize=8, Off_t='off_t', lseeksize=8
    alignbytes=8, prototype=define
  Linker and Libraries:
    ld='cc', ldflags =' -fstack-protector -L/usr/local/lib'
    libpth=/usr/local/lib /lib/x86_64-linux-gnu /lib/../lib /usr/lib/x86_64-linux-gnu /usr/lib/../lib /lib /usr/lib
    libs=-lnsl -lgdbm -ldb -ldl -lm -lcrypt -lutil -lpthread -lc -lgdbm_compat
    perllibs=-lnsl -ldl -lm -lcrypt -lutil -lpthread -lc
    libc=, so=so, useshrplib=false, libperl=libperl.a
    gnulibc_version='2.13'
  Dynamic Linking:
    dlsrc=dl_dlopen.xs, dlext=so, d_dlsymun=undef, ccdlflags='-Wl,-E'
    cccdlflags='-fPIC', lddlflags='-shared -O2 -L/usr/local/lib -fstack-protector'


Characteristics of this binary (from libperl): 
  Compile-time options: MULTIPLICITY PERL_DONT_CREATE_GVSV
                        PERL_IMPLICIT_CONTEXT PERL_MALLOC_WRAP
                        PERL_PRESERVE_IVUV USE_64_BIT_ALL USE_64_BIT_INT
                        USE_ITHREADS USE_LARGE_FILES USE_PERLIO USE_PERL_ATOF
                        USE_REENTRANT_API
  Built under linux
  Compiled at Mar 18 2013 16:05:13
  %ENV:
    PERL5LIB="/home/njh/.cpan/build/Type-Tiny-1.004002-12/blib/arch:/home/njh/.cpan/build/Type-Tiny-1.004002-12/blib/lib:/home/njh/.cpan/build/Exporter-Tiny-1.002001-9/blib/arch:/home/njh/.cpan/build/Exporter-Tiny-1.002001-9/blib/lib:/home/njh/.cpan/build/Moo-2.003004-2/blib/arch:/home/njh/.cpan/build/Moo-2.003004-2/blib/lib:/home/njh/.cpan/build/Sub-Quote-2.005001-2/blib/arch:/home/njh/.cpan/build/Sub-Quote-2.005001-2/blib/lib:/home/njh/.cpan/build/Role-Tiny-2.000006-0/blib/arch:/home/njh/.cpan/build/Role-Tiny-2.000006-0/blib/lib:/home/njh/.cpan/build/Module-Runtime-0.016-2/blib/arch:/home/njh/.cpan/build/Module-Runtime-0.016-2/blib/lib"
    PERL5OPT=""
    PERL5_CPANPLUS_IS_RUNNING="24630"
    PERL5_CPAN_IS_RUNNING="24630"
    PERL5_MINISMOKEBOX="0.68"
    PERLBREW_LIB=""
    PERLBREW_MANPATH="/home/njh/perl5/perlbrew/perls/perl-5.14.0/man"
    PERLBREW_PATH="/home/njh/perl5/perlbrew/bin:/home/njh/perl5/perlbrew/perls/perl-5.14.0/bin"
    PERLBREW_PERL="perl-5.14.0"
    PERLBREW_ROOT="/home/njh/perl5/perlbrew"
    PERLBREW_SHELLRC_VERSION="0.82"
    PERLBREW_VERSION="0.82"
    PERL_EXTUTILS_AUTOINSTALL="--defaultdeps"
    PERL_LOCAL_LIB_ROOT=""
    PERL_MM_USE_DEFAULT="1"
  @INC:
    /home/njh/.cpan/build/Type-Tiny-1.004002-12/blib/arch
    /home/njh/.cpan/build/Type-Tiny-1.004002-12/blib/lib
    /home/njh/.cpan/build/Exporter-Tiny-1.002001-9/blib/arch
    /home/njh/.cpan/build/Exporter-Tiny-1.002001-9/blib/lib
    /home/njh/.cpan/build/Moo-2.003004-2/blib/arch
    /home/njh/.cpan/build/Moo-2.003004-2/blib/lib
    /home/njh/.cpan/build/Sub-Quote-2.005001-2/blib/arch
    /home/njh/.cpan/build/Sub-Quote-2.005001-2/blib/lib
    /home/njh/.cpan/build/Role-Tiny-2.000006-0/blib/arch
    /home/njh/.cpan/build/Role-Tiny-2.000006-0/blib/lib
    /home/njh/.cpan/build/Module-Runtime-0.016-2/blib/arch
    /home/njh/.cpan/build/Module-Runtime-0.016-2/blib/lib
    /home/njh/perl5/perlbrew/perls/perl-5.14.0/lib/site_perl/5.14.0/x86_64-linux-thread-multi
    /home/njh/perl5/perlbrew/perls/perl-5.14.0/lib/site_perl/5.14.0
    /home/njh/perl5/perlbrew/perls/perl-5.14.0/lib/5.14.0/x86_64-linux-thread-multi
    /home/njh/perl5/perlbrew/perls/perl-5.14.0/lib/5.14.0
    .