Try-Tiny-Retry v0.004 Perl 5 v5.20.2 x86_64-linux-thread-multi

Status
Pass
From
Nigel Horne
Dist
Try-Tiny-Retry v0.004
Platform
Perl 5 v5.20.2 x86_64-linux-thread-multi
Date
2018-01-30 10:29:48
ID
7fa5a4a8-05a8-11e8-af2b-acaf1d79aee4
This distribution has been tested as part of the CPAN Testers
project, supporting the Perl programming language.  See
http://wiki.cpantesters.org/ for more information or email
questions to cpan-testers-discuss@perl.org


--
Dear David Golden,

This is a computer-generated report for Try-Tiny-Retry-0.004
on perl 5.20.2, created by CPAN-Reporter-1.2018.

Thank you for uploading your work to CPAN.  Congratulations!
All tests were successful.

Sections of this report:

    * Tester comments
    * Program output
    * Prerequisites
    * Environment and other context

------------------------------
TESTER COMMENTS
------------------------------

Additional comments from tester:

this report is from an automated smoke testing program
and was not reviewed by a human for accuracy

------------------------------
PROGRAM OUTPUT
------------------------------

Output from '/usr/bin/make test':

PERL_DL_NONLAZY=1 "/home/njh/perl5/perlbrew/perls/perl-5.20.2/bin/perl5.20.2" "-MExtUtils::Command::MM" "-MTest::Harness" "-e" "undef *Test::Harness::Switches; test_harness(0, 'blib/lib', 'blib/arch')" t/*.t
t/api.t ................ ok
t/basic.t .............. ok
t/conditional.t ........ ok
# 
# Versions for all modules listed in MYMETA.json (including optional ones):
#    Version Module                  
#   -------- ------------------------
#   2.150005 CPAN::Meta              
#      2.131 CPAN::Meta::Requirements
#     1.3301 Carp                    
#       5.71 Exporter                
#       7.18 ExtUtils::MakeMaker     
#    3.48_01 File::Spec::Functions   
#       1.48 List::Util              
#   1.302120 Test::More              
#     1.9726 Time::HiRes             
#       0.22 Try::Tiny               
#      0.228 parent                  
#       1.08 strict                  
#     0.9909 version                 
#       1.23 warnings                
t/00-report-prereqs.t .. ok
t/context.t ............ ok
t/delay.t .............. ok
All tests successful.
Files=6, Tests=13,  0 wallclock secs ( 0.05 usr  0.00 sys +  0.58 cusr  0.07 csys =  0.70 CPU)
Result: PASS

------------------------------
PREREQUISITES
------------------------------

Prerequisite modules loaded:

requires:

    Module                Need Have    
    --------------------- ---- --------
    Carp                  0    1.3301  
    Exporter              0    5.71    
    parent                0    0.228   
    strict                0    1.08    
    Time::HiRes           0    1.9726  
    Try::Tiny             0    0.22    
    warnings              0    1.23    

build_requires:

    Module                Need Have    
    --------------------- ---- --------
    ExtUtils::MakeMaker   0    7.18    
    File::Spec::Functions 0    3.48_01 
    List::Util            0    1.48    
    Test::More            0.96 1.302120
    version               0    0.9909  

configure_requires:

    Module                Need Have    
    --------------------- ---- --------
    ExtUtils::MakeMaker   6.17 7.18    


------------------------------
ENVIRONMENT AND OTHER CONTEXT
------------------------------

Environment variables:

    AUTOMATED_TESTING = 1
    HARNESS_OPTIONS = j2
    LANG = en_US.UTF-8
    PATH = /home/njh/perl5/perlbrew/bin:/home/njh/perl5/perlbrew/perls/perl-5.20.2/bin:src/njh/smoker/bin:/usr/bin:/bin
    PERL5LIB = /home/njh/.cpan/build/IO-Async-0.71-1/blib/arch:/home/njh/.cpan/build/IO-Async-0.71-1/blib/lib:/home/njh/.cpan/build/Struct-Dumb-0.09-1/blib/arch:/home/njh/.cpan/build/Struct-Dumb-0.09-1/blib/lib:/home/njh/.cpan/build/Future-0.38-1/blib/arch:/home/njh/.cpan/build/Future-0.38-1/blib/lib:/home/njh/.cpan/build/Test-Refcount-0.08-1/blib/arch:/home/njh/.cpan/build/Test-Refcount-0.08-1/blib/lib:/home/njh/.cpan/build/Test-Identity-0.01-1/blib/arch:/home/njh/.cpan/build/Test-Identity-0.01-1/blib/lib:/home/njh/.cpan/build/Cpanel-JSON-XS-3.0239-1/blib/arch:/home/njh/.cpan/build/Cpanel-JSON-XS-3.0239-1/blib/lib:/home/njh/.cpan/build/Test2-Tools-JSON-0.03-23/blib/arch:/home/njh/.cpan/build/Test2-Tools-JSON-0.03-23/blib/lib:/home/njh/.cpan/build/Test2-Suite-0.000097-23/blib/arch:/home/njh/.cpan/build/Test2-Suite-0.000097-23/blib/lib:/home/njh/.cpan/build/Test-Simple-1.302120-23/blib/arch:/home/njh/.cpan/build/Test-Simple-1.302120-23/blib/lib:/home/njh/.cpan/build/Scope-Guard-0.21-15/blib/arch:/home/njh/.cpan/build/Scope-Guard-0.21-15/blib/lib
    PERL5OPT = 
    PERL5_CPANPLUS_IS_RUNNING = 8150
    PERL5_CPAN_IS_RUNNING = 8150
    PERLBREW_BASHRC_VERSION = 0.75
    PERLBREW_HOME = /home/njh/.perlbrew
    PERLBREW_MANPATH = /home/njh/perl5/perlbrew/perls/perl-5.20.2/man
    PERLBREW_PATH = /home/njh/perl5/perlbrew/bin:/home/njh/perl5/perlbrew/perls/perl-5.20.2/bin
    PERLBREW_PERL = perl-5.20.2
    PERLBREW_ROOT = /home/njh/perl5/perlbrew
    PERLBREW_VERSION = 0.75
    SHELL = /bin/sh

Perl special variables (and OS-specific diagnostics, for MSWin32):

    $^X = /home/njh/perl5/perlbrew/perls/perl-5.20.2/bin/perl5.20.2
    $UID/$EUID = 1000 / 1000
    $GID = 1000 4 24 25 29 30 44 46 103 108 115 123 1000
    $EGID = 1000 4 24 25 29 30 44 46 103 108 115 123 1000

Perl module toolchain versions installed:

    Module              Have    
    ------------------- --------
    CPAN                2.16    
    CPAN::Meta          2.150005
    Cwd                 3.48_01 
    ExtUtils::CBuilder  0.280220
    ExtUtils::Command   7.18    
    ExtUtils::Install   1.67    
    ExtUtils::MakeMaker 7.18    
    ExtUtils::Manifest  1.70    
    ExtUtils::ParseXS   3.24    
    File::Spec          3.48_01 
    JSON                2.90    
    JSON::PP            2.27400 
    Module::Build       0.4211  
    Module::Signature   n/a     
    Parse::CPAN::Meta   1.4422  
    Test::Harness       3.35    
    Test::More          1.302120
    YAML                1.23    
    YAML::Syck          1.30    
    version             0.9909  


--

Summary of my perl5 (revision 5 version 20 subversion 2) configuration:
   
  Platform:
    osname=linux, osvers=3.16.0-4-amd64, archname=x86_64-linux-thread-multi
    uname='linux amelia 3.16.0-4-amd64 #1 smp debian 3.16.7-ckt4-3 (2015-02-03) x86_64 gnulinux '
    config_args='-de -Dprefix=/home/njh/perl5/perlbrew/perls/perl-5.20.2 -Duseithreads -Dusemultiplicity -Dusedevel -Accflags= -Aeval:scriptdir=/home/njh/perl5/perlbrew/perls/perl-5.20.2/bin'
    hint=recommended, useposix=true, d_sigaction=define
    useithreads=define, usemultiplicity=define
    use64bitint=define, use64bitall=define, uselongdouble=undef
    usemymalloc=n, bincompat5005=undef
  Compiler:
    cc='cc', ccflags ='-D_REENTRANT -D_GNU_SOURCE -fwrapv -fno-strict-aliasing -pipe -fstack-protector -I/usr/local/include -D_LARGEFILE_SOURCE -D_FILE_OFFSET_BITS=64',
    optimize='-O2',
    cppflags='-D_REENTRANT -D_GNU_SOURCE -fwrapv -fno-strict-aliasing -pipe -fstack-protector -I/usr/local/include'
    ccversion='', gccversion='4.9.2', gccosandvers=''
    intsize=4, longsize=8, ptrsize=8, doublesize=8, byteorder=12345678
    d_longlong=define, longlongsize=8, d_longdbl=define, longdblsize=16
    ivtype='long', ivsize=8, nvtype='double', nvsize=8, Off_t='off_t', lseeksize=8
    alignbytes=8, prototype=define
  Linker and Libraries:
    ld='cc', ldflags =' -fstack-protector -L/usr/local/lib'
    libpth=/usr/local/lib /usr/lib/gcc/x86_64-linux-gnu/4.9/include-fixed /usr/include/x86_64-linux-gnu /usr/lib /lib/x86_64-linux-gnu /lib/../lib /usr/lib/x86_64-linux-gnu /usr/lib/../lib /lib
    libs=-lnsl -lgdbm -ldb -ldl -lm -lcrypt -lutil -lpthread -lc -lgdbm_compat
    perllibs=-lnsl -ldl -lm -lcrypt -lutil -lpthread -lc
    libc=libc-2.19.so, so=so, useshrplib=false, libperl=libperl.a
    gnulibc_version='2.19'
  Dynamic Linking:
    dlsrc=dl_dlopen.xs, dlext=so, d_dlsymun=undef, ccdlflags='-Wl,-E'
    cccdlflags='-fPIC', lddlflags='-shared -O2 -L/usr/local/lib -fstack-protector'


Characteristics of this binary (from libperl): 
  Compile-time options: HAS_TIMES MULTIPLICITY PERLIO_LAYERS
                        PERL_DONT_CREATE_GVSV
                        PERL_HASH_FUNC_ONE_AT_A_TIME_HARD
                        PERL_IMPLICIT_CONTEXT PERL_MALLOC_WRAP
                        PERL_NEW_COPY_ON_WRITE PERL_PRESERVE_IVUV
                        PERL_USE_DEVEL USE_64_BIT_ALL USE_64_BIT_INT
                        USE_ITHREADS USE_LARGE_FILES USE_LOCALE
                        USE_LOCALE_COLLATE USE_LOCALE_CTYPE
                        USE_LOCALE_NUMERIC USE_PERLIO USE_PERL_ATOF
                        USE_REENTRANT_API
  Built under linux
  Compiled at Mar  1 2015 00:34:09
  %ENV:
    PERL5LIB="/home/njh/.cpan/build/IO-Async-0.71-1/blib/arch:/home/njh/.cpan/build/IO-Async-0.71-1/blib/lib:/home/njh/.cpan/build/Struct-Dumb-0.09-1/blib/arch:/home/njh/.cpan/build/Struct-Dumb-0.09-1/blib/lib:/home/njh/.cpan/build/Future-0.38-1/blib/arch:/home/njh/.cpan/build/Future-0.38-1/blib/lib:/home/njh/.cpan/build/Test-Refcount-0.08-1/blib/arch:/home/njh/.cpan/build/Test-Refcount-0.08-1/blib/lib:/home/njh/.cpan/build/Test-Identity-0.01-1/blib/arch:/home/njh/.cpan/build/Test-Identity-0.01-1/blib/lib:/home/njh/.cpan/build/Cpanel-JSON-XS-3.0239-1/blib/arch:/home/njh/.cpan/build/Cpanel-JSON-XS-3.0239-1/blib/lib:/home/njh/.cpan/build/Test2-Tools-JSON-0.03-23/blib/arch:/home/njh/.cpan/build/Test2-Tools-JSON-0.03-23/blib/lib:/home/njh/.cpan/build/Test2-Suite-0.000097-23/blib/arch:/home/njh/.cpan/build/Test2-Suite-0.000097-23/blib/lib:/home/njh/.cpan/build/Test-Simple-1.302120-23/blib/arch:/home/njh/.cpan/build/Test-Simple-1.302120-23/blib/lib:/home/njh/.cpan/build/Scope-Guard-0.21-15/blib/arch:/home/njh/.cpan/build/Scope-Guard-0.21-15/blib/lib"
    PERL5OPT=""
    PERL5_CPANPLUS_IS_RUNNING="8150"
    PERL5_CPAN_IS_RUNNING="8150"
    PERLBREW_BASHRC_VERSION="0.75"
    PERLBREW_HOME="/home/njh/.perlbrew"
    PERLBREW_MANPATH="/home/njh/perl5/perlbrew/perls/perl-5.20.2/man"
    PERLBREW_PATH="/home/njh/perl5/perlbrew/bin:/home/njh/perl5/perlbrew/perls/perl-5.20.2/bin"
    PERLBREW_PERL="perl-5.20.2"
    PERLBREW_ROOT="/home/njh/perl5/perlbrew"
    PERLBREW_VERSION="0.75"
  @INC:
    /home/njh/.cpan/build/IO-Async-0.71-1/blib/arch
    /home/njh/.cpan/build/IO-Async-0.71-1/blib/lib
    /home/njh/.cpan/build/Struct-Dumb-0.09-1/blib/arch
    /home/njh/.cpan/build/Struct-Dumb-0.09-1/blib/lib
    /home/njh/.cpan/build/Future-0.38-1/blib/arch
    /home/njh/.cpan/build/Future-0.38-1/blib/lib
    /home/njh/.cpan/build/Test-Refcount-0.08-1/blib/arch
    /home/njh/.cpan/build/Test-Refcount-0.08-1/blib/lib
    /home/njh/.cpan/build/Test-Identity-0.01-1/blib/arch
    /home/njh/.cpan/build/Test-Identity-0.01-1/blib/lib
    /home/njh/.cpan/build/Cpanel-JSON-XS-3.0239-1/blib/arch
    /home/njh/.cpan/build/Cpanel-JSON-XS-3.0239-1/blib/lib
    /home/njh/.cpan/build/Test2-Tools-JSON-0.03-23/blib/arch
    /home/njh/.cpan/build/Test2-Tools-JSON-0.03-23/blib/lib
    /home/njh/.cpan/build/Test2-Suite-0.000097-23/blib/arch
    /home/njh/.cpan/build/Test2-Suite-0.000097-23/blib/lib
    /home/njh/.cpan/build/Test-Simple-1.302120-23/blib/arch
    /home/njh/.cpan/build/Test-Simple-1.302120-23/blib/lib
    /home/njh/.cpan/build/Scope-Guard-0.21-15/blib/arch
    /home/njh/.cpan/build/Scope-Guard-0.21-15/blib/lib
    /home/njh/perl5/perlbrew/perls/perl-5.20.2/lib/site_perl/5.20.2/x86_64-linux-thread-multi
    /home/njh/perl5/perlbrew/perls/perl-5.20.2/lib/site_perl/5.20.2
    /home/njh/perl5/perlbrew/perls/perl-5.20.2/lib/5.20.2/x86_64-linux-thread-multi
    /home/njh/perl5/perlbrew/perls/perl-5.20.2/lib/5.20.2
    .