Back
From: metabase:user:30ae4450-2aae-11df-837a-5e0a49663a4f
Subject: PASS HTTP-MobileAttribute-0.23 v5.8.9
Date: 2012-11-26T00:52:10Z
This distribution has been tested as part of the CPAN Testers
project, supporting the Perl programming language. See
http://wiki.cpantesters.org/ for more information or email
questions to cpan-testers-discuss@perl.org
--
Dear Tokuhiro Matsuno,
This is a computer-generated report for HTTP-MobileAttribute-0.23
on perl 5.8.9, created by CPAN-Reporter-1.2006.
Thank you for uploading your work to CPAN. Congratulations!
All tests were successful.
Sections of this report:
* Tester comments
* Program output
* Prerequisites
* Environment and other context
------------------------------
TESTER COMMENTS
------------------------------
Additional comments from tester:
this report is from an automated smoke testing program
and was not reviewed by a human for accuracy
------------------------------
PROGRAM OUTPUT
------------------------------
Output from 'C:\strawberry\c\bin\dmake.EXE test':
C:\strawberry\perl\bin\perl.exe "-MExtUtils::Command::MM" "-e" "test_harness(0, 'inc', 'blib\lib', 'blib\arch')" t/*.t t/Plugins/*.t t/*/*/*.t
t/00_compile.t .............................. ok
t/01_carrier_detect.t ....................... ok
t/01_request.t .............................. ok
t/02_docomo.t ............................... ok
t/03_j_phone.t .............................. ok
t/04_ezweb.t ................................ ok
t/06_nonmobile.t ............................ ok
t/07_airh.t ................................. ok
t/09_vodafone_3gc.t ......................... ok
t/10_softbank.t ............................. ok
t/11_softbank_base.t ........................ ok
t/12_no_match.t ............................. ok
t/Plugins/CIDR-base.t ....................... skipped: Net::CIDR::MobileJP is not installed.
t/Plugins/CIDR-setter.t ..................... skipped: Net::CIDR::MobileJP is not installed.
t/Plugins/CIDR-yaml.t ....................... skipped: Net::CIDR::MobileJP is not installed.
t/Plugins/Display.t ......................... ok
t/Plugins/DoCoMo/Browser.t .................. ok
t/Plugins/Encoding.t ........................ ok
t/Plugins/GPS-gps_compliant.t ............... ok
THIS METHOD IS OBSOLETE. DO NOT USE THIS. at C:\strawberry\cpan\build\HTTP-MobileAttribute-0.23-LO87ii\blib\lib/HTTP/MobileAttribute/Plugin/GPS.pm line 13, <DATA> line 1.
THIS METHOD IS OBSOLETE. DO NOT USE THIS. at C:\strawberry\cpan\build\HTTP-MobileAttribute-0.23-LO87ii\blib\lib/HTTP/MobileAttribute/Plugin/GPS.pm line 13, <DATA> line 1.
t/Plugins/GPS-is_gps.t ...................... ok
t/Plugins/Locator/00.load.t ................. ok
t/Plugins/Locator/01.get_location.t ......... skipped: this module requires Geo::Coordinates::Converter && Geo::Coordinates::Converter::iArea
t/Plugins/Locator/02.gps_comliant.t ......... skipped: this module requires Geo::Coordinates::Converter && Geo::Coordinates::Converter::iArea
t/Plugins/Locator/03.non_mobile.t ........... skipped: this module requires Geo::Coordinates::Converter && Geo::Coordinates::Converter::iArea
t/Plugins/Locator/04.apache_params.t ........ skipped: this module requires Geo::Coordinates::Converter && Geo::Coordinates::Converter::iArea
t/Plugins/Locator/05.cgi_params.t ........... skipped: this module requires Geo::Coordinates::Converter && Geo::Coordinates::Converter::iArea
t/Plugins/Locator/06.hashref_params.t ....... skipped: this module requires Geo::Coordinates::Converter && Geo::Coordinates::Converter::iArea
t/Plugins/Locator/07.gps_parameter.t ........ skipped: this module requires Geo::Coordinates::Converter && Geo::Coordinates::Converter::iArea
t/Plugins/Locator/08.regression-params.t .... skipped: this module requires Geo::Coordinates::Converter && Geo::Coordinates::Converter::iArea
t/Plugins/Locator/09.get_carrier_locator.t .. skipped: this module requires Geo::Coordinates::Converter && Geo::Coordinates::Converter::iArea
t/Plugins/UserID-base.t ..................... ok
t/Plugins/UserID-fallback-card.t ............ ok
t/Plugins/UserID-fallback.t ................. ok
t/Plugins/UserID-supports_user_id.t ......... ok
All tests successful.
Files=34, Tests=2753, 9 wallclock secs ( 0.38 usr + 0.09 sys = 0.47 CPU)
Result: PASS
------------------------------
PREREQUISITES
------------------------------
Prerequisite modules loaded:
requires:
Module Need Have
------------------- -------- --------
Class::Component 0.17 0.17
Filter::Util::Call 0 1.08
perl 5.008001 5.008009
UNIVERSAL::require 0.13 0.13
build_requires:
Module Need Have
------------------- -------- --------
ExtUtils::MakeMaker 6.42 6.62
YAML 0 0.71
configure_requires:
Module Need Have
------------------- -------- --------
ExtUtils::MakeMaker 6.42 6.62
------------------------------
ENVIRONMENT AND OTHER CONTEXT
------------------------------
Environment variables:
AUTOMATED_TESTING = 1
COMSPEC = C:\WINDOWS.0\system32\cmd.exe
INCLUDE = ;C:\strawberry\c\include;C:\strawberry\perl\lib\CORE
LIB = ;C:\strawberry\c\lib;C:\strawberry\perl\bin
NUMBER_OF_PROCESSORS = 1
PATH = C:\WINDOWS.0\system32;C:\WINDOWS.0;C:\WINDOWS.0\System32\Wbem;C:\strawberry\c\bin;C:\strawberry\perl\bin;C:\strawberry\perl\site\bin
PERL5LIB = C:\strawberry\cpan\build\Class-Component-0.17-3x9EQJ/blib/arch;C:\strawberry\cpan\build\Class-Component-0.17-3x9EQJ/blib/lib;C:\strawberry\cpan\build\HTTP-Session-0.46-qkg3Up/blib/arch;C:\strawberry\cpan\build\HTTP-Session-0.46-qkg3Up/blib/lib
PERL5OPT =
PERL5_CPANPLUS_IS_RUNNING = 1908
PERL5_CPAN_IS_RUNNING = 1908
PERL5_CPAN_IS_RUNNING_IN_RECURSION = 1500,1908
PERL_CR_SMOKER_CURRENT = HTTP-Session-State-MobileAttributeID-0.41
PERL_EXTUTILS_AUTOINSTALL = --defaultdeps
PERL_MM_USE_DEFAULT = 1
PROCESSOR_IDENTIFIER = x86 Family 16 Model 5 Stepping 3, AuthenticAMD
TEMP = C:\DOCUME~1\Admin\LOCALS~1\Temp
TERM = dumb
Perl special variables (and OS-specific diagnostics, for MSWin32):
$^X = C:\strawberry\perl\bin\perl.exe
$UID/$EUID = 0 / 0
$GID = 0
$EGID = 0
Win32::GetOSName = WinXP/.Net
Win32::GetOSVersion = Service Pack 2, 5, 1, 2600, 2, 2, 0, 256, 1
Win32::FsType = NTFS
Win32::IsAdminUser = 1
Perl module toolchain versions installed:
Module Have
------------------- --------
CPAN 1.9800
CPAN::Meta 2.120921
Cwd 3.33
ExtUtils::CBuilder 0.2703
ExtUtils::Command 1.16
ExtUtils::Install 1.54
ExtUtils::MakeMaker 6.62
ExtUtils::Manifest 1.58
ExtUtils::ParseXS 2.2205
File::Spec 3.33
JSON 2.21
JSON::PP 2.27200
Module::Build 0.4003
Module::Signature 0.63
Parse::CPAN::Meta 1.4404
Test::Harness 3.25
Test::More 0.98
YAML 0.71
YAML::Syck 1.21
version 0.9901
--
Summary of my perl5 (revision 5 version 8 subversion 9) configuration:
Platform:
osname=MSWin32, osvers=5.1, archname=MSWin32-x86-multi-thread
uname='Win32 strawberryperl 5.8.9.5 #1 Wed Apr 28 11:51:06 2010 i386'
config_args='undef'
hint=recommended, useposix=true, d_sigaction=undef
usethreads=define use5005threads=undef useithreads=define usemultiplicity=define
useperlio=define d_sfio=undef uselargefiles=define usesocks=undef
use64bitint=undef use64bitall=undef uselongdouble=undef
usemymalloc=n, bincompat5005=undef
Compiler:
cc='gcc', ccflags =' -s -O2 -DWIN32 -DHAVE_DES_FCRYPT -DUSE_SITECUSTOMIZE -DPERL_IMPLICIT_CONTEXT -DPERL_IMPLICIT_SYS -fno-strict-aliasing -DPERL_MSVCRT_READFIX',
optimize='-s -O2',
cppflags='-DWIN32'
ccversion='', gccversion='3.4.5', gccosandvers=''
intsize=4, longsize=4, ptrsize=4, doublesize=8, byteorder=1234
d_longlong=undef, longlongsize=8, d_longdbl=define, longdblsize=12
ivtype='long', ivsize=4, nvtype='double', nvsize=8, Off_t='long long', lseeksize=8
alignbytes=8, prototype=define
Linker and Libraries:
ld='g++', ldflags ='-s -L"C:\strawberry\perl\lib\CORE" -L"C:\strawberry\c\lib"'
libpth=C:\strawberry\c\lib
libs= -lmsvcrt -lmoldname -lkernel32 -luser32 -lgdi32 -lwinspool -lcomdlg32 -ladvapi32 -lshell32 -lole32 -loleaut32 -lnetapi32 -luuid -lws2_32 -lmpr -lwinmm -lversion -lodbc32 -lodbccp32
perllibs= -lmsvcrt -lmoldname -lkernel32 -luser32 -lgdi32 -lwinspool -lcomdlg32 -ladvapi32 -lshell32 -lole32 -loleaut32 -lnetapi32 -luuid -lws2_32 -lmpr -lwinmm -lversion -lodbc32 -lodbccp32
libc=-lmsvcrt, so=dll, useshrplib=true, libperl=libperl58.a
gnulibc_version=''
Dynamic Linking:
dlsrc=dl_win32.xs, dlext=dll, d_dlsymun=undef, ccdlflags=' '
cccdlflags=' ', lddlflags='-mdll -s -L"C:\strawberry\perl\lib\CORE" -L"C:\strawberry\c\lib"'
Characteristics of this binary (from libperl):
Compile-time options: MULTIPLICITY PERL_IMPLICIT_CONTEXT PERL_IMPLICIT_SYS
PERL_MALLOC_WRAP PL_OP_SLAB_ALLOC USE_FAST_STDIO
USE_ITHREADS USE_LARGE_FILES USE_PERLIO
USE_SITECUSTOMIZE
Built under MSWin32
Compiled at Apr 28 2010 11:57:55
%ENV:
PERL5LIB="C:\strawberry\cpan\build\Class-Component-0.17-3x9EQJ/blib/arch;C:\strawberry\cpan\build\Class-Component-0.17-3x9EQJ/blib/lib;C:\strawberry\cpan\build\HTTP-Session-0.46-qkg3Up/blib/arch;C:\strawberry\cpan\build\HTTP-Session-0.46-qkg3Up/blib/lib"
PERL5_CPANPLUS_IS_RUNNING="1908"
PERL5_CPAN_IS_RUNNING="1908"
PERL5_CPAN_IS_RUNNING_IN_RECURSION="1500,1908"
PERL_CR_SMOKER_CURRENT="HTTP-Session-State-MobileAttributeID-0.41"
PERL_EXTUTILS_AUTOINSTALL="--defaultdeps"
PERL_MM_USE_DEFAULT="1"
@INC:
C:\strawberry\cpan\build\Class-Component-0.17-3x9EQJ/blib/arch
C:\strawberry\cpan\build\Class-Component-0.17-3x9EQJ/blib/lib
C:\strawberry\cpan\build\HTTP-Session-0.46-qkg3Up/blib/arch
C:\strawberry\cpan\build\HTTP-Session-0.46-qkg3Up/blib/lib
C:/strawberry/perl/lib
C:/strawberry/perl/site/lib
C:\strawberry\perl\vendor\lib
.