Back
From: metabase:user:30f4dfbe-2aae-11df-837a-5e0a49663a4f
Subject: PASS Hash-AutoHash-AVPairsMulti-1.17 v5.14.2 GNU/Linux
Date: 2013-10-06T16:51:08Z
This distribution has been tested as part of the CPAN Testers
project, supporting the Perl programming language.  See
http://wiki.cpantesters.org/ for more information or email
questions to cpan-testers-discuss@perl.org
--
Dear Nathan Goodman,
This is a computer-generated report for Hash-AutoHash-AVPairsMulti-1.17
on perl 5.14.2, created by CPAN-Reporter-1.2010.
Thank you for uploading your work to CPAN.  Congratulations!
All tests were successful.
Sections of this report:
    * Tester comments
    * Program output
    * Prerequisites
    * Environment and other context
------------------------------
TESTER COMMENTS
------------------------------
Additional comments from tester:
this report is from an automated smoke testing program
and was not reviewed by a human for accuracy
------------------------------
PROGRAM OUTPUT
------------------------------
Output from './Build test':
# Testing Hash::AutoHash::AVPairsMulti 1.17, Perl 5.014002, /home/njh/perl5/perlbrew/perls/perl-5.14.2/bin/perl
t/avp_multi.000.code_exists.t .... ok
t/avp_multi.001.boilerplate.t .... ok
t/avp_multi.002.pod.t ............ ok
t/avp_multi.010.basics.t ......... ok
t/avp_multi.020.class_methods.t .. ok
t/avp_multi.020.special_keys.t ... ok
t/avp_multi.020.universal.t ...... ok
t/avp_multi.030.functions.t ...... ok
t/avp_multi.031.alias.t .......... ok
t/avp_multi.031.tied.t ........... ok
t/avp_multi.032.filter.t ......... ok
t/avp_multi.032.unique.t ......... ok
t/avp_multi.099.docs.t ........... ok
All tests successful.
Files=13, Tests=457,  1 wallclock secs ( 0.07 usr  0.00 sys +  0.82 cusr  0.01 csys =  0.90 CPU)
Result: PASS
------------------------------
PREREQUISITES
------------------------------
Prerequisite modules loaded:
requires:
    Module                      Need   Have  
    --------------------------- ------ ------
    Carp                        1.2    1.32  
    Cwd                         3.4    3.40  
    Exporter                    5.68   5.68  
    Hash::AutoHash              1.17   1.17  
    Hash::AutoHash::MultiValued 1.17   1.17  
    List::MoreUtils             0.33   0.33  
    List::Util                  1.32   1.32  
    Tie::Hash                   1.04   1.04  
    Tie::ToObject               0.03   0.03  
    XSLoader                    0.16   0.16  
build_requires:
    Module                      Need   Have  
    --------------------------- ------ ------
    Carp                        1.2    1.32  
    Exporter                    5.68   5.68  
    File::Spec                  3.4    3.40  
    Hash::AutoHash              1.17   1.17  
    List::MoreUtils             0.33   0.33  
    Test::Deep                  0.11   0.110 
    Test::More                  0.98   0.98  
    Test::Pod                   1.48   1.48  
    Test::Pod::Content          v0.0.6 0.0.6 
configure_requires:
    Module                      Need   Have  
    --------------------------- ------ ------
    Module::Build               0.4007 0.4007
------------------------------
ENVIRONMENT AND OTHER CONTEXT
------------------------------
Environment variables:
    AUTOMATED_TESTING = 1
    LANG = en_GB.UTF-8
    LANGUAGE = en_GB:en
    LD_LIBRARY_PATH = /usr/local/lib::
    PATH = /home/njh/perl5/perlbrew/bin:/home/njh/perl5/perlbrew/perls/perl-5.14.2/bin:/home/njh/perl5/perlbrew/bin:/usr/local/bin:/usr/bin:/bin:/usr/local/games:/usr/games:/home/njh/bin:/sbin
    PERL5LIB = /home/njh/.cpan/build/Hash-AutoHash-MultiValued-1.17-lFmIZX/blib/arch:/home/njh/.cpan/build/Hash-AutoHash-MultiValued-1.17-lFmIZX/blib/lib:/home/njh/.cpan/build/Hash-AutoHash-1.17-YnXNox/blib/arch:/home/njh/.cpan/build/Hash-AutoHash-1.17-YnXNox/blib/lib:/home/njh/.cpan/build/Tie-Hash-MultiValue-1.02-NWVxKB/blib/arch:/home/njh/.cpan/build/Tie-Hash-MultiValue-1.02-NWVxKB/blib/lib:/home/njh/.cpan/build/Tie-ToObject-0.03-rQR9go/blib/arch:/home/njh/.cpan/build/Tie-ToObject-0.03-rQR9go/blib/lib
    PERL5OPT = 
    PERL5_CPANPLUS_IS_RUNNING = 18763
    PERL5_CPAN_IS_RUNNING = 18763
    PERL5_MINISMOKEBOX = 0.56
    PERLBREW_BASHRC_VERSION = 0.58
    PERLBREW_HOME = /home/njh/.perlbrew
    PERLBREW_MANPATH = /home/njh/perl5/perlbrew/perls/perl-5.14.2/man
    PERLBREW_PATH = /home/njh/perl5/perlbrew/bin:/home/njh/perl5/perlbrew/perls/perl-5.14.2/bin
    PERLBREW_PERL = perl-5.14.2
    PERLBREW_ROOT = /home/njh/perl5/perlbrew
    PERLBREW_VERSION = 0.66
    PERL_EXTUTILS_AUTOINSTALL = --defaultdeps
    PERL_MM_USE_DEFAULT = 1
    SHELL = /bin/bash
    TERM = linux
Perl special variables (and OS-specific diagnostics, for MSWin32):
    $^X = /home/njh/perl5/perlbrew/perls/perl-5.14.2/bin/perl
    $UID/$EUID = 1000 / 1000
    $GID = 1000 24 25 29 30 44 46 108 112 1000
    $EGID = 1000 24 25 29 30 44 46 108 112 1000
Perl module toolchain versions installed:
    Module              Have    
    ------------------- --------
    CPAN                2.00    
    CPAN::Meta          2.132661
    Cwd                 3.40    
    ExtUtils::CBuilder  0.280212
    ExtUtils::Command   1.18    
    ExtUtils::Install   1.56    
    ExtUtils::MakeMaker 6.78    
    ExtUtils::Manifest  1.63    
    ExtUtils::ParseXS   3.22    
    File::Spec          3.40    
    JSON                2.59    
    JSON::PP            2.27202 
    Module::Build       0.4007  
    Module::Signature   0.73    
    Parse::CPAN::Meta   1.4409  
    Test::Harness       3.28    
    Test::More          0.98    
    YAML                0.84    
    YAML::Syck          1.27    
    version             0.9904  
--
Summary of my perl5 (revision 5 version 14 subversion 2) configuration:
   
  Platform:
    osname=linux, osvers=3.2.0-4-amd64, archname=x86_64-linux-thread-multi
    uname='linux nigelhorne.force9.co.uk 3.2.0-4-amd64 #1 smp debian 3.2.32-1 x86_64 gnulinux '
    config_args='-de -Dprefix=/home/njh/perl5/perlbrew/perls/perl-5.14.2 -Duseithreads -Dusemultiplicity -Accflags=-O2 -W -Wformat=2 -Wswitch -Wshadow -Wwrite-strings -Wuninitialized -Wall -pipe -mtune=native -march=native -fomit-frame-pointer -msse2 -msse -mmmx -mfpmath=sse -pedantic -D_FORTIFY_SOURCE=2 -Wpointer-arith -Wstrict-prototypes -fstack-protector -Wstack-protector -Wextra -Wbad-function-cast -Wcast-align -Wcast-qual -Wdisabled-optimization -Wendif-labels -Wfloat-equal -Wformat-nonliteral -Winline -Wmissing-declarations -Wmissing-prototypes -Wnested-externs -Wpointer-arith -Wundef -Wformat-security -ftree-vectorize -fassociative-math -ftree-vectorizer-verbose=2 -Aeval:scriptdir=/home/njh/perl5/perlbrew/perls/perl-5.14.2/bin'
    hint=recommended, useposix=true, d_sigaction=define
    useithreads=define, usemultiplicity=define
    useperlio=define, d_sfio=undef, uselargefiles=define, usesocks=undef
    use64bitint=define, use64bitall=define, uselongdouble=undef
    usemymalloc=n, bincompat5005=undef
  Compiler:
    cc='cc', ccflags ='-D_REENTRANT -D_GNU_SOURCE -O2 -W -Wformat=2 -Wswitch -Wshadow -Wwrite-strings -Wuninitialized -Wall -pipe -mtune=native -march=native -fomit-frame-pointer -msse2 -msse -mmmx -mfpmath=sse -pedantic -D_FORTIFY_SOURCE=2 -Wpointer-arith -Wstrict-prototypes -fstack-protector -Wstack-protector -Wextra -Wbad-function-cast -Wcast-align -Wcast-qual -Wdisabled-optimization -Wendif-labels -Wfloat-equal -Wformat-nonliteral -Winline -Wmissing-declarations -Wmissing-prototypes -Wnested-externs -Wpointer-arith -Wundef -Wformat-security -ftree-vectorize -fassociative-math -ftree-vectorizer-verbose=2 -fno-strict-aliasing -I/usr/local/include -D_LARGEFILE_SOURCE -D_FILE_OFFSET_BITS=64',
    optimize='-O2',
    cppflags='-D_REENTRANT -D_GNU_SOURCE -O2 -W -Wformat=2 -Wswitch -Wshadow -Wwrite-strings -Wuninitialized -Wall -pipe -mtune=native -march=native -fomit-frame-pointer -msse2 -msse -mmmx -mfpmath=sse -pedantic -D_FORTIFY_SOURCE=2 -Wpointer-arith -Wstrict-prototypes -fstack-protector -Wstack-protector -Wextra -Wbad-function-cast -Wcast-align -Wcast-qual -Wdisabled-optimization -Wendif-labels -Wfloat-equal -Wformat-nonliteral -Winline -Wmissing-declarations -Wmissing-prototypes -Wnested-externs -Wpointer-arith -Wundef -Wformat-security -ftree-vectorize -fassociative-math -ftree-vectorizer-verbose=2 -fno-strict-aliasing -I/usr/local/include'
    ccversion='', gccversion='4.7.2', gccosandvers=''
    intsize=4, longsize=8, ptrsize=8, doublesize=8, byteorder=12345678
    d_longlong=define, longlongsize=8, d_longdbl=define, longdblsize=16
    ivtype='long', ivsize=8, nvtype='double', nvsize=8, Off_t='off_t', lseeksize=8
    alignbytes=8, prototype=define
  Linker and Libraries:
    ld='cc', ldflags =' -fstack-protector -L/usr/local/lib'
    libpth=/usr/local/lib /lib/x86_64-linux-gnu /lib/../lib /usr/lib/x86_64-linux-gnu /usr/lib/../lib /lib /usr/lib
    libs=-lnsl -lgdbm -ldb -ldl -lm -lcrypt -lutil -lpthread -lc -lgdbm_compat
    perllibs=-lnsl -ldl -lm -lcrypt -lutil -lpthread -lc
    libc=, so=so, useshrplib=false, libperl=libperl.a
    gnulibc_version='2.13'
  Dynamic Linking:
    dlsrc=dl_dlopen.xs, dlext=so, d_dlsymun=undef, ccdlflags='-Wl,-E'
    cccdlflags='-fPIC', lddlflags='-shared -O2 -L/usr/local/lib -fstack-protector'
Characteristics of this binary (from libperl): 
  Compile-time options: MULTIPLICITY PERL_DONT_CREATE_GVSV
                        PERL_IMPLICIT_CONTEXT PERL_MALLOC_WRAP
                        PERL_PRESERVE_IVUV USE_64_BIT_ALL USE_64_BIT_INT
                        USE_ITHREADS USE_LARGE_FILES USE_PERLIO USE_PERL_ATOF
                        USE_REENTRANT_API
  Built under linux
  Compiled at Mar 14 2013 13:54:53
  %ENV:
    PERL5LIB="/home/njh/.cpan/build/Hash-AutoHash-MultiValued-1.17-lFmIZX/blib/arch:/home/njh/.cpan/build/Hash-AutoHash-MultiValued-1.17-lFmIZX/blib/lib:/home/njh/.cpan/build/Hash-AutoHash-1.17-YnXNox/blib/arch:/home/njh/.cpan/build/Hash-AutoHash-1.17-YnXNox/blib/lib:/home/njh/.cpan/build/Tie-Hash-MultiValue-1.02-NWVxKB/blib/arch:/home/njh/.cpan/build/Tie-Hash-MultiValue-1.02-NWVxKB/blib/lib:/home/njh/.cpan/build/Tie-ToObject-0.03-rQR9go/blib/arch:/home/njh/.cpan/build/Tie-ToObject-0.03-rQR9go/blib/lib"
    PERL5OPT=""
    PERL5_CPANPLUS_IS_RUNNING="18763"
    PERL5_CPAN_IS_RUNNING="18763"
    PERL5_MINISMOKEBOX="0.56"
    PERLBREW_BASHRC_VERSION="0.58"
    PERLBREW_HOME="/home/njh/.perlbrew"
    PERLBREW_MANPATH="/home/njh/perl5/perlbrew/perls/perl-5.14.2/man"
    PERLBREW_PATH="/home/njh/perl5/perlbrew/bin:/home/njh/perl5/perlbrew/perls/perl-5.14.2/bin"
    PERLBREW_PERL="perl-5.14.2"
    PERLBREW_ROOT="/home/njh/perl5/perlbrew"
    PERLBREW_VERSION="0.66"
    PERL_EXTUTILS_AUTOINSTALL="--defaultdeps"
    PERL_MM_USE_DEFAULT="1"
  @INC:
    /home/njh/.cpan/build/Hash-AutoHash-MultiValued-1.17-lFmIZX/blib/arch
    /home/njh/.cpan/build/Hash-AutoHash-MultiValued-1.17-lFmIZX/blib/lib
    /home/njh/.cpan/build/Hash-AutoHash-1.17-YnXNox/blib/arch
    /home/njh/.cpan/build/Hash-AutoHash-1.17-YnXNox/blib/lib
    /home/njh/.cpan/build/Tie-Hash-MultiValue-1.02-NWVxKB/blib/arch
    /home/njh/.cpan/build/Tie-Hash-MultiValue-1.02-NWVxKB/blib/lib
    /home/njh/.cpan/build/Tie-ToObject-0.03-rQR9go/blib/arch
    /home/njh/.cpan/build/Tie-ToObject-0.03-rQR9go/blib/lib
    /home/njh/perl5/perlbrew/perls/perl-5.14.2/lib/site_perl/5.14.2/x86_64-linux-thread-multi
    /home/njh/perl5/perlbrew/perls/perl-5.14.2/lib/site_perl/5.14.2
    /home/njh/perl5/perlbrew/perls/perl-5.14.2/lib/5.14.2/x86_64-linux-thread-multi
    /home/njh/perl5/perlbrew/perls/perl-5.14.2/lib/5.14.2
    .