HTML-FillInForm-Lite v1.15 Perl 5 v5.22.4 arm-freebsd

Status
Pass
From
Nigel Horne
Dist
HTML-FillInForm-Lite v1.15
Platform
Perl 5 v5.22.4 arm-freebsd
Date
2018-07-26 06:31:15
ID
7f288272-909d-11e8-8fb1-ef5133556b3f
This distribution has been tested as part of the CPAN Testers
project, supporting the Perl programming language.  See
http://wiki.cpantesters.org/ for more information or email
questions to cpan-testers-discuss@perl.org


--
Dear Goro Fuji,

This is a computer-generated report for HTML-FillInForm-Lite-1.15
on perl 5.22.4, created by CPAN-Reporter-1.2018.

Thank you for uploading your work to CPAN.  Congratulations!
All tests were successful.

Sections of this report:

    * Tester comments
    * Program output
    * Prerequisites
    * Environment and other context

------------------------------
TESTER COMMENTS
------------------------------

Additional comments from tester:

this report is from an automated smoke testing program
and was not reviewed by a human for accuracy

------------------------------
PROGRAM OUTPUT
------------------------------

Output from './Build test':

t/00basic.t .......... ok
t/02select.t ......... ok
t/03textarea.t ....... ok
CGI::param called in list context from /var/tmp/build/HTML-FillInForm-Lite-1.15-0/blib/lib/HTML/FillInForm/Lite.pm line 373, this can lead to vulnerabilities. See the warning in "Fetching the value or values of a single named parameter" at /home/njh/perl5/perlbrew/perls/perl-5.22.4/lib/site_perl/5.22.4/CGI.pm line 412.
t/05encoding.t ....... ok
t/01input.t .......... ok
t/04target.t ......... ok
t/07fobj.t ........... ok
t/09decode_entity.t .. ok
t/08select-extra.t ... ok
t/11html4compat.t .... ok
CGI::param called in list context from /var/tmp/build/HTML-FillInForm-Lite-1.15-0/blib/lib/HTML/FillInForm/Lite.pm line 373, this can lead to vulnerabilities. See the warning in "Fetching the value or values of a single named parameter" at /home/njh/perl5/perlbrew/perls/perl-5.22.4/lib/site_perl/5.22.4/CGI.pm line 412.
t/10compat.t ......... ok
t/12empty_elem.t ..... ok
t/13simple.t ......... ok
t/14stringobj.t ...... ok
t/15data-attr.t ...... ok
t/17suffix.t ......... ok
t/16html5.t .......... ok
t/99podcoverage.t .... ok
t/99pod.t ............ ok
All tests successful.
Files=19, Tests=300,  9 wallclock secs ( 1.16 usr  0.36 sys + 21.53 cusr  5.20 csys = 28.25 CPU)
Result: PASS

------------------------------
PREREQUISITES
------------------------------

Prerequisite modules loaded:

requires:

    Module              Need     Have    
    ------------------- -------- --------
    perl                5.008001 5.022004

build_requires:

    Module              Need     Have    
    ------------------- -------- --------
    CGI                 0        4.38    
    ExtUtils::MakeMaker 6.59     7.04_02 
    Test::More          0.62     1.302136
    Test::Requires      0        0.10    

configure_requires:

    Module              Need     Have    
    ------------------- -------- --------
    Module::Build::Tiny 0.035    0.039   


------------------------------
ENVIRONMENT AND OTHER CONTEXT
------------------------------

Environment variables:

    AUTOMATED_TESTING = 1
    HARNESS_OPTIONS = j4
    PATH = /home/njh/perl5/perlbrew/bin:/home/njh/perl5/perlbrew/perls/perl-5.22.4/bin:/usr/local/bin:/bin:/usr/bin:src/njh/smoker/bin
    PERL5LIB = 
    PERL5OPT = 
    PERL5_CPANPLUS_IS_RUNNING = 10442
    PERL5_CPAN_IS_RUNNING = 10442
    PERLBREW_HOME = /home/njh/.perlbrew
    PERLBREW_MANPATH = /home/njh/perl5/perlbrew/perls/perl-5.22.4/man
    PERLBREW_PATH = /home/njh/perl5/perlbrew/bin:/home/njh/perl5/perlbrew/perls/perl-5.22.4/bin
    PERLBREW_PERL = perl-5.22.4
    PERLBREW_ROOT = /home/njh/perl5/perlbrew
    PERLBREW_SHELLRC_VERSION = 0.84
    PERLBREW_VERSION = 0.84
    SHELL = /bin/sh
    TMPDIR = /tmp/testwrapper.10430

Perl special variables (and OS-specific diagnostics, for MSWin32):

    $^X = /mnt/nas/home/pi2b/njh/perl5/perlbrew/perls/perl-5.22.4/bin/perl
    $UID/$EUID = 1000 / 1000
    $GID = 1000 1000 0
    $EGID = 1000 1000 0

Perl module toolchain versions installed:

    Module              Have      
    ------------------- ----------
    CPAN                2.16      
    CPAN::Meta          2.150001  
    Cwd                 3.74      
    ExtUtils::CBuilder  0.280221  
    ExtUtils::Command   1.20_01   
    ExtUtils::Install   2.04      
    ExtUtils::MakeMaker 7.04_02   
    ExtUtils::Manifest  1.70      
    ExtUtils::ParseXS   3.28      
    File::Spec          3.74      
    JSON                2.97001   
    JSON::PP            2.27300_01
    Module::Build       0.4224    
    Module::Signature   n/a       
    Parse::CPAN::Meta   1.4414_001
    Test::Harness       3.35_01   
    Test::More          1.302136  
    YAML                1.26      
    YAML::Syck          1.30      
    version             0.9909    


--

Summary of my perl5 (revision 5 version 22 subversion 4) configuration:
   
  Platform:
    osname=freebsd, osvers=11.1-stable, archname=arm-freebsd
    uname='freebsd pi2b.bandsman.co.uk 11.1-stable freebsd 11.1-stable #0 r330605: wed mar 7 18:50:15 utc 2018 root@releng2.nyi.freebsd.org:usrobjarm.armv6usrsrcsysrpi2 arm '
    config_args='-des'
    hint=previous, useposix=true, d_sigaction=define
    useithreads=undef, usemultiplicity=undef
    use64bitint=undef, use64bitall=undef, uselongdouble=undef
    usemymalloc=n, bincompat5005=undef
  Compiler:
    cc='cc', ccflags ='-DHAS_FPSETMASK -DHAS_FLOATINGPOINT_H -fno-strict-aliasing -pipe -fstack-protector-strong -I/usr/local/include -D_FORTIFY_SOURCE=2',
    optimize='-O',
    cppflags='-DHAS_FPSETMASK -DHAS_FLOATINGPOINT_H -fno-strict-aliasing -pipe -fstack-protector-strong -I/usr/local/include -DHAS_FPSETMASK -DHAS_FLOATINGPOINT_H -fno-strict-aliasing -pipe -fstack-protector-strong -I/usr/local/include -D_FORTIFY_SOURCE=2 -DHAS_FPSETMASK -DHAS_FLOATINGPOINT_H -fno-strict-aliasing -pipe -fstack-protector-strong -I/usr/local/include -D_FORTIFY_SOURCE=2'
    ccversion='', gccversion='4.2.1 Compatible FreeBSD Clang 5.0.1 (tags/RELEASE_501/final 320880)', gccosandvers=''
    intsize=4, longsize=4, ptrsize=4, doublesize=8, byteorder=1234, doublekind=3
    d_longlong=define, longlongsize=8, d_longdbl=define, longdblsize=8, longdblkind=0
    ivtype='long', ivsize=4, nvtype='double', nvsize=8, Off_t='off_t', lseeksize=8
    alignbytes=8, prototype=define
  Linker and Libraries:
    ld='cc', ldflags ='-Wl,-E  -fstack-protector-strong -L/usr/local/lib'
    libpth=/usr/lib /usr/local/lib /usr/lib/clang/5.0.1/lib /usr/lib /usr/lib/clang/5.0.1/lib /usr/lib /usr/lib/clang/5.0.1/lib /usr/lib
    libs=-lpthread -lm -lcrypt -lutil -lc
    perllibs=-lpthread -lm -lcrypt -lutil -lc
    libc=, so=so, useshrplib=false, libperl=libperl.a
    gnulibc_version=''
  Dynamic Linking:
    dlsrc=dl_dlopen.xs, dlext=so, d_dlsymun=undef, ccdlflags=' '
    cccdlflags='-DPIC -fPIC', lddlflags='-shared  -L/usr/local/lib -fstack-protector-strong'


Characteristics of this binary (from libperl): 
  Compile-time options: HAS_TIMES PERLIO_LAYERS PERL_DONT_CREATE_GVSV
                        PERL_HASH_FUNC_ONE_AT_A_TIME_HARD PERL_MALLOC_WRAP
                        PERL_NEW_COPY_ON_WRITE PERL_PRESERVE_IVUV
                        USE_LARGE_FILES USE_LOCALE USE_LOCALE_COLLATE
                        USE_LOCALE_CTYPE USE_LOCALE_NUMERIC USE_LOCALE_TIME
                        USE_PERLIO USE_PERL_ATOF
  Locally applied patches:
	Devel::PatchPerl 1.38
  Built under freebsd
  Compiled at Jun  5 2018 09:26:05
  %ENV:
    PERL5LIB=""
    PERL5OPT=""
    PERL5_CPANPLUS_IS_RUNNING="10442"
    PERL5_CPAN_IS_RUNNING="10442"
    PERLBREW_HOME="/home/njh/.perlbrew"
    PERLBREW_MANPATH="/home/njh/perl5/perlbrew/perls/perl-5.22.4/man"
    PERLBREW_PATH="/home/njh/perl5/perlbrew/bin:/home/njh/perl5/perlbrew/perls/perl-5.22.4/bin"
    PERLBREW_PERL="perl-5.22.4"
    PERLBREW_ROOT="/home/njh/perl5/perlbrew"
    PERLBREW_SHELLRC_VERSION="0.84"
    PERLBREW_VERSION="0.84"
  @INC:
    /home/njh/perl5/perlbrew/perls/perl-5.22.4/lib/site_perl/5.22.4/arm-freebsd
    /home/njh/perl5/perlbrew/perls/perl-5.22.4/lib/site_perl/5.22.4
    /home/njh/perl5/perlbrew/perls/perl-5.22.4/lib/5.22.4/arm-freebsd
    /home/njh/perl5/perlbrew/perls/perl-5.22.4/lib/5.22.4
    .