Text-Amuse-Preprocessor v0.65 Perl 5 v5.26.0 amd64-freebsd

Status
Pass
From
Slaven Rezić
Dist
Text-Amuse-Preprocessor v0.65
Platform
Perl 5 v5.26.0 amd64-freebsd
Date
2021-11-20 09:59:05
ID
7efbdcf6-49e8-11ec-bc3e-a8231f24ea8f
This distribution has been tested as part of the CPAN Testers
project, supporting the Perl programming language.  See
http://wiki.cpantesters.org/ for more information or email
questions to cpan-testers-discuss@perl.org


--
Dear Marco Pessotto,

This is a computer-generated report for Text-Amuse-Preprocessor-0.65
on perl 5.26.0, created by CPAN-Reporter-1.2018.

Thank you for uploading your work to CPAN.  Congratulations!
All tests were successful.

Sections of this report:

    * Tester comments
    * Program output
    * Prerequisites
    * Environment and other context

------------------------------
TESTER COMMENTS
------------------------------

Additional comments from tester:

none provided

------------------------------
PROGRAM OUTPUT
------------------------------

Output from '/usr/bin/make test':

PERL_DL_NONLAZY=1 "/usr/perl5.26.0p/bin/perl" "-MExtUtils::Command::MM" "-MTest::Harness" "-e" "undef *Test::Harness::Switches; test_harness(0, 'blib/lib', 'blib/arch')" t/*.t
# Testing Text::Amuse::Preprocessor 0.65, Perl 5.026000, /usr/perl5.26.0p/bin/perl
t/00-load.t ........... ok
t/changes.t ........... skipped: Changes testing not required (or Test::CPAN::Changes not found)
t/chars.t ............. ok
# Using /var/tmp/cpansmoker-1023/2021112010/ZTst_qEbdD for ligatures
# Using /var/tmp/cpansmoker-1023/2021112010/DXS2Z5A04M for missing_nl
# Using /var/tmp/cpansmoker-1023/2021112010/LTW82laj86 for garbage
# Using /var/tmp/cpansmoker-1023/2021112010/Sj7Gs4t3br for ellipsis_no_fix
# Using /var/tmp/cpansmoker-1023/2021112010/9PB8CsONpS for ellipsis
# Using /var/tmp/cpansmoker-1023/2021112010/Dh4jdlwpcI for links
# Using /var/tmp/cpansmoker-1023/2021112010/R3qQGKAsO5 for en
# Using /var/tmp/cpansmoker-1023/2021112010/8VRd5Ull1e for fi
# Using /var/tmp/cpansmoker-1023/2021112010/qp4frSt3HR for es
# Using /var/tmp/cpansmoker-1023/2021112010/PvXz7dzgI1 for sr
# Using /var/tmp/cpansmoker-1023/2021112010/_PbKr2Jlm1 for hr
# Using /var/tmp/cpansmoker-1023/2021112010/kw7rhi_4c7 for ru
# Using /var/tmp/cpansmoker-1023/2021112010/fWTzaegQ8a for it
# Using /var/tmp/cpansmoker-1023/2021112010/Azfv1gdl1Z for mk
# Using /var/tmp/cpansmoker-1023/2021112010/Q2cbMdc79A for sv
# Using /var/tmp/cpansmoker-1023/2021112010/qIJUkyX9FE for de
# Using /var/tmp/cpansmoker-1023/2021112010/9XOgOghw4Q for pl
# Using /var/tmp/cpansmoker-1023/2021112010/nuDoEzxunI for bg
# Using /var/tmp/cpansmoker-1023/2021112010/HcX5mu9LM8 for eo
# Using /var/tmp/cpansmoker-1023/2021112010/rR2tvmXCsK for fr
# Using /var/tmp/cpansmoker-1023/2021112010/mUPCtifpvz for pt
# Using /var/tmp/cpansmoker-1023/2021112010/Vudscmlovi for sq
# Using /var/tmp/cpansmoker-1023/2021112010/LsEFjmirDH for da
# Using /var/tmp/cpansmoker-1023/2021112010/yZiXRELBAa for nl
# Using /var/tmp/cpansmoker-1023/2021112010/7r8uqCUUss for id
# Using /var/tmp/cpansmoker-1023/2021112010/FqMq4T57Lv for Full example
# Using /var/tmp/cpansmoker-1023/2021112010/zHWqgImFYS for Quote
# Using /var/tmp/cpansmoker-1023/2021112010/qVRwM12k0Q for Quote
# Using /var/tmp/cpansmoker-1023/2021112010/21vnAibzsj for Nl quotation
t/common.t ............ ok
t/crash-on-verb.t ..... ok
# $VAR1 = "#title Test
# #lang en
# 
# 0
# 
# \x{201c}0\x{201d}
# 
# 0
# ";
# $VAR1 = "#title Test
# #lang en
# 
# 0
# 
# \x{201c}0\x{201d}
# 
# 0
# ";
t/crash_on_loop.t ..... ok
# /var/tmp/cpansmoker-1023/2021112010/RW1eQuY8yS/verbatim-in.muse
# /var/tmp/cpansmoker-1023/2021112010/RW1eQuY8yS
t/exclude-verbatim.t .. ok
# Testing t/footnotes/good.in => t/footnotes/good.out
# Testing t/footnotes/good2.in => t/footnotes/good2.out
# Testing t/footnotes/good3.in => t/footnotes/good3.out
# Testing t/footnotes/mixed.in => t/footnotes/mixed.out
# Testing t/footnotes/indentation.in => t/footnotes/indentation.out
# Testing t/footnotes/sec-good.in => t/footnotes/sec-good.out
# Testing t/footnotes/sec-good2.in => t/footnotes/sec-good2.out
# Testing t/footnotes/sec-good3.in => t/footnotes/sec-good3.out
# Testing t/footnotes/sec-bad.in => t/footnotes/sec-bad.out
# @@ -1 +1,2 @@
# -{4}
# +{3}
# +{3}
# Testing t/footnotes/sec-bad2.in => t/footnotes/sec-bad2.out
# @@ -1,3 +1,2 @@
# -{4}
# +{3}
# -{5}
# +{3}
# -{6}
# Testing t/footnotes/bad.in => t/footnotes/bad.out
# @@ -1,2 +1,3 @@
#  [1]
# -[1]
# +[2]
# +[4]
# Testing t/footnotes/bad2.in => t/footnotes/bad2.out
# @@ -1,4 +1,3 @@
#  [1]
# -[1]
# +[2]
#  [4]
# -[5]
t/footnotes.t ......... ok
tagpile mismatch: root, p
t/html-2.t ............ ok
# Using /var/tmp/cpansmoker-1023/2021112010/7OqHn0R7lo.html
# Using /var/tmp/cpansmoker-1023/2021112010/ln1gx1T3gK.html
# Using /var/tmp/cpansmoker-1023/2021112010/p_OfTwAGUk.html
# Using /var/tmp/cpansmoker-1023/2021112010/u088fN519J.html
# Using /var/tmp/cpansmoker-1023/2021112010/NKPSlpJed5.html
# Using /var/tmp/cpansmoker-1023/2021112010/eVXdduzYFB.html
# Using /var/tmp/cpansmoker-1023/2021112010/cMRC2kmFg7.html
# Using /var/tmp/cpansmoker-1023/2021112010/i5m0F3agmN.html
# Using /var/tmp/cpansmoker-1023/2021112010/xgjNXhBcPw.html
# Using /var/tmp/cpansmoker-1023/2021112010/bCvjLLpNlX.html
# Using /var/tmp/cpansmoker-1023/2021112010/ZJFBvCYxkm.html
# Using /var/tmp/cpansmoker-1023/2021112010/BBBcCm5kLB.html
# Using /var/tmp/cpansmoker-1023/2021112010/RWlTZ2qoS5.html
# Using /var/tmp/cpansmoker-1023/2021112010/xaVs0_o1nQ.html
# Using /var/tmp/cpansmoker-1023/2021112010/P92p4NzD0n.html
# Using /var/tmp/cpansmoker-1023/2021112010/Os6w9YRy_Y.html
# Using /var/tmp/cpansmoker-1023/2021112010/hq5XBdspsI.html
t/html.t .............. ok
t/manifest.t .......... skipped: Author tests not required for installation
t/memory-cycles.t ..... ok
t/nbsp.t .............. ok
# Infile is /var/tmp/cpansmoker-1023/2021112010/OYNfwSgRid/input.txt
# Using /var/tmp/cpansmoker-1023/2021112010/n_tGYYIi3b as temporary dir
t/object.t ............ ok
t/pod-coverage.t ...... skipped: Pod coverage not required for installation
t/pod.t ............... skipped: Pod test not required for installation
t/russian.t ........... ok
t/subs.t .............. ok
t/typography.t ........ ok
All tests successful.
Files=19, Tests=441,  3 wallclock secs ( 0.02 usr  0.09 sys +  0.27 cusr  1.65 csys =  2.02 CPU)
Result: PASS

------------------------------
PREREQUISITES
------------------------------

Prerequisite modules loaded:

requires:

    Module              Need Have    
    ------------------- ---- --------
    HTML::PullParser    0    3.76    
    IO::HTML            1    1.004   
    Pod::Simple::Wiki   0.19 0.20    
    Text::Amuse         0.95 1.76    
    Text::Diff          0    1.45    

build_requires:

    Module              Need Have    
    ------------------- ---- --------
    Test::More          0    1.302186

configure_requires:

    Module              Need Have    
    ------------------- ---- --------
    ExtUtils::MakeMaker 0    7.62    


------------------------------
ENVIRONMENT AND OTHER CONTEXT
------------------------------

Environment variables:

    LC_ALL = de_DE.ISO8859-1
    PATH = /usr/local/bin:/usr/bin:/bin:/usr/local/sbin:/usr/sbin:/sbin:/home/cpansand/bin/freebsd10.3:/home/cpansand/bin/sh:/home/cpansand/bin:/usr/games:/home/cpansand/devel:/home/eserte/src/srezic-misc/scripts
    PERL5LIB = 
    PERL5OPT = 
    PERL5_CPANPLUS_IS_RUNNING = 40974
    PERL5_CPAN_IS_RUNNING = 40974
    PERL5_CPAN_IS_RUNNING_IN_RECURSION = 40447,40974
    PERLDOC = -MPod::Perldoc::ToTextOverstrike
    PERL_BATCH = yes
    PERL_CANARY_STABILITY_NOPROMPT = 1
    PERL_CPAN_REPORTER_CONFIG = /var/tmp/cpansmoker-1023/2021112010/cpanreporter_000_config.ini
    PERL_EXTUTILS_AUTOINSTALL = --defaultdeps
    PERL_USE_UNSAFE_INC = 1
    SHELL = /usr/local/bin/zsh
    TERM = screen
    TMPDIR = /var/tmp/cpansmoker-1023/2021112010

Perl special variables (and OS-specific diagnostics, for MSWin32):

    $^X = /usr/perl5.26.0p/bin/perl
    $UID/$EUID = 1023 / 1023
    $GID = 1023 1023
    $EGID = 1023 1023

Perl module toolchain versions installed:

    Module              Have    
    ------------------- --------
    CPAN                2.28    
    CPAN::Meta          2.150010
    Cwd                 3.75    
    ExtUtils::CBuilder  0.280235
    ExtUtils::Command   7.62    
    ExtUtils::Install   2.16    
    ExtUtils::MakeMaker 7.62    
    ExtUtils::Manifest  1.70    
    ExtUtils::ParseXS   3.35    
    File::Spec          3.75    
    JSON                4.03    
    JSON::PP            4.05    
    Module::Build       0.4229  
    Module::Signature   0.87    
    Parse::CPAN::Meta   2.150010
    Test::Harness       3.42    
    Test::More          1.302186
    YAML                1.30    
    YAML::Syck          1.34    
    version             0.9928  


--

Summary of my perl5 (revision 5 version 26 subversion 0) configuration:
   
  Platform:
    osname=freebsd
    osvers=10.3-release-p11
    archname=amd64-freebsd
    uname='freebsd cvrsnica-freebsd-101.herceg.de 10.3-release-p11 freebsd 10.3-release-p11 #0: mon oct 24 18:49:24 utc 2016 root@amd64-builder.daemonology.net:usrobjusrsrcsysgeneric amd64 '
    config_args='-ds -e -Dprefix=/usr/perl5.26.0p -Dcf_email=srezic@cpan.org -Doptimize=-O2 -pipe'
    hint=recommended
    useposix=true
    d_sigaction=define
    useithreads=undef
    usemultiplicity=undef
    use64bitint=define
    use64bitall=define
    uselongdouble=undef
    usemymalloc=n
    default_inc_excludes_dot=define
    bincompat5005=undef
  Compiler:
    cc='cc'
    ccflags ='-DHAS_FPSETMASK -DHAS_FLOATINGPOINT_H -fno-strict-aliasing -pipe -fstack-protector -I/usr/local/include -D_FORTIFY_SOURCE=2'
    optimize='-O2 -pipe'
    cppflags='-DHAS_FPSETMASK -DHAS_FLOATINGPOINT_H -fno-strict-aliasing -pipe -fstack-protector -I/usr/local/include'
    ccversion=''
    gccversion='4.2.1 Compatible FreeBSD Clang 3.4.1 (tags/RELEASE_34/dot1-final 208032)'
    gccosandvers=''
    intsize=4
    longsize=8
    ptrsize=8
    doublesize=8
    byteorder=12345678
    doublekind=3
    d_longlong=define
    longlongsize=8
    d_longdbl=define
    longdblsize=16
    longdblkind=3
    ivtype='long'
    ivsize=8
    nvtype='double'
    nvsize=8
    Off_t='off_t'
    lseeksize=8
    alignbytes=8
    prototype=define
  Linker and Libraries:
    ld='cc'
    ldflags ='-pthread -Wl,-E  -fstack-protector -L/usr/local/lib'
    libpth=/usr/lib /usr/local/lib /usr/include/clang/3.4.1 /usr/lib
    libs=-lpthread -lgdbm -lm -lcrypt -lutil -lc -lelf
    perllibs=-lpthread -lm -lcrypt -lutil -lc -lelf
    libc=
    so=so
    useshrplib=false
    libperl=libperl.a
    gnulibc_version=''
  Dynamic Linking:
    dlsrc=dl_dlopen.xs
    dlext=so
    d_dlsymun=undef
    ccdlflags=' '
    cccdlflags='-DPIC -fPIC'
    lddlflags='-shared  -L/usr/local/lib -fstack-protector'


Characteristics of this binary (from libperl): 
  Compile-time options:
    HAS_TIMES
    PERLIO_LAYERS
    PERL_COPY_ON_WRITE
    PERL_DONT_CREATE_GVSV
    PERL_MALLOC_WRAP
    PERL_OP_PARENT
    PERL_PRESERVE_IVUV
    USE_64_BIT_ALL
    USE_64_BIT_INT
    USE_LARGE_FILES
    USE_LOCALE
    USE_LOCALE_COLLATE
    USE_LOCALE_CTYPE
    USE_LOCALE_NUMERIC
    USE_LOCALE_TIME
    USE_PERLIO
    USE_PERL_ATOF
  Built under freebsd
  Compiled at Jun  3 2017 22:58:33
  %ENV:
    PERL5LIB=""
    PERL5OPT=""
    PERL5_CPANPLUS_IS_RUNNING="40974"
    PERL5_CPAN_IS_RUNNING="40974"
    PERL5_CPAN_IS_RUNNING_IN_RECURSION="40447,40974"
    PERLDOC="-MPod::Perldoc::ToTextOverstrike"
    PERL_BATCH="yes"
    PERL_CANARY_STABILITY_NOPROMPT="1"
    PERL_CPAN_REPORTER_CONFIG="/var/tmp/cpansmoker-1023/2021112010/cpanreporter_000_config.ini"
    PERL_EXTUTILS_AUTOINSTALL="--defaultdeps"
    PERL_USE_UNSAFE_INC="1"
  @INC:
    /usr/perl5.26.0p/lib/site_perl/5.26.0/amd64-freebsd
    /usr/perl5.26.0p/lib/site_perl/5.26.0
    /usr/perl5.26.0p/lib/5.26.0/amd64-freebsd
    /usr/perl5.26.0p/lib/5.26.0
    .