Module-Starter v1.73 Perl 5 v5.26.2 armv6l-linux
- Status
- Pass
- From
- gregor herrmann
- Dist
-
Module-Starter v1.73
- Platform
- Perl 5 v5.26.2 armv6l-linux
- Date
- 2018-06-04 22:27:41
- ID
- 7eb787ea-6846-11e8-a6eb-726b51b8bacf
This distribution has been tested as part of the CPAN Testers
project, supporting the Perl programming language. See
http://wiki.cpantesters.org/ for more information or email
questions to cpan-testers-discuss@perl.org
--
Dear Dan Book,
This is a computer-generated report for Module-Starter-1.73
on perl 5.26.2, created by CPAN-Reporter-1.2018.
Thank you for uploading your work to CPAN. Congratulations!
All tests were successful.
Sections of this report:
* Tester comments
* Program output
* Prerequisites
* Environment and other context
------------------------------
TESTER COMMENTS
------------------------------
Additional comments from tester:
this report is from an automated smoke testing program
and was not reviewed by a human for accuracy
------------------------------
PROGRAM OUTPUT
------------------------------
Output from '/usr/bin/make test':
PERL_DL_NONLAZY=1 "/srv/smoker/perl5/perlbrew/perls/perl-5.26.2/bin/perl" "-MExtUtils::Command::MM" "-MTest::Harness" "-e" "undef *Test::Harness::Switches; test_harness(0, 'blib/lib', 'blib/arch')" t/*.t
# Testing Module::Starter 1.73, Perl 5.026002, /srv/smoker/perl5/perlbrew/perls/perl-5.26.2/bin/perl
t/00-load.t ......... ok
t/BuilderSet.t ...... ok
t/module-starter.t .. skipped: these tests must be completely rewritten
t/pod-coverage.t .... skipped: these tests are for release candidate testing
t/pod.t ............. skipped: these tests are for release candidate testing
Added to MANIFEST: Build.PL
Added to MANIFEST: Changes
Added to MANIFEST: ignore.txt
Added to MANIFEST: lib/MyModule/Test.pm
Added to MANIFEST: lib/MyModule/Test/App.pm
Added to MANIFEST: MANIFEST
Added to MANIFEST: README
Added to MANIFEST: t/00-load.t
Added to MANIFEST: t/manifest.t
Added to MANIFEST: t/pod-coverage.t
Added to MANIFEST: t/pod.t
Added to MANIFEST: xt/boilerplate.t
Added to MANIFEST: Build.PL
Added to MANIFEST: Changes
Added to MANIFEST: ignore.txt
Added to MANIFEST: lib/Book/Park/Mansfield.pm
Added to MANIFEST: lib/Book/Park/Mansfield/Base.pm
Added to MANIFEST: lib/Book/Park/Mansfield/FannyPrice.pm
Added to MANIFEST: lib/JAUSTEN/Utils.pm
Added to MANIFEST: MANIFEST
Added to MANIFEST: README
Added to MANIFEST: t/00-load.t
Added to MANIFEST: t/manifest.t
Added to MANIFEST: t/pod-coverage.t
Added to MANIFEST: t/pod.t
Added to MANIFEST: xt/boilerplate.t
t/test-dist.t ....... ok
All tests successful.
Files=6, Tests=26, 790 wallclock secs (68.30 usr 5.25 sys + 569.17 cusr 13.45 csys = 656.17 CPU)
Result: PASS
------------------------------
PREREQUISITES
------------------------------
Prerequisite modules loaded:
requires:
Module Need Have
------------------- -------- --------
ExtUtils::Command 0 7.34
File::Spec 0 3.74
Getopt::Long 0 2.5
Module::Runtime 0 0.016
parent 0 0.236
perl 5.006001 5.026002
Pod::Usage 1.21 1.69
Test::Harness 0.21 3.42
Test::More 0 1.302136
version 0.77 0.9924
build_requires:
Module Need Have
------------------- -------- --------
ExtUtils::MakeMaker 0 7.34
configure_requires:
Module Need Have
------------------- -------- --------
ExtUtils::MakeMaker 0 7.34
------------------------------
ENVIRONMENT AND OTHER CONTEXT
------------------------------
Environment variables:
AUTOMATED_TESTING = 1
LC_CTYPE = de_AT.utf8
LD_LIBRARY_PATH = /usr/lib/libeatmydata
NONINTERACTIVE_TESTING = 1
PATH = /srv/smoker/bin:/usr/lib/ccache:/srv/smoker/perl5/perlbrew/bin:/srv/smoker/perl5/perlbrew/perls/perl-5.26.2/bin:/usr/local/bin:/usr/bin:/bin:/usr/local/games:/usr/games
PERL5LIB = /srv/smoker/cpan/build/Distribution-Guess-BuildSystem-1.002-0/blib/arch:/srv/smoker/cpan/build/Distribution-Guess-BuildSystem-1.002-0/blib/lib:/srv/smoker/cpan/build/Module-Extract-VERSION-1.113-1/blib/arch:/srv/smoker/cpan/build/Module-Extract-VERSION-1.113-1/blib/lib:/srv/smoker/cpan/build/Module-Extract-Use-1.043-1/blib/arch:/srv/smoker/cpan/build/Module-Extract-Use-1.043-1/blib/lib:/srv/smoker/cpan/build/Test-Output-1.031-0/blib/arch:/srv/smoker/cpan/build/Test-Output-1.031-0/blib/lib
PERL5OPT =
PERL5_CPANPLUS_IS_RUNNING = 9398
PERL5_CPAN_IS_RUNNING = 9398
PERL5_CPAN_IS_RUNNING_IN_RECURSION = 12954,9398
PERLBREW_HOME = /srv/smoker/.perlbrew
PERLBREW_MANPATH = /srv/smoker/perl5/perlbrew/perls/perl-5.26.2/man
PERLBREW_PATH = /srv/smoker/perl5/perlbrew/bin:/srv/smoker/perl5/perlbrew/perls/perl-5.26.2/bin
PERLBREW_PERL = perl-5.26.2
PERLBREW_ROOT = /srv/smoker/perl5/perlbrew
PERLBREW_SHELLRC_VERSION = 0.83
PERLBREW_VERSION = 0.83
PERL_CR_SMOKER_CURRENT = Module-Starter-AddModule-1.006
PERL_EXTUTILS_AUTOINSTALL = --defaultdeps
PERL_MM_USE_DEFAULT = 1
PERL_USE_UNSAFE_INC = 1
SHELL = /bin/bash
TERM = screen-256color
Perl special variables (and OS-specific diagnostics, for MSWin32):
$^X = /srv/smoker/perl5/perlbrew/perls/perl-5.26.2/bin/perl
$UID/$EUID = 1111 / 1111
$GID = 65534 65534
$EGID = 65534 65534
Perl module toolchain versions installed:
Module Have
------------------- --------
CPAN 2.18
CPAN::Meta 2.150010
Cwd 3.74
ExtUtils::CBuilder 0.280230
ExtUtils::Command 7.34
ExtUtils::Install 2.14
ExtUtils::MakeMaker 7.34
ExtUtils::Manifest 1.70
ExtUtils::ParseXS 3.35
File::Spec 3.74
JSON 2.97001
JSON::PP 2.97001
Module::Build 0.4224
Module::Signature n/a
Parse::CPAN::Meta 2.150010
Test::Harness 3.42
Test::More 1.302136
YAML 1.24
YAML::Syck n/a
version 0.9924
--
Summary of my perl5 (revision 5 version 26 subversion 2) configuration:
Platform:
osname=linux
osvers=4.9.0-6-rpi
archname=armv6l-linux
uname='linux smoker 4.9.0-6-rpi #1 debian 4.9.82-1+deb9u3+rpi1 (2018-03-31) armv6l gnulinux '
config_args='-de -Dprefix=/srv/smoker/perl5/perlbrew/perls/perl-5.26.2 -Aeval:scriptdir=/srv/smoker/perl5/perlbrew/perls/perl-5.26.2/bin'
hint=recommended
useposix=true
d_sigaction=define
useithreads=undef
usemultiplicity=undef
use64bitint=undef
use64bitall=undef
uselongdouble=undef
usemymalloc=n
default_inc_excludes_dot=define
bincompat5005=undef
Compiler:
cc='cc'
ccflags ='-fwrapv -fno-strict-aliasing -pipe -fstack-protector-strong -I/usr/local/include -D_LARGEFILE_SOURCE -D_FILE_OFFSET_BITS=64 -D_FORTIFY_SOURCE=2'
optimize='-O2'
cppflags='-fwrapv -fno-strict-aliasing -pipe -fstack-protector-strong -I/usr/local/include'
ccversion=''
gccversion='7.3.0'
gccosandvers=''
intsize=4
longsize=4
ptrsize=4
doublesize=8
byteorder=1234
doublekind=3
d_longlong=define
longlongsize=8
d_longdbl=define
longdblsize=8
longdblkind=0
ivtype='long'
ivsize=4
nvtype='double'
nvsize=8
Off_t='off_t'
lseeksize=8
alignbytes=8
prototype=define
Linker and Libraries:
ld='cc'
ldflags =' -fstack-protector-strong -L/usr/local/lib'
libpth=/usr/local/lib /usr/lib/gcc/arm-linux-gnueabihf/7/include-fixed /usr/include/arm-linux-gnueabihf /usr/lib /lib/arm-linux-gnueabihf /lib /usr/lib/arm-linux-gnueabihf
libs=-lpthread -lnsl -ldl -lm -lcrypt -lutil -lc
perllibs=-lpthread -lnsl -ldl -lm -lcrypt -lutil -lc
libc=libc-2.27.so
so=so
useshrplib=false
libperl=libperl.a
gnulibc_version='2.27'
Dynamic Linking:
dlsrc=dl_dlopen.xs
dlext=so
d_dlsymun=undef
ccdlflags='-Wl,-E'
cccdlflags='-fPIC'
lddlflags='-shared -O2 -L/usr/local/lib -fstack-protector-strong'
Characteristics of this binary (from libperl):
Compile-time options:
HAS_TIMES
PERLIO_LAYERS
PERL_COPY_ON_WRITE
PERL_DONT_CREATE_GVSV
PERL_HASH_FUNC_ONE_AT_A_TIME_HARD
PERL_MALLOC_WRAP
PERL_OP_PARENT
PERL_PRESERVE_IVUV
USE_LARGE_FILES
USE_LOCALE
USE_LOCALE_COLLATE
USE_LOCALE_CTYPE
USE_LOCALE_NUMERIC
USE_LOCALE_TIME
USE_PERLIO
USE_PERL_ATOF
Locally applied patches:
Devel::PatchPerl 1.38
Built under linux
Compiled at May 1 2018 17:15:10
%ENV:
PERL5LIB="/srv/smoker/cpan/build/Distribution-Guess-BuildSystem-1.002-0/blib/arch:/srv/smoker/cpan/build/Distribution-Guess-BuildSystem-1.002-0/blib/lib:/srv/smoker/cpan/build/Module-Extract-VERSION-1.113-1/blib/arch:/srv/smoker/cpan/build/Module-Extract-VERSION-1.113-1/blib/lib:/srv/smoker/cpan/build/Module-Extract-Use-1.043-1/blib/arch:/srv/smoker/cpan/build/Module-Extract-Use-1.043-1/blib/lib:/srv/smoker/cpan/build/Test-Output-1.031-0/blib/arch:/srv/smoker/cpan/build/Test-Output-1.031-0/blib/lib"
PERL5OPT=""
PERL5_CPANPLUS_IS_RUNNING="9398"
PERL5_CPAN_IS_RUNNING="9398"
PERL5_CPAN_IS_RUNNING_IN_RECURSION="12954,9398"
PERLBREW_HOME="/srv/smoker/.perlbrew"
PERLBREW_MANPATH="/srv/smoker/perl5/perlbrew/perls/perl-5.26.2/man"
PERLBREW_PATH="/srv/smoker/perl5/perlbrew/bin:/srv/smoker/perl5/perlbrew/perls/perl-5.26.2/bin"
PERLBREW_PERL="perl-5.26.2"
PERLBREW_ROOT="/srv/smoker/perl5/perlbrew"
PERLBREW_SHELLRC_VERSION="0.83"
PERLBREW_VERSION="0.83"
PERL_CR_SMOKER_CURRENT="Module-Starter-AddModule-1.006"
PERL_EXTUTILS_AUTOINSTALL="--defaultdeps"
PERL_MM_USE_DEFAULT="1"
PERL_USE_UNSAFE_INC="1"
@INC:
/srv/smoker/cpan/build/Distribution-Guess-BuildSystem-1.002-0/blib/arch
/srv/smoker/cpan/build/Distribution-Guess-BuildSystem-1.002-0/blib/lib
/srv/smoker/cpan/build/Module-Extract-VERSION-1.113-1/blib/arch
/srv/smoker/cpan/build/Module-Extract-VERSION-1.113-1/blib/lib
/srv/smoker/cpan/build/Module-Extract-Use-1.043-1/blib/arch
/srv/smoker/cpan/build/Module-Extract-Use-1.043-1/blib/lib
/srv/smoker/cpan/build/Test-Output-1.031-0/blib/arch
/srv/smoker/cpan/build/Test-Output-1.031-0/blib/lib
/srv/smoker/perl5/perlbrew/perls/perl-5.26.2/lib/site_perl/5.26.2/armv6l-linux
/srv/smoker/perl5/perlbrew/perls/perl-5.26.2/lib/site_perl/5.26.2
/srv/smoker/perl5/perlbrew/perls/perl-5.26.2/lib/5.26.2/armv6l-linux
/srv/smoker/perl5/perlbrew/perls/perl-5.26.2/lib/5.26.2
.