Test-Reporter-Transport-Metabase-Fallback v1.001 Perl 5 v5.22.1 i686-linux-thread-multi
- Status
- Pass
- From
- Serguei Trouchelle (STRO)
- Dist
-
Test-Reporter-Transport-Metabase-Fallback v1.001
- Platform
- Perl 5 v5.22.1 i686-linux-thread-multi
- Date
- 2018-08-22 14:48:55
- ID
- 7ea507fc-a61a-11e8-8b88-c970d2ab4bb8
This distribution has been tested as part of the CPAN Testers
project, supporting the Perl programming language. See
http://wiki.cpantesters.org/ for more information or email
questions to cpan-testers-discuss@perl.org
--
Dear Serguei Trouchelle,
This is a computer-generated report for Test-Reporter-Transport-Metabase-Fallback-1.001
on perl 5.22.1, created by CPAN-Reporter-1.2018.
Thank you for uploading your work to CPAN. Congratulations!
All tests were successful.
Sections of this report:
* Tester comments
* Program output
* Prerequisites
* Environment and other context
------------------------------
TESTER COMMENTS
------------------------------
Additional comments from tester:
this report is from an automated smoke testing program
and was not reviewed by a human for accuracy
------------------------------
PROGRAM OUTPUT
------------------------------
Output from '/usr/bin/make test':
PERL_DL_NONLAZY=1 "/home/cpantester/perl/5.22.1t/bin/perl" "-MExtUtils::Command::MM" "-MTest::Harness" "-e" "undef *Test::Harness::Switches; test_harness(0, 'blib/lib', 'blib/arch')" t/*.t
Use of uninitialized value in concatenation (.) or string at /home/cpantester/perl/5.22.1t/lib/site_perl/5.22.1/Metabase/Client/Simple.pm line 243.
Test::Reporter::Transport::Metabase::Fallback Metabase error: fact submission failed: at /home/cpantester/perl/5.22.1t/lib/site_perl/5.22.1/Metabase/Client/Simple.pm line 129.
Metabase::Client::Simple::submit_fact(Metabase::Client::Simple=HASH(0x2803d30), CPAN::Testers::Report=HASH(0x299ee50)) called at /home/cpantester/perl/5.22.1t/lib/site_perl/5.22.1/Test/Reporter/Transport/Metabase.pm line 122
Test::Reporter::Transport::Metabase::send(Test::Reporter::Transport::Metabase=HASH(0x27ace10), Test::Reporter=HASH(0x231f668)) called at /home/cpantester/cpan/build/5.22.1t/build/Test-Reporter-Transport-Metabase-Fallback-1.001-0/blib/lib/Test/Reporter/Transport/Metabase/Fallback.pm line 60
eval {...} called at /home/cpantester/cpan/build/5.22.1t/build/Test-Reporter-Transport-Metabase-Fallback-1.001-0/blib/lib/Test/Reporter/Transport/Metabase/Fallback.pm line 60
Test::Reporter::Transport::Metabase::Fallback::send(Test::Reporter::Transport::Metabase::Fallback=HASH(0x27acc50), Test::Reporter=HASH(0x231f668)) called at /home/cpantester/perl/5.22.1t/lib/site_perl/5.22.1/Test/Reporter.pm line 272
eval {...} called at /home/cpantester/perl/5.22.1t/lib/site_perl/5.22.1/Test/Reporter.pm line 272
Test::Reporter::send(Test::Reporter=HASH(0x231f668)) called at t/00-use.t line 33
Test::Reporter::Transport::Metabase::Fallback Saving report in the queue.
at /home/cpantester/perl/5.22.1t/lib/site_perl/5.22.1/Test/Reporter.pm line 272.
t/00-use.t ............. ok
t/author-critic.t ...... skipped: these tests are for testing by the author
t/author-pod-syntax.t .. skipped: these tests are for testing by the author
All tests successful.
Files=3, Tests=7, 0 wallclock secs ( 0.04 usr 0.02 sys + 0.24 cusr 0.03 csys = 0.33 CPU)
Result: PASS
------------------------------
PREREQUISITES
------------------------------
Prerequisite modules loaded:
requires:
Module Need Have
----------------------------------- ---- --------
Carp 0 1.36
Test::Reporter::Transport::File 0 1.62
Test::Reporter::Transport::Metabase 0 1.999010
build_requires:
Module Need Have
----------------------------------- ---- --------
Cwd 0 3.56
ExtUtils::MakeMaker 0 7.04_01
File::Spec 0 3.56
strict 0 1.09
Test::More 0 1.001014
Test::Reporter 0 1.62
configure_requires:
Module Need Have
----------------------------------- ---- --------
ExtUtils::MakeMaker 0 7.04_01
------------------------------
ENVIRONMENT AND OTHER CONTEXT
------------------------------
Environment variables:
AUTOMATED_TESTING = 1
LANG = en_US.UTF-8
NONINTERACTIVE_TESTING = 1
PATH = /usr/local/bin:/usr/bin:/bin:/usr/local/games:/usr/games
PERL5LIB =
PERL5OPT =
PERL5_CPANPLUS_IS_RUNNING = 1671
PERL5_CPAN_IS_RUNNING = 1671
PERL_MM_USE_DEFAULT = 1
SHELL = /bin/bash
TERM = xterm
Perl special variables (and OS-specific diagnostics, for MSWin32):
$^X = /home/cpantester/perl/5.22.1t/bin/perl
$UID/$EUID = 1006 / 1006
$GID = 1006 1006
$EGID = 1006 1006
Perl module toolchain versions installed:
Module Have
------------------- --------
CPAN 2.16
CPAN::Meta 2.150001
Cwd 3.56
ExtUtils::CBuilder 0.280221
ExtUtils::Command 1.20
ExtUtils::Install 2.04
ExtUtils::MakeMaker 7.04_01
ExtUtils::Manifest 1.70
ExtUtils::ParseXS 3.28
File::Spec 3.56
JSON n/a
JSON::PP 2.27300
Module::Build 0.4224
Module::Signature n/a
Parse::CPAN::Meta 1.4414
Test::Harness 3.35
Test::More 1.001014
YAML 1.26
YAML::Syck 1.30
version 0.9909
--
Summary of my perl5 (revision 5 version 22 subversion 1) configuration:
Platform:
osname=linux, osvers=4.9.0-7-686-pae, archname=i686-linux-thread-multi
uname='linux cthugha 4.9.0-7-686-pae #1 smp debian 4.9.110-1 (2018-07-05) i686 gnulinux '
config_args=''
hint=recommended, useposix=true, d_sigaction=define
useithreads=define, usemultiplicity=define
use64bitint=undef, use64bitall=undef, uselongdouble=undef
usemymalloc=n, bincompat5005=undef
Compiler:
cc='cc', ccflags ='-D_REENTRANT -D_GNU_SOURCE -fwrapv -fno-strict-aliasing -pipe -fstack-protector-strong -I/usr/local/include -D_LARGEFILE_SOURCE -D_FILE_OFFSET_BITS=64',
optimize='-O2',
cppflags='-D_REENTRANT -D_GNU_SOURCE -fwrapv -fno-strict-aliasing -pipe -fstack-protector-strong -I/usr/local/include'
ccversion='', gccversion='6.3.0 20170516', gccosandvers=''
intsize=4, longsize=4, ptrsize=4, doublesize=8, byteorder=1234, doublekind=3
d_longlong=define, longlongsize=8, d_longdbl=define, longdblsize=12, longdblkind=3
ivtype='long', ivsize=4, nvtype='double', nvsize=8, Off_t='off_t', lseeksize=8
alignbytes=4, prototype=define
Linker and Libraries:
ld='cc', ldflags =' -fstack-protector-strong -L/usr/local/lib'
libpth=/usr/local/lib /usr/lib/gcc/i686-linux-gnu/6/include-fixed /usr/include/i386-linux-gnu /usr/lib /lib/i386-linux-gnu /lib/../lib /usr/lib/i386-linux-gnu /usr/lib/../lib /lib
libs=-lpthread -lnsl -ldl -lm -lcrypt -lutil -lc
perllibs=-lpthread -lnsl -ldl -lm -lcrypt -lutil -lc
libc=libc-2.24.so, so=so, useshrplib=false, libperl=libperl.a
gnulibc_version='2.24'
Dynamic Linking:
dlsrc=dl_dlopen.xs, dlext=so, d_dlsymun=undef, ccdlflags='-Wl,-E'
cccdlflags='-fPIC', lddlflags='-shared -O2 -L/usr/local/lib -fstack-protector-strong'
Characteristics of this binary (from libperl):
Compile-time options: HAS_TIMES MULTIPLICITY PERLIO_LAYERS
PERL_DONT_CREATE_GVSV
PERL_HASH_FUNC_ONE_AT_A_TIME_HARD
PERL_IMPLICIT_CONTEXT PERL_MALLOC_WRAP
PERL_NEW_COPY_ON_WRITE PERL_PRESERVE_IVUV
USE_ITHREADS USE_LARGE_FILES USE_LOCALE
USE_LOCALE_COLLATE USE_LOCALE_CTYPE
USE_LOCALE_NUMERIC USE_LOCALE_TIME USE_PERLIO
USE_PERL_ATOF USE_REENTRANT_API
Built under linux
Compiled at Aug 22 2018 06:42:50
%ENV:
PERL5LIB=""
PERL5OPT=""
PERL5_CPANPLUS_IS_RUNNING="1671"
PERL5_CPAN_IS_RUNNING="1671"
PERL_MM_USE_DEFAULT="1"
@INC:
/home/cpantester/perl/5.22.1t/lib/site_perl/5.22.1/i686-linux-thread-multi
/home/cpantester/perl/5.22.1t/lib/site_perl/5.22.1
/home/cpantester/perl/5.22.1t/lib/5.22.1/i686-linux-thread-multi
/home/cpantester/perl/5.22.1t/lib/5.22.1
.