Back
From: metabase:user:30977d10-2aae-11df-837a-5e0a49663a4f
Subject: PASS Class-Value-Net-1.110250 v5.14.0
Date: 2011-05-31T23:34:06Z
This distribution has been tested as part of the CPAN Testers
project, supporting the Perl programming language. See
http://wiki.cpantesters.org/ for more information or email
questions to cpan-testers-discuss@perl.org
--
Dear Marcel Gruenauer,
This is a computer-generated report for Class-Value-Net-1.110250
on perl 5.14.0, created by CPAN-Reporter-1.1902.
Thank you for uploading your work to CPAN. Congratulations!
All tests were successful.
Sections of this report:
* Tester comments
* Program output
* Prerequisites
* Environment and other context
------------------------------
TESTER COMMENTS
------------------------------
Additional comments from tester:
this report is from an automated smoke testing program
and was not reviewed by a human for accuracy
------------------------------
PROGRAM OUTPUT
------------------------------
Output from 'C:\bin\dev\psdk\2003\Bin\nmake.EXE test':
Microsoft (R) Program Maintenance Utility Version 7.00.8882
Copyright (C) Microsoft Corp 1988-2000. All rights reserved.
C:\home\stro\perl\perl5140\bin\perl5.14.0.exe "-MExtUtils::Command::MM" "-e" "test_harness(0, 'blib\lib', 'blib\arch')" t/*.t
t/00-compile.t ............... ok
# Testing with Perl 5.014000, C:\home\stro\perl\perl5140\bin\PERL51~1.EXE
# Carp version is 1.20
# Class::Value version is 1.100840
# Class::Value::Boolean version is 1.100840
# Class::Value::Enum version is 1.100840
# Class::Value::Exception::Base version is 1.100840
# Class::Value::SemanticAdapter version is 1.100841
# Class::Value::String version is 1.100840
# Class::Value::Test version is 1.100840
# Data::Semantic::Net::IPAddress::TestData::IPv4 version is 1.101760
# Data::Semantic::Net::IPAddress::TestData::IPv6 version is 1.101760
# English version is 1.04
# Error version is 0.17016
# Error::Hierarchy::Mixin version is 1.103530
# Error::Hierarchy::Test version is 1.103530
# ExtUtils::MakeMaker version is 6.5711
# File::Find version is 1.19
# File::Temp version is 0.22
# Scalar::Util version is 1.23
# Test::CompanionClasses version is 1.101370
# Test::CompanionClasses::Base version is 1.101370
# Test::More version is 0.98
# constant version is 1.21
# parent version is 0.225
t/000-report-versions.t ...... ok
t/01_companion_classes.t ..... ok
t/02_hostname.t .............. ok
t/author-critic.t ............ skipped: these tests are for testing by the author
t/release-check-changes.t .... skipped: these tests are for release candidate testing
t/release-dist-manifest.t .... skipped: these tests are for release candidate testing
t/release-distmeta.t ......... skipped: these tests are for release candidate testing
t/release-eol.t .............. skipped: these tests are for release candidate testing
t/release-has-version.t ...... skipped: these tests are for release candidate testing
t/release-kwalitee.t ......... skipped: these tests are for release candidate testing
t/release-minimum-version.t .. skipped: these tests are for release candidate testing
t/release-no-tabs.t .......... skipped: these tests are for release candidate testing
t/release-pod-coverage.t ..... skipped: these tests are for release candidate testing
t/release-pod-spell.t ........ skipped: these tests are for release candidate testing
t/release-pod-syntax.t ....... skipped: these tests are for release candidate testing
t/release-portability.t ...... skipped: these tests are for release candidate testing
t/release-synopsis.t ......... skipped: these tests are for release candidate testing
t/release-unused-vars.t ...... skipped: these tests are for release candidate testing
All tests successful.
Files=19, Tests=96, 15 wallclock secs ( 0.20 usr + 0.12 sys = 0.33 CPU)
Result: PASS
------------------------------
PREREQUISITES
------------------------------
Prerequisite modules loaded:
requires:
Module Need Have
---------------------------------------------- -------- --------
Class::Value::Boolean 0 1.100840
Class::Value::Enum 0 1.100840
Class::Value::Exception::Base 0 1.100840
Class::Value::SemanticAdapter 0 1.100841
Class::Value::String 0 1.100840
Class::Value::Test 0 1.100840
constant 0 1.21
Data::Semantic::Net::IPAddress::TestData::IPv4 1.101750 1.101760
Data::Semantic::Net::IPAddress::TestData::IPv6 0 1.101760
Error::Hierarchy::Mixin 0 1.103530
Error::Hierarchy::Test 0 1.103530
parent 0 0.225
Test::CompanionClasses::Base 0 1.101370
Test::More 0 0.98
build_requires:
Module Need Have
---------------------------------------------- -------- --------
Carp 0 1.20
Class::Value 0 1.100840
English 0 1.04
Error 0 0.17016
File::Find 0 1.19
File::Temp 0 0.22
Scalar::Util 0 1.23
Test::CompanionClasses 0 1.101370
Test::More 0.94 0.98
configure_requires:
Module Need Have
---------------------------------------------- -------- --------
ExtUtils::MakeMaker 6.31 6.57_11
------------------------------
ENVIRONMENT AND OTHER CONTEXT
------------------------------
Environment variables:
AUTOMATED_TESTING = 1
COMSPEC = C:\Windows\system32\cmd.exe
INCLUDE = C:\bin\dev\psdk\2003\Include\.;C:\bin\dev\vc\VC98\atl\include;C:\bin\dev\vc\VC98\mfc\include;C:\bin\dev\vc\VC98\include
LIB = C:\bin\dev\psdk\2003\Lib\.;C:\bin\dev\vc\VC98\mfc\lib;C:\bin\dev\vc\VC98\lib
NUMBER_OF_PROCESSORS = 2
PATH = C:\bin\apps\far\;C:\Program Files\Common Files\Microsoft Shared\Windows Live;C:\bin\sys\msys\bin\;c:\bin\graph\imagemagick-6.5.1-q16;C:\bin\dev\tortoiseSVN;C:\bin\dev\perl\site\bin;C:\bin\dev\perl\bin;c:\bin\run;C:\Windows\system32;C:\Windows;C:\Windows\System32\Wbem;C:\Program Files\ATI Technologies\ATI.ACE\Core-Static;C:\bin\sys\unixutils;C:\bin\dev\tortoiseSVN\bin;C:\bin\sys\sysinternals;C:\bin\db\oracle\instantclient_11_1;C:\Program Files\Intel\WiFi\bin\;C:\Program Files\Common Files\Intel\WirelessCommon\;\;C:\usr\bin;C:\bin\dev\psdk\2003\Bin\.;C:\bin\dev\psdk\2003\Bin\WinNT\.;\;C:\bin\graph\ImageConverterPlus;C:\bin\graph\ImageConverterPlus\Microsoft.VC90.CRT;C:\bin\graph\ImageConverterPlus\Microsoft.VC90.MFC;C:\Windows\System32\WindowsPowerShell\v1.0\;C:\Program Files\Windows Live\Shared;C:\bin\dev\vc\Common\Tools\WinNT;C:\bin\dev\vc\Common\MSDev98\Bin;C:\bin\dev\vc\Common\Tools;C:\bin\dev\vc\VC98\bin;C:\bin\db\postgresql\bin\;C:\bin\dev\psdk\2003\Bin\.;C:\bin\graph\ImageConverterPlus;C:\bin\graph\ImageConverterPlus\Microsoft.VC90.CRT;C:\bin\graph\ImageConverterPlus\Microsoft.VC90.MFC;C:\bin\sys\smartmontools\bin;C:\bin\comm\Nmap
PERL5LIB =
PERL5OPT =
PERL5_CPANPLUS_IS_RUNNING = 1716
PERL5_CPAN_IS_RUNNING = 1716
PERL5_CPAN_IS_RUNNING_IN_RECURSION = 4772,1716
PERL_CR_SMOKER_CURRENT = Class-Value-Net-1.110250
PERL_EXTUTILS_AUTOINSTALL = --defaultdeps
PERL_MM_USE_DEFAULT = 1
PROCESSOR_IDENTIFIER = x86 Family 6 Model 15 Stepping 11, GenuineIntel
TEMP = C:\Windows\Temp
TMPDIR = C:\Windows\Temp
Perl special variables (and OS-specific diagnostics, for MSWin32):
$^X = C:\home\stro\perl\perl5140\bin\perl5.14.0.exe
$UID/$EUID = 0 / 0
$GID = 0
$EGID = 0
Win32::GetOSName = WinVista
Win32::GetOSVersion = Service Pack 2, 6, 0, 6002, 2, 2, 0, 768, 1
Win32::FsType = NTFS
Win32::IsAdminUser = 1
Perl module toolchain versions installed:
Module Have
------------------- --------
CPAN 1.9600
Cwd 3.36
ExtUtils::CBuilder 0.280203
ExtUtils::Command 1.17
ExtUtils::Install 1.56
ExtUtils::MakeMaker 6.57_11
ExtUtils::Manifest 1.58
ExtUtils::ParseXS 2.2210
File::Spec 3.33
Module::Build 0.3800
Module::Signature n/a
Test::Harness 3.23
Test::More 0.98
YAML 0.73
YAML::Syck 1.17
version 0.88
--
Summary of my perl5 (revision 5 version 14 subversion 0) configuration:
Platform:
osname=MSWin32, osvers=6.0, archname=MSWin32-x86-multi-thread
uname=''
config_args='undef'
hint=recommended, useposix=true, d_sigaction=undef
useithreads=define, usemultiplicity=define
useperlio=define, d_sfio=undef, uselargefiles=define, usesocks=undef
use64bitint=undef, use64bitall=undef, uselongdouble=undef
usemymalloc=n, bincompat5005=undef
Compiler:
cc='cl', ccflags ='-nologo -GF -W3 -MD -Zi -DNDEBUG -O1 -DWIN32 -D_CONSOLE -DNO_STRICT -DPERL_TEXTMODE_SCRIPTS -DPERL_IMPLICIT_CONTEXT -DPERL_IMPLICIT_SYS -DUSE_PERLIO -D_USE_32BIT_TIME_T',
optimize='-MD -Zi -DNDEBUG -O1',
cppflags='-DWIN32'
ccversion='12.00.8804', gccversion='', gccosandvers=''
intsize=4, longsize=4, ptrsize=4, doublesize=8, byteorder=1234
d_longlong=undef, longlongsize=8, d_longdbl=define, longdblsize=8
ivtype='long', ivsize=4, nvtype='double', nvsize=8, Off_t='__int64', lseeksize=8
alignbytes=8, prototype=define
Linker and Libraries:
ld='link', ldflags ='-nologo -nodefaultlib -debug -opt:ref,icf -libpath:"c:\home\stro\perl\perl5140\lib\CORE" -machine:x86'
libpth=\lib
libs=oldnames.lib kernel32.lib user32.lib gdi32.lib winspool.lib comdlg32.lib advapi32.lib shell32.lib ole32.lib oleaut32.lib netapi32.lib uuid.lib ws2_32.lib mpr.lib winmm.lib version.lib odbc32.lib odbccp32.lib comctl32.lib msvcrt.lib
perllibs=oldnames.lib kernel32.lib user32.lib gdi32.lib winspool.lib comdlg32.lib advapi32.lib shell32.lib ole32.lib oleaut32.lib netapi32.lib uuid.lib ws2_32.lib mpr.lib winmm.lib version.lib odbc32.lib odbccp32.lib comctl32.lib msvcrt.lib
libc=msvcrt.lib, so=dll, useshrplib=true, libperl=perl514.lib
gnulibc_version=''
Dynamic Linking:
dlsrc=dl_win32.xs, dlext=dll, d_dlsymun=undef, ccdlflags=' '
cccdlflags=' ', lddlflags='-dll -nologo -nodefaultlib -debug -opt:ref,icf -libpath:"c:\home\stro\perl\perl5140\lib\CORE" -machine:x86'
Characteristics of this binary (from libperl):
Compile-time options: MULTIPLICITY PERL_DONT_CREATE_GVSV
PERL_IMPLICIT_CONTEXT PERL_IMPLICIT_SYS
PERL_MALLOC_WRAP PERL_PRESERVE_IVUV PL_OP_SLAB_ALLOC
USE_ITHREADS USE_LARGE_FILES USE_PERLIO
USE_PERL_ATOF
Built under MSWin32
Compiled at May 23 2011 23:55:49
%ENV:
PERL5_CPANPLUS_IS_RUNNING="1716"
PERL5_CPAN_IS_RUNNING="1716"
PERL5_CPAN_IS_RUNNING_IN_RECURSION="4772,1716"
PERL_CR_SMOKER_CURRENT="Class-Value-Net-1.110250"
PERL_EXTUTILS_AUTOINSTALL="--defaultdeps"
PERL_MM_USE_DEFAULT="1"
@INC:
C:/home/stro/perl/perl5140/site/lib
C:/home/stro/perl/perl5140/lib
.