Report for Variable-Strongly-Typed-v1.1.0

Back
From: metabase:user:321e86e2-2aae-11df-837a-5e0a49663a4f
Subject: PASS Variable-Strongly-Typed-v1.1.0 v5.8.6 GNU/Linux
Date: 2011-01-23T02:57:20Z

This distribution has been tested as part of the CPAN Testers
project, supporting the Perl programming language.  See
http://wiki.cpantesters.org/ for more information or email
questions to cpan-testers-discuss@perl.org


--

Dear METZZO,
    
This is a computer-generated error report created automatically by
CPANPLUS, version 0.9011. Testers personal comments may appear 
at the end of this report.

MAKE TEST passed:
# Testing Variable::Strongly::Typed 1.1.0
t/00.load.t ......... ok
# Testing Variable::Strongly::Typed 1.1.0
t/01.simple.type.t .. ok
# Testing Variable::Strongly::Typed 1.1.0
# Valid sub got 33
# Valid sub got 44
# Valid sub got 9999
# only_44 is now 44
t/02.my.type.t ...... ok
# Testing Variable::Strongly::Typed 1.1.0
t/03.array.type.t ... ok
# Testing Variable::Strongly::Typed 1.1.0
t/04.hash.type.t .... ok
# Testing Variable::Strongly::Typed 1.1.0
t/05.no.type.t ...... ok
# Testing Variable::Strongly::Typed 1.1.0
# Caught bad assignment: sdklsdlk
t/06.code.t ......... ok
t/pod-coverage.t .... skipped: Test::Pod::Coverage 1.04 required for testing POD coverage
t/pod.t ............. skipped: Test::Pod 1.14 required for testing POD
All tests successful.
Files=9, Tests=48,  1 wallclock secs ( 0.01 usr  0.08 sys +  0.16 cusr  0.12 csys =  0.37 CPU)
Result: PASS

[MSG] [Sat Jan 22 19:57:20 2011] Sending test report for 'Variable-Strongly-Typed-v1.1.0'

This report was machine-generated by CPANPLUS::Dist::YACSmoke 0.62.

------------------------------
ENVIRONMENT AND OTHER CONTEXT
------------------------------

Environment variables:

    AUTOMATED_TESTING = 1
    LANG = en_US.UTF-8
    PATH = /usr/local/sbin:/usr/local/bin:/usr/sbin:/usr/bin:/sbin:/bin:/usr/games
    PERL5LIB = :/home/cpan/cpanp_conf/perl_5.8.6_default/.cpanplus/5.8.6/build/Class-Std-Utils-v0.0.3/blib/lib:/home/cpan/cpanp_conf/perl_5.8.6_default/.cpanplus/5.8.6/build/Class-Std-Utils-v0.0.3/blib/arch:/home/cpan/cpanp_conf/perl_5.8.6_default/.cpanplus/5.8.6/build/Variable-Strongly-Typed-v1.1.0/blib/lib:/home/cpan/cpanp_conf/perl_5.8.6_default/.cpanplus/5.8.6/build/Variable-Strongly-Typed-v1.1.0/blib/arch
    PERL5_CPANIDX_URL = http://192.168.0.200:11110/CPANIDX/
    PERL5_CPANPLUS_IS_RUNNING = 6528
    PERL5_CPANPLUS_IS_VERSION = 0.9011
    PERL5_YACSMOKE_BASE = /home/cpan/cpanp_conf/perl_5.8.6_default
    PERL_CPANSMOKER_HOST = perl_5.8.6_default / Ubuntu 10.10 server 32bit (192.168.0.201)
    PERL_EXTUTILS_AUTOINSTALL = --defaultdeps
    PERL_MM_USE_DEFAULT = 1
    SHELL = /bin/bash
    TERM = xterm

Perl special variables (and OS-specific diagnostics, for MSWin32):

    Perl: $^X = /home/cpan/perls/perl_5.8.6_default/bin/perl
    UID:  $<  = 1001
    EUID: $>  = 1001
    GID:  $(  = 1002 1002
    EGID: $)  = 1002 1002


-------------------------------


--

Summary of my perl5 (revision 5 version 8 subversion 6) configuration:
  Platform:
    osname=linux, osvers=2.6.35-22-generic-pae, archname=i686-linux
    uname='linux ubuntu32 2.6.35-22-generic-pae #35-ubuntu smp sat oct 16 22:16:51 utc 2010 i686 gnulinux '
    config_args='-des -Dprefix=/home/cpan/perls/perl_5.8.6_default -Ui_db'
    hint=recommended, useposix=true, d_sigaction=define
    usethreads=undef use5005threads=undef useithreads=undef usemultiplicity=undef
    useperlio=define d_sfio=undef uselargefiles=define usesocks=undef
    use64bitint=undef use64bitall=undef uselongdouble=undef
    usemymalloc=n, bincompat5005=undef
  Compiler:
    cc='cc', ccflags ='-fno-strict-aliasing -pipe -I/usr/local/include -D_LARGEFILE_SOURCE -D_FILE_OFFSET_BITS=64',
    optimize='-O2',
    cppflags='-fno-strict-aliasing -pipe -I/usr/local/include'
    ccversion='', gccversion='4.4.5', gccosandvers=''
    intsize=4, longsize=4, ptrsize=4, doublesize=8, byteorder=1234
    d_longlong=define, longlongsize=8, d_longdbl=define, longdblsize=12
    ivtype='long', ivsize=4, nvtype='double', nvsize=8, Off_t='off_t', lseeksize=8
    alignbytes=4, prototype=define
  Linker and Libraries:
    ld='cc', ldflags =' -L/usr/local/lib'
    libpth=/usr/local/lib /lib /usr/lib
    libs=-lnsl -ldl -lm -lcrypt -lutil -lc
    perllibs=-lnsl -ldl -lm -lcrypt -lutil -lc
    libc=/lib/libc-2.12.1.so, so=so, useshrplib=false, libperl=libperl.a
    gnulibc_version='2.12.1'
  Dynamic Linking:
    dlsrc=dl_dlopen.xs, dlext=so, d_dlsymun=undef, ccdlflags='-Wl,-E'
    cccdlflags='-fpic', lddlflags='-shared -L/usr/local/lib'


Characteristics of this binary (from libperl): 
  Compile-time options: USE_LARGE_FILES
  Built under linux
  Compiled at Jan 18 2011 15:14:30
  %ENV:
    PERL5LIB=":/home/cpan/cpanp_conf/perl_5.8.6_default/.cpanplus/5.8.6/build/Class-Std-Utils-v0.0.3/blib/lib:/home/cpan/cpanp_conf/perl_5.8.6_default/.cpanplus/5.8.6/build/Class-Std-Utils-v0.0.3/blib/arch:/home/cpan/cpanp_conf/perl_5.8.6_default/.cpanplus/5.8.6/build/Variable-Strongly-Typed-v1.1.0/blib/lib:/home/cpan/cpanp_conf/perl_5.8.6_default/.cpanplus/5.8.6/build/Variable-Strongly-Typed-v1.1.0/blib/arch"
    PERL5_CPANIDX_URL="http://192.168.0.200:11110/CPANIDX/"
    PERL5_CPANPLUS_IS_RUNNING="6528"
    PERL5_CPANPLUS_IS_VERSION="0.9011"
    PERL5_YACSMOKE_BASE="/home/cpan/cpanp_conf/perl_5.8.6_default"
    PERL_CPANSMOKER_HOST="perl_5.8.6_default / Ubuntu 10.10 server 32bit (192.168.0.201)"
    PERL_EXTUTILS_AUTOINSTALL="--defaultdeps"
    PERL_MM_USE_DEFAULT="1"
  @INC:
    /home/cpan/cpanp_conf/perl_5.8.6_default/.cpanplus/5.8.6/build/Class-Std-Utils-v0.0.3/blib/lib
    /home/cpan/cpanp_conf/perl_5.8.6_default/.cpanplus/5.8.6/build/Class-Std-Utils-v0.0.3/blib/arch
    /home/cpan/cpanp_conf/perl_5.8.6_default/.cpanplus/5.8.6/build/Variable-Strongly-Typed-v1.1.0/blib/lib
    /home/cpan/cpanp_conf/perl_5.8.6_default/.cpanplus/5.8.6/build/Variable-Strongly-Typed-v1.1.0/blib/arch
    /home/cpan/perls/perl_5.8.6_default/lib/5.8.6/i686-linux
    /home/cpan/perls/perl_5.8.6_default/lib/5.8.6
    /home/cpan/perls/perl_5.8.6_default/lib/site_perl/5.8.6/i686-linux
    /home/cpan/perls/perl_5.8.6_default/lib/site_perl/5.8.6
    /home/cpan/perls/perl_5.8.6_default/lib/site_perl
    .