Back
From: metabase:user:314402c4-2aae-11df-837a-5e0a49663a4f
Subject: PASS lib-remote-0.11 v5.24.1 RC3 GNU/Linux
Date: 2016-09-03T23:02:31Z
This distribution has been tested as part of the CPAN Testers
project, supporting the Perl programming language. See
http://wiki.cpantesters.org/ for more information or email
questions to cpan-testers-discuss@perl.org
--
Dear Mikhail Che,
This is a computer-generated report for lib-remote-0.11
on perl 5.24.1, created by CPAN-Reporter-1.2018.
Thank you for uploading your work to CPAN. Congratulations!
All tests were successful.
Sections of this report:
* Tester comments
* Program output
* Prerequisites
* Environment and other context
------------------------------
TESTER COMMENTS
------------------------------
Additional comments from tester:
none provided
------------------------------
PROGRAM OUTPUT
------------------------------
Output from './Build test':
Smartmatch is experimental at /tmpfs/.cpan-build-cpansand/2016090321/lib-remote-0.11-0/blib/lib/lib/remote.pm line 133.
Smartmatch is experimental at /tmpfs/.cpan-build-cpansand/2016090321/lib-remote-0.11-0/blib/lib/lib/remote.pm line 140.
# Testing lib::remote 0.11, Perl 5.024001, /bbbike/perl-5.24.1-RC3/bin/perl
t/00-load.t ....... ok
Smartmatch is experimental at /tmpfs/.cpan-build-cpansand/2016090321/lib-remote-0.11-0/blib/lib/lib/remote.pm line 133.
Smartmatch is experimental at /tmpfs/.cpan-build-cpansand/2016090321/lib-remote-0.11-0/blib/lib/lib/remote.pm line 140.
Module::Stubber: Can't locate Unavailable/Module/As/Stub.pm in @INC (you may need to install the Unavailable::Module::As::Stub module) (@INC contains: /tmpfs/.cpan-build-cpansand/2016090321/lib-remote-0.11-0/blib/lib /tmpfs/.cpan-build-cpansand/2016090321/lib-remote-0.11-0/blib/arch /opt/perl-5.24.1-RC3/lib/site_perl/5.24.1/x86_64-linux /opt/perl-5.24.1-RC3/lib/site_perl/5.24.1 /opt/perl-5.24.1-RC3/lib/5.24.1/x86_64-linux /opt/perl-5.24.1-RC3/lib/5.24.1 CODE(0x2489900)) at /loader/0x2489900/Module::Stubber line 85.
Subroutine _can_warn redefined at /opt/perl-5.24.1-RC3/lib/site_perl/5.24.1/Module/Stubber.pm line 20.
Subroutine AUTOLOAD redefined at /opt/perl-5.24.1-RC3/lib/site_perl/5.24.1/Module/Stubber.pm line 26.
Subroutine new redefined at /opt/perl-5.24.1-RC3/lib/site_perl/5.24.1/Module/Stubber.pm line 44.
Subroutine import redefined at /opt/perl-5.24.1-RC3/lib/site_perl/5.24.1/Module/Stubber.pm line 52.
Subroutine import redefined at /opt/perl-5.24.1-RC3/lib/site_perl/5.24.1/Module/Stubber.pm line 73.
Module::Stubber: Can't locate Unavailable/Module/As/Stub2.pm in @INC (you may need to install the Unavailable::Module::As::Stub2 module) (@INC contains: /tmpfs/.cpan-build-cpansand/2016090321/lib-remote-0.11-0/blib/lib /tmpfs/.cpan-build-cpansand/2016090321/lib-remote-0.11-0/blib/arch /opt/perl-5.24.1-RC3/lib/site_perl/5.24.1/x86_64-linux /opt/perl-5.24.1-RC3/lib/site_perl/5.24.1 /opt/perl-5.24.1-RC3/lib/5.24.1/x86_64-linux /opt/perl-5.24.1-RC3/lib/5.24.1 CODE(0x2489900)) at /opt/perl-5.24.1-RC3/lib/site_perl/5.24.1/Module/Stubber.pm line 85.
Runtime start at t/01-use.t line 11.
*** 'Unavailable::Module::As::Stub::new' requested at t/01-use.t:23
*** This symbol does not really exist, and has been
*** implemented as a stub by Module::Stubber.
*** Depending on how important
*** this function is, this program may not function
*** correctly. This message will only display once.
lib::remote->import: incoming args = [ XXX HASH(0x24769f8) ] at t/01-use.t line 53.
lib::remote->INC_dispatcher: try dispatch of [XXX][path=XXX.pm][arg=XXX]] at t/01-use.t line 53.
lib::remote->INC_dispatcher: try dispatch of [Encode::ConfigLocal][path=Encode/ConfigLocal.pm][arg=Encode/ConfigLocal.pm]] at /opt/perl-5.24.1-RC3/lib/site_perl/5.24.1/x86_64-linux/Encode.pm line 61.
lib::remote->INC_dispatcher: success LWP get content [XXX] by url=[ http://api.metacpan.org/source/INGY/XXX-0.18/lib/XXX.pm ] at t/01-use.t line 53.
lib::remote->import: success done [require XXX]
at t/01-use.t line 53.
lib::remote->import: success done [XXX->import(-with Data::Dumper)]
at t/01-use.t line 53.
Load the remote module: XXX at t/01-use.t line 53.
lib::remote->import: incoming args = [ Scalar::Random::PP HASH(0x2afe768) ] at t/01-use.t line 60.
lib::remote->INC_dispatcher: try dispatch of [Scalar::Random::PP][path=Scalar/Random/PP.pm][arg=Scalar::Random::PP]] at t/01-use.t line 60.
lib::remote->INC_dispatcher: success LWP get content [Scalar::Random::PP] by url [ http://api.metacpan.org/source/INGY/Scalar-Random-PP-0.11/lib/Scalar/Random/PP.pm ] at t/01-use.t line 60.
Constants from lexical variables potentially modified elsewhere are deprecated at /opt/perl-5.24.1-RC3/lib/site_perl/5.24.1/Scalar/Random/PP/OO.pm line 1144.
lib::remote->import: success done [require Scalar::Random::PP]
at t/01-use.t line 60.
# Testing lib::remote Module::Stubber(0.03)=[Unavailable::Module::As::Stub=SCALAR(0x2ad59e0)]&[Unavailable::Module::As::Stub2=SCALAR(0x1c114d8)] Module::Hash(0.002)::Math::BigInt=[154919371] Scalar::Random::PP->randomize(1000)=[195]
Runtime stop at t/01-use.t line 72.
*** 'Unavailable::Module::As::Stub::DESTROY' requested at t/01-use.t:72
*** This symbol does not really exist, and has been
*** implemented as a stub by Module::Stubber.
*** Depending on how important
*** this function is, this program may not function
*** correctly. This message will only display once.
t/01-use.t ........ ok
t/boilerplate.t ... ok
t/manifest.t ...... skipped: Author tests not required for installation
Smartmatch is experimental at /tmpfs/.cpan-build-cpansand/2016090321/lib-remote-0.11-0/blib/lib/lib/remote.pm line 133.
Smartmatch is experimental at /tmpfs/.cpan-build-cpansand/2016090321/lib-remote-0.11-0/blib/lib/lib/remote.pm line 140.
t/pod-coverage.t .. ok
t/pod.t ........... ok
All tests successful.
Test Summary Report
-------------------
t/boilerplate.t (Wstat: 0 Tests: 3 Failed: 0)
TODO passed: 1, 3
Files=6, Tests=8, 1 wallclock secs ( 0.03 usr 0.02 sys + 0.35 cusr 0.06 csys = 0.46 CPU)
Result: PASS
------------------------------
PREREQUISITES
------------------------------
Prerequisite modules loaded:
requires:
Module Need Have
-------------- ----- --------
LWP::UserAgent 0 6.15
perl 5.006 5.024001
build_requires:
Module Need Have
-------------- ----- --------
Test::More 0 1.302052
configure_requires:
Module Need Have
-------------- ----- --------
Module::Build 0.40 0.4220
------------------------------
ENVIRONMENT AND OTHER CONTEXT
------------------------------
Environment variables:
LANG = C
LC_ALL = de_DE.UTF-8
PATH = /usr/local/bin:/usr/bin:/bin:/usr/local/sbin:/usr/sbin:/sbin:/home/cpansand/bin/linux-gnu:/home/cpansand/bin/sh:/home/cpansand/bin:/usr/games:/home/cpansand/devel:/home/eserte/src/srezic-misc/scripts
PERL5LIB =
PERL5OPT =
PERL5_CPANPLUS_IS_RUNNING = 13906
PERL5_CPAN_IS_RUNNING = 13906
PERL5_CPAN_IS_RUNNING_IN_RECURSION = 21697,13906
PERLDOC = -MPod::Perldoc::ToTextOverstrike
PERL_BATCH = yes
PERL_CANARY_STABILITY_NOPROMPT = 1
PERL_CPAN_REPORTER_CONFIG = /run/user/1023/cpansmoker/2016090309/cpanreporter_000_config.ini
PERL_EXTUTILS_AUTOINSTALL = --defaultdeps
PERL_PARALLEL_SMOKER = yes
PERL_USE_UNSAFE_INC = 1
SHELL = /bin/zsh
TERM = screen
TMPDIR = /run/user/1023/cpansmoker/2016090309
Perl special variables (and OS-specific diagnostics, for MSWin32):
$^X = /bbbike/perl-5.24.1-RC3/bin/perl
$UID/$EUID = 1023 / 1023
$GID = 1023 1023
$EGID = 1023 1023
Perl module toolchain versions installed:
Module Have
------------------- --------
CPAN 2.14
CPAN::Meta 2.150010
Cwd 3.62
ExtUtils::CBuilder 0.280224
ExtUtils::Command 7.22
ExtUtils::Install 2.04
ExtUtils::MakeMaker 7.22
ExtUtils::Manifest 1.70
ExtUtils::ParseXS 3.30
File::Spec 3.62
JSON 2.90
JSON::PP 2.27400
Module::Build 0.4220
Module::Signature 0.80
Parse::CPAN::Meta 2.150010
Test::Harness 3.36
Test::More 1.302052
YAML 1.18
YAML::Syck 1.29
version 0.9917
--
Summary of my perl5 (revision 5 version 24 subversion 1) configuration:
Platform:
osname=linux, osvers=3.16.0-4-amd64, archname=x86_64-linux
uname='linux eserte 3.16.0-4-amd64 #1 smp debian 3.16.7-ckt25-2+deb8u3 (2016-07-02) x86_64 gnulinux '
config_args='-ds -e -Dprefix=/opt/perl-5.24.1-RC3 -Dcf_email=srezic@cpan.org'
hint=recommended, useposix=true, d_sigaction=define
useithreads=undef, usemultiplicity=undef
use64bitint=define, use64bitall=define, uselongdouble=undef
usemymalloc=n, bincompat5005=undef
Compiler:
cc='cc', ccflags ='-fwrapv -fno-strict-aliasing -pipe -fstack-protector-strong -I/usr/local/include -D_LARGEFILE_SOURCE -D_FILE_OFFSET_BITS=64 -D_FORTIFY_SOURCE=2',
optimize='-O2',
cppflags='-fwrapv -fno-strict-aliasing -pipe -fstack-protector-strong -I/usr/local/include'
ccversion='', gccversion='4.9.2', gccosandvers=''
intsize=4, longsize=8, ptrsize=8, doublesize=8, byteorder=12345678, doublekind=3
d_longlong=define, longlongsize=8, d_longdbl=define, longdblsize=16, longdblkind=3
ivtype='long', ivsize=8, nvtype='double', nvsize=8, Off_t='off_t', lseeksize=8
alignbytes=8, prototype=define
Linker and Libraries:
ld='cc', ldflags =' -fstack-protector-strong -L/usr/local/lib'
libpth=/usr/local/lib /usr/lib/gcc/x86_64-linux-gnu/4.9/include-fixed /usr/include/x86_64-linux-gnu /usr/lib /lib/x86_64-linux-gnu /lib/../lib /usr/lib/x86_64-linux-gnu /usr/lib/../lib /lib
libs=-lpthread -lnsl -lgdbm -ldb -ldl -lm -lcrypt -lutil -lc -lgdbm_compat
perllibs=-lpthread -lnsl -ldl -lm -lcrypt -lutil -lc
libc=libc-2.19.so, so=so, useshrplib=false, libperl=libperl.a
gnulibc_version='2.19'
Dynamic Linking:
dlsrc=dl_dlopen.xs, dlext=so, d_dlsymun=undef, ccdlflags='-Wl,-E'
cccdlflags='-fPIC', lddlflags='-shared -O2 -L/usr/local/lib -fstack-protector-strong'
Characteristics of this binary (from libperl):
Compile-time options: HAS_TIMES PERLIO_LAYERS PERL_COPY_ON_WRITE
PERL_DONT_CREATE_GVSV
PERL_HASH_FUNC_ONE_AT_A_TIME_HARD PERL_MALLOC_WRAP
PERL_PRESERVE_IVUV USE_64_BIT_ALL USE_64_BIT_INT
USE_LARGE_FILES USE_LOCALE USE_LOCALE_COLLATE
USE_LOCALE_CTYPE USE_LOCALE_NUMERIC USE_LOCALE_TIME
USE_PERLIO USE_PERL_ATOF
Locally applied patches:
RC3
Built under linux
Compiled at Aug 19 2016 14:16:54
%ENV:
PERL5LIB=""
PERL5OPT=""
PERL5_CPANPLUS_IS_RUNNING="13906"
PERL5_CPAN_IS_RUNNING="13906"
PERL5_CPAN_IS_RUNNING_IN_RECURSION="21697,13906"
PERLDOC="-MPod::Perldoc::ToTextOverstrike"
PERL_BATCH="yes"
PERL_CANARY_STABILITY_NOPROMPT="1"
PERL_CPAN_REPORTER_CONFIG="/run/user/1023/cpansmoker/2016090309/cpanreporter_000_config.ini"
PERL_EXTUTILS_AUTOINSTALL="--defaultdeps"
PERL_PARALLEL_SMOKER="yes"
PERL_USE_UNSAFE_INC="1"
@INC:
/opt/perl-5.24.1-RC3/lib/site_perl/5.24.1/x86_64-linux
/opt/perl-5.24.1-RC3/lib/site_perl/5.24.1
/opt/perl-5.24.1-RC3/lib/5.24.1/x86_64-linux
/opt/perl-5.24.1-RC3/lib/5.24.1
.