Cog v0.11 Perl 5 v5.41.7 x86_64-linux-thread-multi

Status
Pass
From
Andreas J. König (ANDK)
Dist
Cog v0.11
Platform
Perl 5 v5.41.7 x86_64-linux-thread-multi
Date
2025-01-06 13:02:32
ID
7e307e1e-cc2e-11ef-b6dc-97cd9efda7ee
This distribution has been tested as part of the CPAN Testers
project, supporting the Perl programming language.  See
http://wiki.cpantesters.org/ for more information or email
questions to cpan-testers-discuss@perl.org


--
Dear Ingy dot Net,

This is a computer-generated report for Cog-0.11
on perl 5.41.7, created by CPAN-Reporter-1.2020.

Thank you for uploading your work to CPAN.  Congratulations!
All tests were successful.

Sections of this report:

    * Tester comments
    * Program output
    * Prerequisites
    * Environment and other context

------------------------------
TESTER COMMENTS
------------------------------

Additional comments from tester:

this report is from an automated smoke testing program
and was not reviewed by a human for accuracy

------------------------------
PROGRAM OUTPUT
------------------------------

Output from '/usr/bin/make test':

Skip blib/lib/auto/share/dist/Cog/template/css-mf.mk (unchanged)
Skip blib/lib/auto/share/dist/Cog/js/jquery.cookie.js (unchanged)
Skip blib/lib/auto/share/dist/Cog/js/jquery-1.11.3.js (unchanged)
Skip blib/lib/auto/share/dist/Cog/css/page-display.css (unchanged)
Skip blib/lib/auto/share/dist/Cog/template/head.html (unchanged)
Skip blib/lib/auto/share/dist/Cog/template/index-table.html (unchanged)
Skip blib/lib/auto/share/dist/Cog/js/jquery-json.js (unchanged)
Skip blib/lib/auto/share/dist/Cog/template/index.html (unchanged)
Skip blib/lib/auto/share/dist/Cog/template/404.html (unchanged)
Skip blib/lib/auto/share/dist/Cog/js/jquery-ui.js (unchanged)
Skip blib/lib/auto/share/dist/Cog/image/favicon.ico (unchanged)
Skip blib/lib/auto/share/dist/Cog/css/reset.css (unchanged)
Skip blib/lib/auto/share/dist/Cog/css/layout.css (unchanged)
Skip blib/lib/auto/share/dist/Cog/image/tile.gif (unchanged)
Skip blib/lib/auto/share/dist/Cog/js/cog.js (unchanged)
Skip blib/lib/auto/share/dist/Cog/template/javascript.html (unchanged)
Skip blib/lib/auto/share/dist/Cog/template/config.js (unchanged)
Skip blib/lib/auto/share/dist/Cog/template/js-mf.mk (unchanged)
Skip blib/lib/auto/share/dist/Cog/template/config.yaml (unchanged)
Skip blib/lib/auto/share/dist/Cog/css/layout-table.css (unchanged)
Skip blib/lib/auto/share/dist/Cog/js/jquery.jemplate.js (unchanged)
Skip blib/lib/auto/share/dist/Cog/template/header.html (unchanged)
Skip blib/lib/auto/share/dist/Cog/js/jquery.js (unchanged)
Skip blib/lib/auto/share/dist/Cog/js/jquery-ui-1.11.4.js (unchanged)
Skip blib/lib/auto/share/dist/Cog/js/jquery.json-2.5.1.js (unchanged)
Skip blib/lib/auto/share/dist/Cog/css/page-list.css (unchanged)
Skip blib/lib/auto/share/dist/Cog/template/layout-table.html (unchanged)
Skip blib/lib/auto/share/dist/Cog/template/login-navigation.html (unchanged)
Skip blib/lib/auto/share/dist/Cog/js/fixups.js (unchanged)
Skip blib/lib/auto/share/dist/Cog/image/logo.png (unchanged)
Skip blib/lib/auto/share/dist/Cog/template/start.js (unchanged)
Skip blib/lib/auto/share/dist/Cog/template/site-navigation.html (unchanged)
Skip blib/lib/auto/share/dist/Cog/template/main.html (unchanged)
Skip blib/lib/auto/share/dist/Cog/template/page-display.html (unchanged)
Skip blib/lib/auto/share/dist/Cog/template/url-map.js (unchanged)
Skip blib/lib/auto/share/dist/Cog/template/tag-list.html (unchanged)
Skip blib/lib/auto/share/dist/Cog/template/page-list.html (unchanged)
PERL_DL_NONLAZY=1 "/tmp/basesmoker-reloperl-W0Fp/bin/perl" "-MExtUtils::Command::MM" "-MTest::Harness" "-e" "undef *Test::Harness::Switches; test_harness(0, 'blib/lib', 'blib/arch')" t/*.t
t/000-compile-modules.t .. ok
t/release-pod-syntax.t ... skipped: these tests are for release candidate testing
t/use_ok.t ............... ok
All tests successful.
Files=3, Tests=19,  0 wallclock secs ( 0.03 usr  0.00 sys +  0.59 cusr  0.08 csys =  0.70 CPU)
Result: PASS

------------------------------
PREREQUISITES
------------------------------

Prerequisite modules loaded:

requires:

    Module                      Need     Have      
    --------------------------- -------- ----------
    Convert::Base32::Crockford  0        0.16      
    File::Basename              0        2.86      
    File::Copy                  0        2.41      
    File::ShareDir              0        1.118     
    IO::All                     0        0.87      
    IPC::Run                    0        20231003.0
    Jemplate                    0        0.30      
    JSON                        0        4.10      
    Mo                          0        0.40      
    perl                        5.008001 5.041007  
    Plack                       0        1.0051    
    Plack::Middleware::Cache    0        0.19      
    Plack::Middleware::ETag     0        0.05      
    Plack::Middleware::Header   0        0.04      
  ! Plack::Middleware::ProxyMap 0        n/a       
    Pod::Simple::HTML           0        3.45      
    Template::Toolkit::Simple   0        0.31      
    YAML::XS                    0        v0.902.0  

build_requires:

    Module                      Need     Have      
    --------------------------- -------- ----------
    ExtUtils::MakeMaker         0        7.70      

configure_requires:

    Module                      Need     Have      
    --------------------------- -------- ----------
    ExtUtils::MakeMaker         0        7.70      
    File::ShareDir::Install     0.06     0.14      


------------------------------
ENVIRONMENT AND OTHER CONTEXT
------------------------------

Environment variables:

    AUTOMATED_TESTING = 1
    LANG = en_US.UTF-8
    PATH = /home/sand/bin:/usr/local/bin:/usr/local/sbin:/usr/sbin:/usr/bin:/sbin:/bin:/usr/games:/usr/local/games:/snap/bin:/usr/local/perl/bin:/usr/X11/bin
    PERL = /tmp/basesmoker-reloperl-W0Fp/bin/perl
    PERL5LIB = /tmp/loop_over_bdir-104923-Sg0oE9/Lingua-YaTeA-0.626-0/blib/arch:/tmp/loop_over_bdir-104923-Sg0oE9/Lingua-YaTeA-0.626-0/blib/lib:/tmp/loop_over_bdir-104923-Sg0oE9/Linux-InitFS-0.2-0/blib/arch:/tmp/loop_over_bdir-104923-Sg0oE9/Linux-InitFS-0.2-0/blib/lib:/tmp/loop_over_bdir-104923-Sg0oE9/NoZone-1.3-0/blib/arch:/tmp/loop_over_bdir-104923-Sg0oE9/NoZone-1.3-0/blib/lib:/tmp/loop_over_bdir-104923-Sg0oE9/LiquidWeb-Storm-CLI-1.03-0/blib/arch:/tmp/loop_over_bdir-104923-Sg0oE9/LiquidWeb-Storm-CLI-1.03-0/blib/lib:/tmp/loop_over_bdir-104923-Sg0oE9/triceps-2.1.0-0/blib/arch:/tmp/loop_over_bdir-104923-Sg0oE9/triceps-2.1.0-0/blib/lib:/tmp/loop_over_bdir-104923-Sg0oE9/perl-Hardware-UPS-Perl-0.43-0/blib/arch:/tmp/loop_over_bdir-104923-Sg0oE9/perl-Hardware-UPS-Perl-0.43-0/blib/lib:/tmp/loop_over_bdir-104923-Sg0oE9/Business-Shipping-DataFiles-1.02-0/blib/arch:/tmp/loop_over_bdir-104923-Sg0oE9/Business-Shipping-DataFiles-1.02-0/blib/lib:/tmp/loop_over_bdir-104923-Sg0oE9/App-nrun-v1.1.2-0/blib/arch:/tmp/loop_over_bdir-104923-Sg0oE9/App-nrun-v1.1.2-0/blib/lib:/tmp/loop_over_bdir-104923-Sg0oE9/downsexta-0/blib/arch:/tmp/loop_over_bdir-104923-Sg0oE9/downsexta-0/blib/lib:/tmp/loop_over_bdir-104923-Sg0oE9/Devel-Required-0.16-0/blib/arch:/tmp/loop_over_bdir-104923-Sg0oE9/Devel-Required-0.16-0/blib/lib:/tmp/loop_over_bdir-104923-Sg0oE9/Simulation-Automate-1.0.1-0/blib/arch:/tmp/loop_over_bdir-104923-Sg0oE9/Simulation-Automate-1.0.1-0/blib/lib
    PERL5OPT = 
    PERL5_CPANPLUS_IS_RUNNING = 104931
    PERL5_CPAN_IS_RUNNING = 104931
    PERL_CANARY_STABILITY_NOPROMPT = 1
    PERL_MM_USE_DEFAULT = 1
    PERL_USE_UNSAFE_INC = 1
    SHELL = /usr/bin/zsh
    TERM = screen

Perl special variables (and OS-specific diagnostics, for MSWin32):

    $^X = /tmp/basesmoker-reloperl-W0Fp/bin/perl
    $UID/$EUID = 1005 / 1005
    $GID = 1005 1005
    $EGID = 1005 1005

Perl module toolchain versions installed:

    Module              Have    
    ------------------- --------
    CPAN                2.38    
    CPAN::Meta          2.150010
    Cwd                 3.92    
    ExtUtils::CBuilder  0.280240
    ExtUtils::Command   7.70    
    ExtUtils::Install   2.22    
    ExtUtils::MakeMaker 7.70    
    ExtUtils::Manifest  1.75    
    ExtUtils::ParseXS   3.56    
    File::Spec          3.93    
    JSON                4.10    
    JSON::PP            4.16    
    Module::Build       0.4234  
    Module::Signature   0.89    
    Parse::CPAN::Meta   2.150010
    Test2               1.302206
    Test::Harness       3.50    
    Test::More          1.302206
    YAML                1.31    
    YAML::Syck          1.34    
    version             0.9933  


--

Summary of my perl5 (revision 5 version 41 subversion 7) configuration:
  Commit id: 3a3761b09845d0d6d68f91eb45c52ae70de89489
  Platform:
    osname=linux
    osvers=5.4.0-200-generic
    archname=x86_64-linux-thread-multi
    uname='linux k93focal 5.4.0-200-generic #220-ubuntu smp fri sep 27 13:19:16 utc 2024 x86_64 x86_64 x86_64 gnulinux '
    config_args='-Dprefix=/home/sand/src/perl/repoperls/installed-perls/host/k93focal/v5.41.7/d119 -Dmyhostname=k93focal -Dinstallusrbinperl=n -Uversiononly -Dusedevel -des -Ui_db -Dlibswanted=cl pthread socket inet nsl gdbm dbm malloc dl ld sun m crypt sec util c cposix posix ucb BSD gdbm_compat -Duseithreads -Uuselongdouble -DEBUGGING=both'
    hint=recommended
    useposix=true
    d_sigaction=define
    useithreads=define
    usemultiplicity=define
    use64bitint=define
    use64bitall=define
    uselongdouble=undef
    usemymalloc=n
    default_inc_excludes_dot=define
  Compiler:
    cc='cc'
    ccflags ='-D_REENTRANT -D_GNU_SOURCE -fwrapv -DDEBUGGING -fno-strict-aliasing -pipe -fstack-protector-strong -I/usr/local/include -D_LARGEFILE_SOURCE -D_FILE_OFFSET_BITS=64'
    optimize='-O2 -g'
    cppflags='-D_REENTRANT -D_GNU_SOURCE -fwrapv -DDEBUGGING -fno-strict-aliasing -pipe -fstack-protector-strong -I/usr/local/include'
    ccversion=''
    gccversion='9.4.0'
    gccosandvers=''
    intsize=4
    longsize=8
    ptrsize=8
    doublesize=8
    byteorder=12345678
    doublekind=3
    d_longlong=define
    longlongsize=8
    d_longdbl=define
    longdblsize=16
    longdblkind=3
    ivtype='long'
    ivsize=8
    nvtype='double'
    nvsize=8
    Off_t='off_t'
    lseeksize=8
    alignbytes=8
    prototype=define
  Linker and Libraries:
    ld='cc'
    ldflags =' -fstack-protector-strong -L/usr/local/lib'
    libpth=/usr/local/lib /usr/lib/x86_64-linux-gnu /usr/lib /usr/lib64
    libs=-lpthread -lnsl -ldl -lm -lcrypt -lutil -lc
    perllibs=-lpthread -lnsl -ldl -lm -lcrypt -lutil -lc
    libc=libc-2.31.so
    so=so
    useshrplib=false
    libperl=libperl.a
    gnulibc_version='2.31'
  Dynamic Linking:
    dlsrc=dl_dlopen.xs
    dlext=so
    d_dlsymun=undef
    ccdlflags='-Wl,-E'
    cccdlflags='-fPIC'
    lddlflags='-shared -O2 -g -L/usr/local/lib -fstack-protector-strong'


Characteristics of this binary (from libperl): 
  Compile-time options:
    DEBUGGING
    HAS_LONG_DOUBLE
    HAS_STRTOLD
    HAS_TIMES
    MULTIPLICITY
    PERLIO_LAYERS
    PERL_COPY_ON_WRITE
    PERL_DONT_CREATE_GVSV
    PERL_HASH_FUNC_SIPHASH13
    PERL_HASH_USE_SBOX32
    PERL_MALLOC_WRAP
    PERL_OP_PARENT
    PERL_PRESERVE_IVUV
    PERL_TRACK_MEMPOOL
    PERL_USE_DEVEL
    PERL_USE_SAFE_PUTENV
    USE_64_BIT_ALL
    USE_64_BIT_INT
    USE_ITHREADS
    USE_LARGE_FILES
    USE_LOCALE
    USE_LOCALE_COLLATE
    USE_LOCALE_CTYPE
    USE_LOCALE_NUMERIC
    USE_LOCALE_TIME
    USE_PERLIO
    USE_PERL_ATOF
    USE_REENTRANT_API
    USE_THREAD_SAFE_LOCALE
  Built under linux
  Compiled at Dec 21 2024 06:31:49
  %ENV:
    PERL="/tmp/basesmoker-reloperl-W0Fp/bin/perl"
    PERL5LIB="/tmp/loop_over_bdir-104923-Sg0oE9/Lingua-YaTeA-0.626-0/blib/arch:/tmp/loop_over_bdir-104923-Sg0oE9/Lingua-YaTeA-0.626-0/blib/lib:/tmp/loop_over_bdir-104923-Sg0oE9/Linux-InitFS-0.2-0/blib/arch:/tmp/loop_over_bdir-104923-Sg0oE9/Linux-InitFS-0.2-0/blib/lib:/tmp/loop_over_bdir-104923-Sg0oE9/NoZone-1.3-0/blib/arch:/tmp/loop_over_bdir-104923-Sg0oE9/NoZone-1.3-0/blib/lib:/tmp/loop_over_bdir-104923-Sg0oE9/LiquidWeb-Storm-CLI-1.03-0/blib/arch:/tmp/loop_over_bdir-104923-Sg0oE9/LiquidWeb-Storm-CLI-1.03-0/blib/lib:/tmp/loop_over_bdir-104923-Sg0oE9/triceps-2.1.0-0/blib/arch:/tmp/loop_over_bdir-104923-Sg0oE9/triceps-2.1.0-0/blib/lib:/tmp/loop_over_bdir-104923-Sg0oE9/perl-Hardware-UPS-Perl-0.43-0/blib/arch:/tmp/loop_over_bdir-104923-Sg0oE9/perl-Hardware-UPS-Perl-0.43-0/blib/lib:/tmp/loop_over_bdir-104923-Sg0oE9/Business-Shipping-DataFiles-1.02-0/blib/arch:/tmp/loop_over_bdir-104923-Sg0oE9/Business-Shipping-DataFiles-1.02-0/blib/lib:/tmp/loop_over_bdir-104923-Sg0oE9/App-nrun-v1.1.2-0/blib/arch:/tmp/loop_over_bdir-104923-Sg0oE9/App-nrun-v1.1.2-0/blib/lib:/tmp/loop_over_bdir-104923-Sg0oE9/downsexta-0/blib/arch:/tmp/loop_over_bdir-104923-Sg0oE9/downsexta-0/blib/lib:/tmp/loop_over_bdir-104923-Sg0oE9/Devel-Required-0.16-0/blib/arch:/tmp/loop_over_bdir-104923-Sg0oE9/Devel-Required-0.16-0/blib/lib:/tmp/loop_over_bdir-104923-Sg0oE9/Simulation-Automate-1.0.1-0/blib/arch:/tmp/loop_over_bdir-104923-Sg0oE9/Simulation-Automate-1.0.1-0/blib/lib"
    PERL5OPT=""
    PERL5_CPANPLUS_IS_RUNNING="104931"
    PERL5_CPAN_IS_RUNNING="104931"
    PERL_CANARY_STABILITY_NOPROMPT="1"
    PERL_MM_USE_DEFAULT="1"
    PERL_USE_UNSAFE_INC="1"
  @INC:
    /tmp/loop_over_bdir-104923-Sg0oE9/Lingua-YaTeA-0.626-0/blib/arch
    /tmp/loop_over_bdir-104923-Sg0oE9/Lingua-YaTeA-0.626-0/blib/lib
    /tmp/loop_over_bdir-104923-Sg0oE9/Linux-InitFS-0.2-0/blib/arch
    /tmp/loop_over_bdir-104923-Sg0oE9/Linux-InitFS-0.2-0/blib/lib
    /tmp/loop_over_bdir-104923-Sg0oE9/NoZone-1.3-0/blib/arch
    /tmp/loop_over_bdir-104923-Sg0oE9/NoZone-1.3-0/blib/lib
    /tmp/loop_over_bdir-104923-Sg0oE9/LiquidWeb-Storm-CLI-1.03-0/blib/arch
    /tmp/loop_over_bdir-104923-Sg0oE9/LiquidWeb-Storm-CLI-1.03-0/blib/lib
    /tmp/loop_over_bdir-104923-Sg0oE9/triceps-2.1.0-0/blib/arch
    /tmp/loop_over_bdir-104923-Sg0oE9/triceps-2.1.0-0/blib/lib
    /tmp/loop_over_bdir-104923-Sg0oE9/perl-Hardware-UPS-Perl-0.43-0/blib/arch
    /tmp/loop_over_bdir-104923-Sg0oE9/perl-Hardware-UPS-Perl-0.43-0/blib/lib
    /tmp/loop_over_bdir-104923-Sg0oE9/Business-Shipping-DataFiles-1.02-0/blib/arch
    /tmp/loop_over_bdir-104923-Sg0oE9/Business-Shipping-DataFiles-1.02-0/blib/lib
    /tmp/loop_over_bdir-104923-Sg0oE9/App-nrun-v1.1.2-0/blib/arch
    /tmp/loop_over_bdir-104923-Sg0oE9/App-nrun-v1.1.2-0/blib/lib
    /tmp/loop_over_bdir-104923-Sg0oE9/downsexta-0/blib/arch
    /tmp/loop_over_bdir-104923-Sg0oE9/downsexta-0/blib/lib
    /tmp/loop_over_bdir-104923-Sg0oE9/Devel-Required-0.16-0/blib/arch
    /tmp/loop_over_bdir-104923-Sg0oE9/Devel-Required-0.16-0/blib/lib
    /tmp/loop_over_bdir-104923-Sg0oE9/Simulation-Automate-1.0.1-0/blib/arch
    /tmp/loop_over_bdir-104923-Sg0oE9/Simulation-Automate-1.0.1-0/blib/lib
    /home/sand/src/perl/repoperls/installed-perls/host/k93focal/v5.41.7/d119/lib/site_perl/5.41.7/x86_64-linux-thread-multi
    /home/sand/src/perl/repoperls/installed-perls/host/k93focal/v5.41.7/d119/lib/site_perl/5.41.7
    /home/sand/src/perl/repoperls/installed-perls/host/k93focal/v5.41.7/d119/lib/5.41.7/x86_64-linux-thread-multi
    /home/sand/src/perl/repoperls/installed-perls/host/k93focal/v5.41.7/d119/lib/5.41.7
    .