Report for DBIx-Class-InflateColumn-Serializer-Role-HashContentAccessor-0.001000

Back
From: metabase:user:320bfe00-2aae-11df-837a-5e0a49663a4f
Subject: PASS DBIx-Class-InflateColumn-Serializer-Role-HashContentAccessor-0.001000 v5.16.3 GNU/Linux
Date: 2015-03-03T21:23:10Z

This distribution has been tested as part of the CPAN Testers
project, supporting the Perl programming language.  See
http://wiki.cpantesters.org/ for more information or email
questions to cpan-testers-discuss@perl.org


--
Dear Manfred Stock,

This is a computer-generated report for DBIx-Class-InflateColumn-Serializer-Role-HashContentAccessor-0.001000
on perl 5.16.3, created by CPAN-Reporter-1.2011.

Thank you for uploading your work to CPAN.  Congratulations!
All tests were successful.

Sections of this report:

    * Tester comments
    * Program output
    * Prerequisites
    * Environment and other context

------------------------------
TESTER COMMENTS
------------------------------

Additional comments from tester:

this report is from an automated smoke testing program
and was not reviewed by a human for accuracy

------------------------------
PROGRAM OUTPUT
------------------------------

Output from './Build test':

t/00-compile.t ......................................................... ok
# 

# Generated by Dist::Zilla::Plugin::ReportVersions::Tiny v1.10
# perl: 5.016003 (wanted any version) on linux from /home/sand/src/perl/repoperls/installed-perls/perl/v5.16.3/a2da/bin/perl
# 
# Carp                                          => 1.3301     (want any version)
# DBICx::TestDatabase                           => 0.05       (want any version)
# DBIx::Class::Core                             => <undef>    (want any version)
# DBIx::Class::InflateColumn::Serializer        => 0.07       (want any version)
# DBIx::Class::InflateColumn::Serializer::Hstore => 0.02       (want any version)
# DBIx::Class::InflateColumn::Serializer::JSON  => 0.07       (want any version)
# DBIx::Class::Schema                           => <undef>    (want any version)
# File::Find                                    => 1.20       (want any version)
# File::Temp                                    => 0.2304     (want any version)
# JSON::MaybeXS                                 => 1.003003   (want any version)
# Module::Build                                 => 0.4211     (want 0.3601) 
# Moose                                         => 2.1403     (want any version)
# MooseX::MarkAsMethods                         => 0.15       (want any version)
# MooseX::NonMoose                              => 0.26       (want any version)
# MooseX::Role::Parameterized                   => 1.08       (want any version)
# Pg::hstore                                    => 1.04       (want any version)
# Test::Class                                   => 0.48       (want any version)
# Test::Exception                               => 0.38       (want any version)
# Test::More                                    => 1.301001098 (want 0.88)   
# parent                                        => 0.228      (want any version)
# strict                                        => 1.07       (want any version)
# warnings                                      => 1.13       (want any version)
# 
# Thanks for using my code.  I hope it works for you.
# If not, please try and include this output in the bug report.
# That will help me reproduce the issue and solve your problem.
# 
t/000-report-versions-tiny.t ........................................... ok
t/author-critic.t ...................................................... skipped: these tests are for testing by the author
t/author-test-eol.t .................................................... skipped: these tests are for testing by the author
t/d-b-ix.class.inflate-column.serializer.role.hash-content-accessor.t .. ok
t/release-cpan-changes.t ............................................... skipped: these tests are for release candidate testing
t/release-distmeta.t ................................................... skipped: these tests are for release candidate testing
t/release-pod-coverage.t ............................................... skipped: these tests are for release candidate testing
t/release-pod-syntax.t ................................................. skipped: these tests are for release candidate testing
All tests successful.
Files=9, Tests=30,  6 wallclock secs ( 0.04 usr  0.01 sys +  1.93 cusr  0.14 csys =  2.12 CPU)
Result: PASS

------------------------------
PREREQUISITES
------------------------------

Prerequisite modules loaded:

requires:

    Module                                         Need   Have        
    ---------------------------------------------- ------ ------------
    Carp                                           0      1.3301      
    MooseX::Role::Parameterized                    0      1.08        

build_requires:

    Module                                         Need   Have        
    ---------------------------------------------- ------ ------------
    DBICx::TestDatabase                            0      0.05        
    DBIx::Class::Core                              0      0           
    DBIx::Class::InflateColumn::Serializer         0      0.07        
    DBIx::Class::InflateColumn::Serializer::Hstore 0      0.02        
    DBIx::Class::InflateColumn::Serializer::JSON   0      0.07        
    DBIx::Class::Schema                            0      0           
    File::Find                                     0      1.20        
    File::Temp                                     0      0.2304      
    JSON::MaybeXS                                  0      1.003003    
    Module::Build                                  0.3601 0.4211      
    Moose                                          0      2.1403      
    MooseX::MarkAsMethods                          0      0.15        
    MooseX::NonMoose                               0      0.26        
    parent                                         0      0.228       
    Pg::hstore                                     0      1.04        
    strict                                         0      1.07        
    Test::Class                                    0      0.48        
    Test::Exception                                0      0.38        
    Test::More                                     0.88   1.301001_098
    warnings                                       0      1.13        

configure_requires:

    Module                                         Need   Have        
    ---------------------------------------------- ------ ------------
    Module::Build                                  0.3601 0.4211      


------------------------------
ENVIRONMENT AND OTHER CONTEXT
------------------------------

Environment variables:

    AUTOMATED_TESTING = 1
    LANG = en_US.UTF-8
    LANGUAGE = en_US:en
    PATH = /home/sand/bin:/usr/local/bin:/usr/bin:/bin:/usr/games:/usr/local/perl/bin:/usr/X11/bin:/sbin:/usr/sbin
    PERL5LIB = 
    PERL5OPT = 
    PERL5_CPANPLUS_IS_RUNNING = 3693
    PERL5_CPAN_IS_RUNNING = 3693
    PERL_MM_USE_DEFAULT = 1
    SHELL = /usr/bin/zsh
    TERM = screen

Perl special variables (and OS-specific diagnostics, for MSWin32):

    $^X = /home/sand/src/perl/repoperls/installed-perls/perl/v5.16.3/a2da/bin/perl
    $UID/$EUID = 1005 / 1005
    $GID = 1005 1005
    $EGID = 1005 1005

Perl module toolchain versions installed:

    Module              Have        
    ------------------- ------------
    CPAN                2.10        
    CPAN::Meta          2.143240    
    Cwd                 3.47        
    ExtUtils::CBuilder  0.280220    
    ExtUtils::Command   7.05_14     
    ExtUtils::Install   1.58        
    ExtUtils::MakeMaker 7.05_14     
    ExtUtils::Manifest  1.70        
    ExtUtils::ParseXS   3.24        
    File::Spec          3.47        
    JSON                2.90        
    JSON::PP            2.27203     
    Module::Build       0.4211      
    Module::Signature   0.73        
    Parse::CPAN::Meta   1.4414      
    Test::Harness       3.35        
    Test::More          1.301001_098
    YAML                1.14        
    YAML::Syck          1.29        
    version             0.9912      


--

Summary of my perl5 (revision 5 version 16 subversion 3) configuration:
  Commit id: fd04d42d38f4751b981eb6e9213ee1ab8ef11ea6
  Platform:
    osname=linux, osvers=3.16.0-4-amd64, archname=x86_64-linux-thread-multi-ld
    uname='linux k83 3.16.0-4-amd64 #1 smp debian 3.16.7-ckt2-1 (2014-12-08) x86_64 gnulinux '
    config_args='-Dprefix=/home/sand/src/perl/repoperls/installed-perls/perl/v5.16.3/a2da -Dmyhostname=k83 -Dinstallusrbinperl=n -Uversiononly -Dusedevel -des -Ui_db -Duseithreads -Duselongdouble -DDEBUGGING=-g'
    hint=recommended, useposix=true, d_sigaction=define
    useithreads=define, usemultiplicity=define
    useperlio=define, d_sfio=undef, uselargefiles=define, usesocks=undef
    use64bitint=define, use64bitall=define, uselongdouble=define
    usemymalloc=n, bincompat5005=undef
  Compiler:
    cc='cc', ccflags ='-D_REENTRANT -D_GNU_SOURCE -fno-strict-aliasing -pipe -fstack-protector -I/usr/local/include -D_LARGEFILE_SOURCE -D_FILE_OFFSET_BITS=64',
    optimize='-O2 -g',
    cppflags='-D_REENTRANT -D_GNU_SOURCE -fno-strict-aliasing -pipe -fstack-protector -I/usr/local/include'
    ccversion='', gccversion='4.9.2', gccosandvers=''
    intsize=4, longsize=8, ptrsize=8, doublesize=8, byteorder=12345678
    d_longlong=define, longlongsize=8, d_longdbl=define, longdblsize=16
    ivtype='long', ivsize=8, nvtype='long double', nvsize=16, Off_t='off_t', lseeksize=8
    alignbytes=16, prototype=define
  Linker and Libraries:
    ld='cc', ldflags =' -fstack-protector -L/usr/local/lib'
    libpth=/usr/local/lib /lib/x86_64-linux-gnu /lib/../lib /usr/lib/x86_64-linux-gnu /usr/lib/../lib /lib /usr/lib
    libs=-lnsl -lgdbm -ldb -ldl -lm -lcrypt -lutil -lpthread -lc -lgdbm_compat
    perllibs=-lnsl -ldl -lm -lcrypt -lutil -lpthread -lc
    libc=, so=so, useshrplib=false, libperl=libperl.a
    gnulibc_version='2.19'
  Dynamic Linking:
    dlsrc=dl_dlopen.xs, dlext=so, d_dlsymun=undef, ccdlflags='-Wl,-E'
    cccdlflags='-fPIC', lddlflags='-shared -O2 -g -L/usr/local/lib -fstack-protector'


Characteristics of this binary (from libperl): 
  Compile-time options: HAS_TIMES MULTIPLICITY PERLIO_LAYERS
                        PERL_DONT_CREATE_GVSV PERL_IMPLICIT_CONTEXT
                        PERL_MALLOC_WRAP PERL_PRESERVE_IVUV PERL_USE_DEVEL
                        USE_64_BIT_ALL USE_64_BIT_INT USE_ITHREADS
                        USE_LARGE_FILES USE_LOCALE USE_LOCALE_COLLATE
                        USE_LOCALE_CTYPE USE_LOCALE_NUMERIC USE_LONG_DOUBLE
                        USE_PERLIO USE_PERL_ATOF USE_REENTRANT_API
  Built under linux
  Compiled at Jan 10 2015 09:23:23
  %ENV:
    PERL5LIB=""
    PERL5OPT=""
    PERL5_CPANPLUS_IS_RUNNING="3693"
    PERL5_CPAN_IS_RUNNING="3693"
    PERL_MM_USE_DEFAULT="1"
  @INC:
    /home/sand/src/perl/repoperls/installed-perls/perl/v5.16.3/a2da/lib/site_perl/5.16.3/x86_64-linux-thread-multi-ld
    /home/sand/src/perl/repoperls/installed-perls/perl/v5.16.3/a2da/lib/site_perl/5.16.3
    /home/sand/src/perl/repoperls/installed-perls/perl/v5.16.3/a2da/lib/5.16.3/x86_64-linux-thread-multi-ld
    /home/sand/src/perl/repoperls/installed-perls/perl/v5.16.3/a2da/lib/5.16.3
    .