Report for Module-PrintUsed-0.06

Back
From: metabase:user:314402c4-2aae-11df-837a-5e0a49663a4f
Subject: PASS Module-PrintUsed-0.06 v5.25.10 GNU/Linux
Date: 2017-02-23T21:10:23Z

This distribution has been tested as part of the CPAN Testers
project, supporting the Perl programming language.  See
http://wiki.cpantesters.org/ for more information or email
questions to cpan-testers-discuss@perl.org


--
Dear Christian Renz,

This is a computer-generated report for Module-PrintUsed-0.06
on perl 5.25.10, created by CPAN-Reporter-1.2018.

Thank you for uploading your work to CPAN.  Congratulations!
All tests were successful.

Sections of this report:

    * Tester comments
    * Program output
    * Prerequisites
    * Environment and other context

------------------------------
TESTER COMMENTS
------------------------------

Additional comments from tester:

none provided

------------------------------
PROGRAM OUTPUT
------------------------------

Output from '/usr/bin/make test':

PERL_DL_NONLAZY=1 "/opt/perl-5.25.10t/bin/perl5.25.10" "-MExtUtils::Command::MM" "-MTest::Harness" "-e" "undef *Test::Harness::Switches; test_harness(0, 'blib/lib', 'blib/arch')" t/*.t

Modules used by t/1-use.t:
 - Carp                      1.42     /opt/perl-5.25.10t/lib/5.25.10/Carp.pm
 - Exporter                  5.72     /opt/perl-5.25.10t/lib/5.25.10/Exporter.pm
 - Exporter::Heavy           5.72     /opt/perl-5.25.10t/lib/5.25.10/Exporter/Heavy.pm
 - Module::PrintUsed         0.06     /home/cpansand/.cpan/build/2017022318/Module-PrintUsed-0.06-0/blib/lib/Module/PrintUsed.pm
 - Test                      1.30     /opt/perl-5.25.10t/lib/5.25.10/Test.pm
 - strict                    1.11     /opt/perl-5.25.10t/lib/5.25.10/strict.pm
 - vars                      1.03     /opt/perl-5.25.10t/lib/5.25.10/vars.pm
 - warnings                  1.37     /opt/perl-5.25.10t/lib/5.25.10/warnings.pm
 - warnings::register        1.04     /opt/perl-5.25.10t/lib/5.25.10/warnings/register.pm

t/1-use.t ......... ok

Modules used by t/2-modules.t:
 - Carp                      1.42     /opt/perl-5.25.10t/lib/5.25.10/Carp.pm
 - Exporter                  5.72     /opt/perl-5.25.10t/lib/5.25.10/Exporter.pm
 - Exporter::Heavy           5.72     /opt/perl-5.25.10t/lib/5.25.10/Exporter/Heavy.pm
 - Module::PrintUsed         0.06     /home/cpansand/.cpan/build/2017022318/Module-PrintUsed-0.06-0/blib/lib/Module/PrintUsed.pm
 - Test                      1.30     /opt/perl-5.25.10t/lib/5.25.10/Test.pm
 - strict                    1.11     /opt/perl-5.25.10t/lib/5.25.10/strict.pm
 - vars                      1.03     /opt/perl-5.25.10t/lib/5.25.10/vars.pm
 - warnings                  1.37     /opt/perl-5.25.10t/lib/5.25.10/warnings.pm
 - warnings::register        1.04     /opt/perl-5.25.10t/lib/5.25.10/warnings/register.pm

t/2-modules.t ..... ok
t/meta.t .......... skipped: Test::CPAN::Meta required for testing META.yml

Modules used by t/pod-coverage.t:
 - B                         1.68     /opt/perl-5.25.10t/lib/5.25.10/x86_64-linux-thread-multi/B.pm
 - Carp                      1.42     /opt/perl-5.25.10t/lib/5.25.10/Carp.pm
 - Config                    5.025010 /opt/perl-5.25.10t/lib/5.25.10/x86_64-linux-thread-multi/Config.pm
 - Config_git.pl                      /opt/perl-5.25.10t/lib/5.25.10/x86_64-linux-thread-multi/Config_git.pl
 - Config_heavy.pl                    /opt/perl-5.25.10t/lib/5.25.10/x86_64-linux-thread-multi/Config_heavy.pl
 - Cwd                       3.66     /opt/perl-5.25.10t/lib/5.25.10/x86_64-linux-thread-multi/Cwd.pm
 - Devel::Symdump            2.18     /opt/perl-5.25.10t/lib/site_perl/5.25.10/Devel/Symdump.pm
 - DynaLoader                1.41     /opt/perl-5.25.10t/lib/5.25.10/x86_64-linux-thread-multi/DynaLoader.pm
 - Exporter                  5.72     /opt/perl-5.25.10t/lib/5.25.10/Exporter.pm
 - File::Basename            2.85     /opt/perl-5.25.10t/lib/5.25.10/File/Basename.pm
 - File::Find                1.34     /opt/perl-5.25.10t/lib/5.25.10/File/Find.pm
 - File::Spec                3.66     /opt/perl-5.25.10t/lib/5.25.10/x86_64-linux-thread-multi/File/Spec.pm
 - File::Spec::Unix          3.66     /opt/perl-5.25.10t/lib/5.25.10/x86_64-linux-thread-multi/File/Spec/Unix.pm
 - List::Util                1.4602   /opt/perl-5.25.10t/lib/5.25.10/x86_64-linux-thread-multi/List/Util.pm
 - Module::PrintUsed         0.06     /home/cpansand/.cpan/build/2017022318/Module-PrintUsed-0.06-0/blib/lib/Module/PrintUsed.pm
 - PerlIO                    1.10     /opt/perl-5.25.10t/lib/5.25.10/PerlIO.pm
 - Pod::Coverage             0.23     /opt/perl-5.25.10t/lib/site_perl/5.25.10/Pod/Coverage.pm
 - Pod::Find                 1.63     /opt/perl-5.25.10t/lib/5.25.10/Pod/Find.pm
 - Pod::InputObjects         1.63     /opt/perl-5.25.10t/lib/5.25.10/Pod/InputObjects.pm
 - Pod::Parser               1.63     /opt/perl-5.25.10t/lib/5.25.10/Pod/Parser.pm
 - Scalar::Util              1.4602   /opt/perl-5.25.10t/lib/5.25.10/x86_64-linux-thread-multi/Scalar/Util.pm
 - Test::Builder             1.302073 /opt/perl-5.25.10t/lib/5.25.10/Test/Builder.pm
 - Test::Builder::Formatter  1.302073 /opt/perl-5.25.10t/lib/5.25.10/Test/Builder/Formatter.pm
 - Test::Builder::Module     1.302073 /opt/perl-5.25.10t/lib/5.25.10/Test/Builder/Module.pm
 - Test::Builder::TodoDiag   1.302073 /opt/perl-5.25.10t/lib/5.25.10/Test/Builder/TodoDiag.pm
 - Test::More                1.302073 /opt/perl-5.25.10t/lib/5.25.10/Test/More.pm
 - Test::Pod::Coverage       1.10     /opt/perl-5.25.10t/lib/site_perl/5.25.10/Test/Pod/Coverage.pm
 - Test2::API                1.302073 /opt/perl-5.25.10t/lib/5.25.10/Test2/API.pm
 - Test2::API::Context       1.302073 /opt/perl-5.25.10t/lib/5.25.10/Test2/API/Context.pm
 - Test2::API::Instance      1.302073 /opt/perl-5.25.10t/lib/5.25.10/Test2/API/Instance.pm
 - Test2::API::Stack         1.302073 /opt/perl-5.25.10t/lib/5.25.10/Test2/API/Stack.pm
 - Test2::Event              1.302073 /opt/perl-5.25.10t/lib/5.25.10/Test2/Event.pm
 - Test2::Event::Bail        1.302073 /opt/perl-5.25.10t/lib/5.25.10/Test2/Event/Bail.pm
 - Test2::Event::Diag        1.302073 /opt/perl-5.25.10t/lib/5.25.10/Test2/Event/Diag.pm
 - Test2::Event::Exception   1.302073 /opt/perl-5.25.10t/lib/5.25.10/Test2/Event/Exception.pm
 - Test2::Event::Info        1.302073 /opt/perl-5.25.10t/lib/5.25.10/Test2/Event/Info.pm
 - Test2::Event::Note        1.302073 /opt/perl-5.25.10t/lib/5.25.10/Test2/Event/Note.pm
 - Test2::Event::Ok          1.302073 /opt/perl-5.25.10t/lib/5.25.10/Test2/Event/Ok.pm
 - Test2::Event::Plan        1.302073 /opt/perl-5.25.10t/lib/5.25.10/Test2/Event/Plan.pm
 - Test2::Event::Skip        1.302073 /opt/perl-5.25.10t/lib/5.25.10/Test2/Event/Skip.pm
 - Test2::Event::Subtest     1.302073 /opt/perl-5.25.10t/lib/5.25.10/Test2/Event/Subtest.pm
 - Test2::Event::Waiting     1.302073 /opt/perl-5.25.10t/lib/5.25.10/Test2/Event/Waiting.pm
 - Test2::Formatter          1.302073 /opt/perl-5.25.10t/lib/5.25.10/Test2/Formatter.pm
 - Test2::Formatter::TAP     1.302073 /opt/perl-5.25.10t/lib/5.25.10/Test2/Formatter/TAP.pm
 - Test2::Hub                1.302073 /opt/perl-5.25.10t/lib/5.25.10/Test2/Hub.pm
 - Test2::Hub::Interceptor   1.302073 /opt/perl-5.25.10t/lib/5.25.10/Test2/Hub/Interceptor.pm
 - Test2::Hub::Interceptor::Terminator 1.302073 /opt/perl-5.25.10t/lib/5.25.10/Test2/Hub/Interceptor/Terminator.pm
 - Test2::Hub::Subtest       1.302073 /opt/perl-5.25.10t/lib/5.25.10/Test2/Hub/Subtest.pm
 - Test2::Util               1.302073 /opt/perl-5.25.10t/lib/5.25.10/Test2/Util.pm
 - Test2::Util::ExternalMeta 1.302073 /opt/perl-5.25.10t/lib/5.25.10/Test2/Util/ExternalMeta.pm
 - Test2::Util::HashBase     0.002    /opt/perl-5.25.10t/lib/5.25.10/Test2/Util/HashBase.pm
 - Test2::Util::Trace        1.302073 /opt/perl-5.25.10t/lib/5.25.10/Test2/Util/Trace.pm
 - XSLoader                  0.26     /opt/perl-5.25.10t/lib/5.25.10/XSLoader.pm
 - base                      2.24     /opt/perl-5.25.10t/lib/5.25.10/base.pm
 - constant                  1.33     /opt/perl-5.25.10t/lib/5.25.10/constant.pm
 - mro                       1.20     /opt/perl-5.25.10t/lib/5.25.10/x86_64-linux-thread-multi/mro.pm
 - re                        0.34     /opt/perl-5.25.10t/lib/5.25.10/x86_64-linux-thread-multi/re.pm
 - strict                    1.11     /opt/perl-5.25.10t/lib/5.25.10/strict.pm
 - vars                      1.03     /opt/perl-5.25.10t/lib/5.25.10/vars.pm
 - warnings                  1.37     /opt/perl-5.25.10t/lib/5.25.10/warnings.pm
 - warnings::register        1.04     /opt/perl-5.25.10t/lib/5.25.10/warnings/register.pm

t/pod-coverage.t .. ok
t/pod.t ........... ok
All tests successful.
Files=5, Tests=6,  1 wallclock secs ( 0.04 usr  0.00 sys +  0.33 cusr  0.04 csys =  0.41 CPU)
Result: PASS

------------------------------
PREREQUISITES
------------------------------

Prerequisite modules loaded:

requires:

    Module              Need  Have    
    ------------------- ----- --------
    perl                5.006 5.025010

build_requires:

    Module              Need  Have    
    ------------------- ----- --------
    ExtUtils::MakeMaker 0     7.24    

configure_requires:

    Module              Need  Have    
    ------------------- ----- --------
    ExtUtils::MakeMaker 0     7.24    


------------------------------
ENVIRONMENT AND OTHER CONTEXT
------------------------------

Environment variables:

    LANG = en_US.UTF-8
    LANGUAGE = en_US:en
    PATH = /usr/local/bin:/usr/bin:/bin:/usr/local/sbin:/usr/sbin:/sbin:/home/cpansand/bin/linux-gnu:/home/cpansand/bin/sh:/home/cpansand/bin:/usr/games:/home/cpansand/devel:/home/eserte/src/srezic-misc/scripts
    PERL5LIB = 
    PERL5OPT = 
    PERL5_CPANPLUS_IS_RUNNING = 19720
    PERL5_CPAN_IS_RUNNING = 19720
    PERL5_CPAN_IS_RUNNING_IN_RECURSION = 19606,19720
    PERLDOC = -MPod::Perldoc::ToTextOverstrike
    PERL_BATCH = yes
    PERL_CANARY_STABILITY_NOPROMPT = 1
    PERL_CPAN_REPORTER_CONFIG = /var/tmp/cpansmoker-1002/2017022318/cpanreporter_001_config.ini
    PERL_EXTUTILS_AUTOINSTALL = --defaultdeps
    PERL_USE_UNSAFE_INC = 1
    PISTACHIO_PERL_MANAGER = 1
    SHELL = /bin/zsh
    TERM = screen
    TMPDIR = /var/tmp/cpansmoker-1002/2017022318

Perl special variables (and OS-specific diagnostics, for MSWin32):

    $^X = /opt/perl-5.25.10t/bin/perl5.25.10
    $UID/$EUID = 1002 / 1002
    $GID = 1002 1002
    $EGID = 1002 1002

Perl module toolchain versions installed:

    Module              Have      
    ------------------- ----------
    CPAN                2.17      
    CPAN::Meta          2.150010  
    Cwd                 3.66      
    ExtUtils::CBuilder  0.280225  
    ExtUtils::Command   7.24      
    ExtUtils::Install   2.04      
    ExtUtils::MakeMaker 7.24      
    ExtUtils::Manifest  1.70      
    ExtUtils::ParseXS   3.33      
    File::Spec          3.66      
    JSON                n/a       
    JSON::PP            2.27400_02
    Module::Build       0.4220    
    Module::Signature   n/a       
    Parse::CPAN::Meta   2.150010  
    Test::Harness       3.36_01   
    Test::More          1.302073  
    YAML                1.23      
    YAML::Syck          1.29      
    version             0.9917    


--

Summary of my perl5 (revision 5 version 25 subversion 10) configuration:
   
  Platform:
    osname=linux
    osvers=4.9.0-1-amd64
    archname=x86_64-linux-thread-multi
    uname='linux prod4 4.9.0-1-amd64 #1 smp debian 4.9.6-3 (2017-01-28) x86_64 gnulinux '
    config_args='-ds -e -Dprefix=/opt/perl-5.25.10t -Dusedevel -Dusemallocwrap=no -Dusethreads -Dcf_email=srezic@cpan.org'
    hint=recommended
    useposix=true
    d_sigaction=define
    useithreads=define
    usemultiplicity=define
    use64bitint=define
    use64bitall=define
    uselongdouble=undef
    usemymalloc=n
    bincompat5005=undef
  Compiler:
    cc='cc'
    ccflags ='-D_REENTRANT -D_GNU_SOURCE -fwrapv -fno-strict-aliasing -pipe -fstack-protector-strong -I/usr/local/include -D_LARGEFILE_SOURCE -D_FILE_OFFSET_BITS=64'
    optimize='-O2'
    cppflags='-D_REENTRANT -D_GNU_SOURCE -fwrapv -fno-strict-aliasing -pipe -fstack-protector-strong -I/usr/local/include'
    ccversion=''
    gccversion='6.3.0 20170205'
    gccosandvers=''
    intsize=4
    longsize=8
    ptrsize=8
    doublesize=8
    byteorder=12345678
    doublekind=3
    d_longlong=define
    longlongsize=8
    d_longdbl=define
    longdblsize=16
    longdblkind=3
    ivtype='long'
    ivsize=8
    nvtype='double'
    nvsize=8
    Off_t='off_t'
    lseeksize=8
    alignbytes=8
    prototype=define
  Linker and Libraries:
    ld='cc'
    ldflags =' -fstack-protector-strong -L/usr/local/lib'
    libpth=/usr/local/lib /usr/lib/gcc/x86_64-linux-gnu/6/include-fixed /usr/include/x86_64-linux-gnu /usr/lib /lib/x86_64-linux-gnu /lib/../lib /usr/lib/x86_64-linux-gnu /usr/lib/../lib /lib
    libs=-lpthread -lnsl -lgdbm -ldb -ldl -lm -lcrypt -lutil -lc -lgdbm_compat
    perllibs=-lpthread -lnsl -ldl -lm -lcrypt -lutil -lc
    libc=libc-2.24.so
    so=so
    useshrplib=false
    libperl=libperl.a
    gnulibc_version='2.24'
  Dynamic Linking:
    dlsrc=dl_dlopen.xs
    dlext=so
    d_dlsymun=undef
    ccdlflags='-Wl,-E'
    cccdlflags='-fPIC'
    lddlflags='-shared -O2 -L/usr/local/lib -fstack-protector-strong'


Characteristics of this binary (from libperl): 
  Compile-time options:
    HAS_TIMES
    MULTIPLICITY
    PERLIO_LAYERS
    PERL_COPY_ON_WRITE
    PERL_DONT_CREATE_GVSV
    PERL_IMPLICIT_CONTEXT
    PERL_OP_PARENT
    PERL_PRESERVE_IVUV
    PERL_USE_DEVEL
    USE_64_BIT_ALL
    USE_64_BIT_INT
    USE_ITHREADS
    USE_LARGE_FILES
    USE_LOCALE
    USE_LOCALE_COLLATE
    USE_LOCALE_CTYPE
    USE_LOCALE_NUMERIC
    USE_LOCALE_TIME
    USE_PERLIO
    USE_PERL_ATOF
    USE_REENTRANT_API
  Built under linux
  Compiled at Feb 23 2017 19:29:29
  %ENV:
    PERL5LIB=""
    PERL5OPT=""
    PERL5_CPANPLUS_IS_RUNNING="19720"
    PERL5_CPAN_IS_RUNNING="19720"
    PERL5_CPAN_IS_RUNNING_IN_RECURSION="19606,19720"
    PERLDOC="-MPod::Perldoc::ToTextOverstrike"
    PERL_BATCH="yes"
    PERL_CANARY_STABILITY_NOPROMPT="1"
    PERL_CPAN_REPORTER_CONFIG="/var/tmp/cpansmoker-1002/2017022318/cpanreporter_001_config.ini"
    PERL_EXTUTILS_AUTOINSTALL="--defaultdeps"
    PERL_USE_UNSAFE_INC="1"
  @INC:
    /opt/perl-5.25.10t/lib/site_perl/5.25.10/x86_64-linux-thread-multi
    /opt/perl-5.25.10t/lib/site_perl/5.25.10
    /opt/perl-5.25.10t/lib/5.25.10/x86_64-linux-thread-multi
    /opt/perl-5.25.10t/lib/5.25.10
    .