Store-Digest v0.06 Perl 5 v5.20.2 amd64-freebsd

Status
Pass
From
Slaven Rezić (SREZIC)
Dist
Store-Digest v0.06
Platform
Perl 5 v5.20.2 amd64-freebsd
Date
2018-03-25 10:08:40
ID
7db391dc-3014-11e8-a204-e373f82f3181
This distribution has been tested as part of the CPAN Testers
project, supporting the Perl programming language.  See
http://wiki.cpantesters.org/ for more information or email
questions to cpan-testers-discuss@perl.org


--
Dear Dorian Taylor,

This is a computer-generated report for Store-Digest-0.06
on perl 5.20.2, created by CPAN-Reporter-1.2018.

Thank you for uploading your work to CPAN.  Congratulations!
All tests were successful.

Sections of this report:

    * Tester comments
    * Program output
    * Prerequisites
    * Environment and other context

------------------------------
TESTER COMMENTS
------------------------------

Additional comments from tester:

none provided

------------------------------
PROGRAM OUTPUT
------------------------------

Output from '/usr/bin/make test':

PERL_DL_NONLAZY=1 "/usr/perl5.20.2p/bin/perl" "-MExtUtils::Command::MM" "-MTest::Harness" "-e" "undef *Test::Harness::Switches; test_harness(0, 'inc', 'blib/lib', 'blib/arch')" t/*.t
# Testing Store::Digest 0.06, Perl 5.020002, /usr/perl5.20.2p/bin/perl
t/00-load.t ....... ok
# ni:///sha-256;47DEQpj8HBSa-_TImW-5JCeuQeRkm5NMpJWZG3hSuFU
t/01-object.t ..... ok
# DB version: 4.8
# Store::Digest::Object
#   Digests:
#     ni:///md5;lSF_bYrxmP2cB_5cLdWciQ
#     ni:///sha-1;xK0bpGL2hQkPBtDxqXy-Yz4uDyg
#     ni:///sha-256;IcnxQtEMlihv1wFHTMjkMprLO-9-ZXZD2lcsQLmQ1xA
#     ni:///sha-384;t_Hk9o8uRxB2sRzAGjY5ycZon0FDXczwbHTO2x_NLZYxKXl5cq4nFRqV2OhiQqFl
#     ni:///sha-512;uWhaS1hSbh_-Id9T-a8_-7msx_-sFsKQgBH8yGXVtO8AAn8E7ljoHeeW7S2t54qJHY7iNrFpz8Wx8MvDXX7Ung
#   Size (Bytes): 1515
#   Added to Store: 2018-03-25T05:54:56
#   Last Modified: 2018-03-24T01:21:20
#   Properties Modified: 2018-03-25T05:54:56
#   Content Type: text/plain
#   Validation:
#     content-type    : unverified
#     charset         : unverified
#     content-encoding: unverified
#     syntax          : unverified
# Digest store stats:
#   Created on:      2018-03-25T05:54:56 
#   Last Modified:   2018-03-25T05:54:56 
#   Bytes stored:    1515                
#   Objects stored:  1                   
#   Objects deleted: 0                   
t/02-fs-driver.t .. ok
t/boilerplate.t ... ok
t/manifest.t ...... skipped: Author tests not required for installation
t/pod-coverage.t .. ok
t/pod.t ........... ok
All tests successful.

Test Summary Report
-------------------
t/boilerplate.t (Wstat: 0 Tests: 6 Failed: 0)
  TODO passed:   1-6
Files=7, Tests=35,  4 wallclock secs ( 0.00 usr  0.06 sys +  0.55 cusr  1.59 csys =  2.20 CPU)
Result: PASS

------------------------------
PREREQUISITES
------------------------------

Prerequisite modules loaded:

requires:

    Module                   Need   Have    
    ------------------------ ------ --------
    BerkeleyDB               0.55   0.55    
    Class::Load              0.23   0.24    
    DateTime                 0.70   1.46    
    DateTime::Format::HTTP   0.40   0.42    
    File::Copy               2.21   2.30    
    HTTP::Negotiate          6.00   6.01    
    Math::BigInt             1.997  1.999810
    MIME::Base32             1.02   1.02    
    Moose                    2.0604 2.2007  
    MooseX::Params::Validate 0.18   0.21    
    MooseX::Types            0.35   0.50    
    Path::Class              0.24   0.37    
    perl                     5.012  5.020002
    Plack                    1.0005 1.0044  
    Role::MimeInfo           0.01   0.02    
    String::RewritePrefix    0.007  0.007   
    Test::More               0      1.302133
    URI::ni                  0.03   0.05    
    XML::LibXML::LazyBuilder 0.05   0.08    

build_requires:

    Module                   Need   Have    
    ------------------------ ------ --------
    ExtUtils::MakeMaker      6.59   7.32    
    Module::Install          0      1.18    
    Test::More               0      1.302133

configure_requires:

    Module                   Need   Have    
    ------------------------ ------ --------
    ExtUtils::MakeMaker      6.59   7.32    
    Module::Install          0      1.18    


------------------------------
ENVIRONMENT AND OTHER CONTEXT
------------------------------

Environment variables:

    LC_ALL = de_DE.ISO8859-1
    PATH = /usr/local/bin:/usr/bin:/bin:/usr/local/sbin:/usr/sbin:/sbin:/home/cpansand/bin/freebsd10.3:/home/cpansand/bin/sh:/home/cpansand/bin:/usr/games:/home/cpansand/devel:/home/eserte/src/srezic-misc/scripts
    PERL5LIB = 
    PERL5OPT = 
    PERL5_CPANPLUS_IS_RUNNING = 82288
    PERL5_CPAN_IS_RUNNING = 82288
    PERL5_CPAN_IS_RUNNING_IN_RECURSION = 73808,82288
    PERLDOC = -MPod::Perldoc::ToTextOverstrike
    PERL_BATCH = yes
    PERL_CANARY_STABILITY_NOPROMPT = 1
    PERL_CPAN_REPORTER_CONFIG = /var/tmp/cpansmoker-1023/2018032506/cpanreporter_000_config.ini
    PERL_EXTUTILS_AUTOINSTALL = --defaultdeps
    SHELL = /usr/local/bin/zsh
    TERM = screen
    TMPDIR = /var/tmp/cpansmoker-1023/2018032506

Perl special variables (and OS-specific diagnostics, for MSWin32):

    $^X = /usr/perl5.20.2p/bin/perl
    $UID/$EUID = 1023 / 1023
    $GID = 1023 1023
    $EGID = 1023 1023

Perl module toolchain versions installed:

    Module              Have    
    ------------------- --------
    CPAN                2.16    
    CPAN::Meta          2.150010
    Cwd                 3.74    
    ExtUtils::CBuilder  0.280226
    ExtUtils::Command   7.32    
    ExtUtils::Install   2.14    
    ExtUtils::MakeMaker 7.32    
    ExtUtils::Manifest  1.70    
    ExtUtils::ParseXS   3.35    
    File::Spec          3.74    
    JSON                2.97001 
    JSON::PP            2.97000 
    Module::Build       0.4224  
    Module::Signature   0.81    
    Parse::CPAN::Meta   2.150010
    Test::Harness       3.42    
    Test::More          1.302133
    YAML                1.24    
    YAML::Syck          1.30    
    version             0.9916  


--

Summary of my perl5 (revision 5 version 20 subversion 2) configuration:
   
  Platform:
    osname=freebsd, osvers=10.1-release, archname=amd64-freebsd
    uname='freebsd cvrsnica-freebsd-101.herceg.de 10.1-release freebsd 10.1-release #0 r274401: tue nov 11 21:02:49 utc 2014 root@releng1.nyi.freebsd.org:usrobjusrsrcsysgeneric amd64 '
    config_args='-ds -e -Dprefix=/usr/perl5.20.2p'
    hint=recommended, useposix=true, d_sigaction=define
    useithreads=undef, usemultiplicity=undef
    use64bitint=define, use64bitall=define, uselongdouble=undef
    usemymalloc=n, bincompat5005=undef
  Compiler:
    cc='cc', ccflags ='-DHAS_FPSETMASK -DHAS_FLOATINGPOINT_H -fno-strict-aliasing -pipe -fstack-protector -I/usr/local/include',
    optimize='-O',
    cppflags='-DHAS_FPSETMASK -DHAS_FLOATINGPOINT_H -fno-strict-aliasing -pipe -fstack-protector -I/usr/local/include'
    ccversion='', gccversion='4.2.1 Compatible FreeBSD Clang 3.4.1 (tags/RELEASE_34/dot1-final 208032)', gccosandvers=''
    intsize=4, longsize=8, ptrsize=8, doublesize=8, byteorder=12345678
    d_longlong=define, longlongsize=8, d_longdbl=define, longdblsize=16
    ivtype='long', ivsize=8, nvtype='double', nvsize=8, Off_t='off_t', lseeksize=8
    alignbytes=8, prototype=define
  Linker and Libraries:
    ld='cc', ldflags ='-pthread -Wl,-E  -fstack-protector -L/usr/local/lib'
    libpth=/usr/lib /usr/local/lib /usr/include/clang/3.4.1 /usr/lib
    libs=-lgdbm -lm -lcrypt -lutil -lc
    perllibs=-lm -lcrypt -lutil -lc
    libc=, so=so, useshrplib=false, libperl=libperl.a
    gnulibc_version=''
  Dynamic Linking:
    dlsrc=dl_dlopen.xs, dlext=so, d_dlsymun=undef, ccdlflags=' '
    cccdlflags='-DPIC -fPIC', lddlflags='-shared  -L/usr/local/lib -fstack-protector'


Characteristics of this binary (from libperl): 
  Compile-time options: HAS_TIMES PERLIO_LAYERS PERL_DONT_CREATE_GVSV
                        PERL_HASH_FUNC_ONE_AT_A_TIME_HARD PERL_MALLOC_WRAP
                        PERL_NEW_COPY_ON_WRITE PERL_PRESERVE_IVUV
                        USE_64_BIT_ALL USE_64_BIT_INT USE_LARGE_FILES
                        USE_LOCALE USE_LOCALE_COLLATE USE_LOCALE_CTYPE
                        USE_LOCALE_NUMERIC USE_PERLIO USE_PERL_ATOF
  Built under freebsd
  Compiled at Feb 14 2015 20:35:40
  %ENV:
    PERL5LIB=""
    PERL5OPT=""
    PERL5_CPANPLUS_IS_RUNNING="82288"
    PERL5_CPAN_IS_RUNNING="82288"
    PERL5_CPAN_IS_RUNNING_IN_RECURSION="73808,82288"
    PERLDOC="-MPod::Perldoc::ToTextOverstrike"
    PERL_BATCH="yes"
    PERL_CANARY_STABILITY_NOPROMPT="1"
    PERL_CPAN_REPORTER_CONFIG="/var/tmp/cpansmoker-1023/2018032506/cpanreporter_000_config.ini"
    PERL_EXTUTILS_AUTOINSTALL="--defaultdeps"
  @INC:
    /usr/perl5.20.2p/lib/site_perl/5.20.2/amd64-freebsd
    /usr/perl5.20.2p/lib/site_perl/5.20.2
    /usr/perl5.20.2p/lib/5.20.2/amd64-freebsd
    /usr/perl5.20.2p/lib/5.20.2
    .