Bot-BasicBot-Pluggable v1.20 Perl 5 v5.30.0 RC1 x86_64-linux

Status
Pass
From
Slaven Rezić (SREZIC)
Dist
Bot-BasicBot-Pluggable v1.20
Platform
Perl 5 v5.30.0 RC1 x86_64-linux
Date
2019-05-14 03:29:33
ID
7d9292ae-75f8-11e9-a0e4-2f541f24ea8f
This distribution has been tested as part of the CPAN Testers
project, supporting the Perl programming language.  See
http://wiki.cpantesters.org/ for more information or email
questions to cpan-testers-discuss@perl.org


--
Dear David Precious,

This is a computer-generated report for Bot-BasicBot-Pluggable-1.20
on perl 5.30.0, created by CPAN-Reporter-1.2018.

Thank you for uploading your work to CPAN.  Congratulations!
All tests were successful.

Sections of this report:

    * Tester comments
    * Program output
    * Prerequisites
    * Environment and other context

------------------------------
TESTER COMMENTS
------------------------------

Additional comments from tester:

none provided

------------------------------
PROGRAM OUTPUT
------------------------------

Output from './Build test':

t/00bootstrap.t ........... ok
t/01module_base.t ......... ok
Loading Auth from Bot/BasicBot/Pluggable/Module/Auth.pm at /home/cpansand/.cpan/build/2019051405/Bot-BasicBot-Pluggable-1.20-0/blib/lib/Bot/BasicBot/Pluggable.pm line 104.
t/02module_auth.t ......... ok
t/03store.t ............... ok
t/03store_dbi.t ........... ok
t/03store_deep.t .......... ok
t/03store_memory.t ........ ok
t/03store_storable.t ...... ok
Loading Karma from Bot/BasicBot/Pluggable/Module/Karma.pm at /home/cpansand/.cpan/build/2019051405/Bot-BasicBot-Pluggable-1.20-0/blib/lib/Bot/BasicBot/Pluggable.pm line 104.
Use of uninitialized value $param in substitution (s///) at /home/cpansand/.cpan/build/2019051405/Bot-BasicBot-Pluggable-1.20-0/blib/lib/Bot/BasicBot/Pluggable/Module/Karma.pm line 65.
t/04karma.t ............... ok
Loading Infobot from Bot/BasicBot/Pluggable/Module/Infobot.pm at /home/cpansand/.cpan/build/2019051405/Bot-BasicBot-Pluggable-1.20-0/blib/lib/Bot/BasicBot/Pluggable.pm line 104.
t/05infobot.t ............. ok
Loading Title from Bot/BasicBot/Pluggable/Module/Title.pm at /home/cpansand/.cpan/build/2019051405/Bot-BasicBot-Pluggable-1.20-0/blib/lib/Bot/BasicBot/Pluggable.pm line 104.
Use of uninitialized value $URI::Title::VERSION in concatenation (.) or string at /opt/perl-5.30.0-RC1/lib/site_perl/5.30.0/URI/Title.pm line 22.
Loading Infobot from Bot/BasicBot/Pluggable/Module/Infobot.pm at /home/cpansand/.cpan/build/2019051405/Bot-BasicBot-Pluggable-1.20-0/blib/lib/Bot/BasicBot/Pluggable.pm line 104.
Use of uninitialized value $URI::Title::VERSION in concatenation (.) or string at /opt/perl-5.30.0-RC1/lib/site_perl/5.30.0/URI/Title.pm line 22.
t/06title.t ............... ok
Loading Auth from Bot/BasicBot/Pluggable/Module/Auth.pm at /home/cpansand/.cpan/build/2019051405/Bot-BasicBot-Pluggable-1.20-0/blib/lib/Bot/BasicBot/Pluggable.pm line 104.
Loading Loader from Bot/BasicBot/Pluggable/Module/Loader.pm at /home/cpansand/.cpan/build/2019051405/Bot-BasicBot-Pluggable-1.20-0/blib/lib/Bot/BasicBot/Pluggable.pm line 104.
t/07app_defaults.t ........ ok
Loading Karma from Bot/BasicBot/Pluggable/Module/Karma.pm at /home/cpansand/.cpan/build/2019051405/Bot-BasicBot-Pluggable-1.20-0/blib/lib/Bot/BasicBot/Pluggable.pm line 104.
Loading Auth from Bot/BasicBot/Pluggable/Module/Auth.pm at /home/cpansand/.cpan/build/2019051405/Bot-BasicBot-Pluggable-1.20-0/blib/lib/Bot/BasicBot/Pluggable.pm line 104.
t/08app_commandline.t ..... ok
Loading Loader from Bot/BasicBot/Pluggable/Module/Loader.pm at /home/cpansand/.cpan/build/2019051405/Bot-BasicBot-Pluggable-1.20-0/blib/lib/Bot/BasicBot/Pluggable.pm line 104.
Loading Karma from Bot/BasicBot/Pluggable/Module/Karma.pm at /home/cpansand/.cpan/build/2019051405/Bot-BasicBot-Pluggable-1.20-0/blib/lib/Bot/BasicBot/Pluggable.pm line 104.
Loading Auth from Bot/BasicBot/Pluggable/Module/Auth.pm at /home/cpansand/.cpan/build/2019051405/Bot-BasicBot-Pluggable-1.20-0/blib/lib/Bot/BasicBot/Pluggable.pm line 104.
t/09app_configfile.t ...... ok
t/100critic.t ............. skipped: Author test.  Set $ENV{TEST_AUTHOR} to a true value to run.
t/101tidy.t ............... skipped: Author test.  Set $ENV{TEST_AUTHOR} to a true value to run.
Loading Foo from ./Foo.pm at /home/cpansand/.cpan/build/2019051405/Bot-BasicBot-Pluggable-1.20-0/blib/lib/Bot/BasicBot/Pluggable.pm line 104.
Loading Bar from ./modules/Bar.pm at /home/cpansand/.cpan/build/2019051405/Bot-BasicBot-Pluggable-1.20-0/blib/lib/Bot/BasicBot/Pluggable.pm line 104.
t/10modules_not_in_inc.t .. ok
t/author-pod-syntax.t ..... skipped: these tests are for testing by the author
All tests successful.
Files=18, Tests=248,  8 wallclock secs ( 0.12 usr  0.04 sys +  6.33 cusr  0.86 csys =  7.35 CPU)
Result: PASS

------------------------------
PREREQUISITES
------------------------------

Prerequisite modules loaded:

requires:

    Module                       Need   Have    
    ---------------------------- ------ --------
    base                         0      2.27    
    Bot::BasicBot                0.91   0.93    
    Carp                         0      1.50    
    CGI                          0      4.43    
    Config::Find                 0      0.31    
    constant                     0      1.33    
    Crypt::SaltedHash            0.06   0.09    
    Data::Dumper                 0      2.174   
    DBI                          0      1.642   
    DBM::Deep                    0      2.0016  
    File::Copy                   0      2.34    
    File::Spec                   0      3.78    
    File::Temp                   0      0.2309  
    lib                          0      0.65    
    List::MoreUtils              0      0.428   
    Log::Log4perl                1.11   1.49    
    Log::Log4perl::Level         0      0       
    LWP::UserAgent               0      6.39    
    Module::Load                 0      0.34    
    Module::Pluggable            0      5.2     
    Moose                        0      2.2011  
    Moose::Util::TypeConstraints 0      2.2011  
    MooseX::Getopt               0      0.74    
    MooseX::Getopt::Dashes       0      0.74    
    MooseX::SimpleConfig         0      0.11    
    perl                         v5.8.0 5.030000
    POE                          0      1.367   
    Socket                       0      2.029   
    Storable                     0      3.15    
    strict                       0      1.11    
    Text::Unidecode              0      1.30    
    Try::Tiny                    0      0.30    
    URI                          0      1.76    
    URI::Find::Simple            0      1.06    
    URI::Title                   0      0       
    warnings                     0      1.44    
    XML::Feed                    0      0.59    

build_requires:

    Module                       Need   Have    
    ---------------------------- ------ --------
    DBD::SQLite                  0      1.62    
    FindBin                      0      1.51    
    Module::Build                0.28   0.4229  
    Test::More                   0      1.302164
    YAML::XS                     0      0.77    

configure_requires:

    Module                       Need   Have    
    ---------------------------- ------ --------
    ExtUtils::MakeMaker          0      7.36    
    Module::Build                0.28   0.4229  


------------------------------
ENVIRONMENT AND OTHER CONTEXT
------------------------------

Environment variables:

    LANG = en_US.UTF-8
    LC_ALL = de_DE.UTF-8
    PATH = /usr/local/bin:/usr/bin:/bin:/usr/local/sbin:/usr/sbin:/sbin:/home/cpansand/bin/linux-gnu:/home/cpansand/bin/sh:/home/cpansand/bin:/usr/games:/home/cpansand/devel:/home/eserte/src/srezic-misc/scripts
    PERL5LIB = 
    PERL5OPT = 
    PERL5_CPANPLUS_IS_RUNNING = 14299
    PERL5_CPAN_IS_RUNNING = 14299
    PERL5_CPAN_IS_RUNNING_IN_RECURSION = 12008,14299
    PERLDOC = -MPod::Perldoc::ToTextOverstrike
    PERL_BATCH = yes
    PERL_CANARY_STABILITY_NOPROMPT = 1
    PERL_CPAN_REPORTER_CONFIG = /var/tmp/cpansmoker-1023/2019051322/cpanreporter_000_config.ini
    PERL_EXTUTILS_AUTOINSTALL = --defaultdeps
    PERL_PARALLEL_SMOKER = yes
    PERL_USE_UNSAFE_INC = 1
    SHELL = /usr/bin/zsh
    TERM = screen
    TMPDIR = /var/tmp/cpansmoker-1023/2019051322

Perl special variables (and OS-specific diagnostics, for MSWin32):

    $^X = /opt/perl-5.30.0-RC1/bin/perl
    $UID/$EUID = 1023 / 1023
    $GID = 1023 1023
    $EGID = 1023 1023

Perl module toolchain versions installed:

    Module              Have    
    ------------------- --------
    CPAN                2.26    
    CPAN::Meta          2.150010
    Cwd                 3.78    
    ExtUtils::CBuilder  0.280231
    ExtUtils::Command   7.36    
    ExtUtils::Install   2.14    
    ExtUtils::MakeMaker 7.36    
    ExtUtils::Manifest  1.72    
    ExtUtils::ParseXS   3.40    
    File::Spec          3.78    
    JSON                4.02    
    JSON::PP            4.02    
    Module::Build       0.4229  
    Module::Signature   0.83    
    Parse::CPAN::Meta   2.150010
    Test::Harness       3.42    
    Test::More          1.302164
    YAML                1.29    
    YAML::Syck          1.31    
    version             0.9924  


--

Summary of my perl5 (revision 5 version 30 subversion 0) configuration:
   
  Platform:
    osname=linux
    osvers=5.0.13-100.fc28.x86_64
    archname=x86_64-linux
    uname='linux fedora-4gb-hel1-1 5.0.13-100.fc28.x86_64 #1 smp mon may 6 01:54:55 utc 2019 x86_64 x86_64 x86_64 gnulinux '
    config_args='-ds -e -Dprefix=/opt/perl-5.30.0-RC1 -Dcf_email=srezic@cpan.org'
    hint=recommended
    useposix=true
    d_sigaction=define
    useithreads=undef
    usemultiplicity=undef
    use64bitint=define
    use64bitall=define
    uselongdouble=undef
    usemymalloc=n
    default_inc_excludes_dot=define
    bincompat5005=undef
  Compiler:
    cc='cc'
    ccflags ='-fwrapv -fno-strict-aliasing -pipe -fstack-protector-strong -I/usr/local/include -D_LARGEFILE_SOURCE -D_FILE_OFFSET_BITS=64 -D_FORTIFY_SOURCE=2'
    optimize='-O2'
    cppflags='-fwrapv -fno-strict-aliasing -pipe -fstack-protector-strong -I/usr/local/include'
    ccversion=''
    gccversion='8.3.1 20190223 (Red Hat 8.3.1-2)'
    gccosandvers=''
    intsize=4
    longsize=8
    ptrsize=8
    doublesize=8
    byteorder=12345678
    doublekind=3
    d_longlong=define
    longlongsize=8
    d_longdbl=define
    longdblsize=16
    longdblkind=3
    ivtype='long'
    ivsize=8
    nvtype='double'
    nvsize=8
    Off_t='off_t'
    lseeksize=8
    alignbytes=8
    prototype=define
  Linker and Libraries:
    ld='cc'
    ldflags =' -fstack-protector-strong -L/usr/local/lib'
    libpth=/usr/local/lib /usr/lib /lib/../lib64 /usr/lib/../lib64 /lib /lib64 /usr/lib64 /usr/local/lib64
    libs=-lpthread -ldb -ldl -lm -lcrypt -lutil -lc
    perllibs=-lpthread -ldl -lm -lcrypt -lutil -lc
    libc=libc-2.27.so
    so=so
    useshrplib=false
    libperl=libperl.a
    gnulibc_version='2.27'
  Dynamic Linking:
    dlsrc=dl_dlopen.xs
    dlext=so
    d_dlsymun=undef
    ccdlflags='-Wl,-E'
    cccdlflags='-fPIC'
    lddlflags='-shared -O2 -L/usr/local/lib -fstack-protector-strong'


Characteristics of this binary (from libperl): 
  Compile-time options:
    HAS_TIMES
    PERLIO_LAYERS
    PERL_COPY_ON_WRITE
    PERL_DONT_CREATE_GVSV
    PERL_MALLOC_WRAP
    PERL_OP_PARENT
    PERL_PRESERVE_IVUV
    USE_64_BIT_ALL
    USE_64_BIT_INT
    USE_LARGE_FILES
    USE_LOCALE
    USE_LOCALE_COLLATE
    USE_LOCALE_CTYPE
    USE_LOCALE_NUMERIC
    USE_LOCALE_TIME
    USE_PERLIO
    USE_PERL_ATOF
  Locally applied patches:
    RC1
  Built under linux
  Compiled at May 12 2019 18:14:20
  %ENV:
    PERL5LIB=""
    PERL5OPT=""
    PERL5_CPANPLUS_IS_RUNNING="14299"
    PERL5_CPAN_IS_RUNNING="14299"
    PERL5_CPAN_IS_RUNNING_IN_RECURSION="12008,14299"
    PERLDOC="-MPod::Perldoc::ToTextOverstrike"
    PERL_BATCH="yes"
    PERL_CANARY_STABILITY_NOPROMPT="1"
    PERL_CPAN_REPORTER_CONFIG="/var/tmp/cpansmoker-1023/2019051322/cpanreporter_000_config.ini"
    PERL_EXTUTILS_AUTOINSTALL="--defaultdeps"
    PERL_PARALLEL_SMOKER="yes"
    PERL_USE_UNSAFE_INC="1"
  @INC:
    /opt/perl-5.30.0-RC1/lib/site_perl/5.30.0/x86_64-linux
    /opt/perl-5.30.0-RC1/lib/site_perl/5.30.0
    /opt/perl-5.30.0-RC1/lib/5.30.0/x86_64-linux
    /opt/perl-5.30.0-RC1/lib/5.30.0
    .