Report for IO-Iron-0.11

Back
From: metabase:user:314402c4-2aae-11df-837a-5e0a49663a4f
Subject: PASS IO-Iron-0.11 v5.24.0 RC1 GNU/Linux
Date: 2016-04-18T05:36:24Z

This distribution has been tested as part of the CPAN Testers
project, supporting the Perl programming language.  See
http://wiki.cpantesters.org/ for more information or email
questions to cpan-testers-discuss@perl.org


--
Dear Mikko Koivunalho,

This is a computer-generated report for IO-Iron-0.11
on perl 5.24.0, created by CPAN-Reporter-1.2017.

Thank you for uploading your work to CPAN.  Congratulations!
All tests were successful.

Sections of this report:

    * Tester comments
    * Program output
    * Prerequisites
    * Environment and other context

------------------------------
TESTER COMMENTS
------------------------------

Additional comments from tester:

none provided

------------------------------
PROGRAM OUTPUT
------------------------------

Output from '/usr/bin/make test':

PERL_DL_NONLAZY=1 "/bbbike/perl-5.24.0-RC1/bin/perl" "-MExtUtils::Command::MM" "-MTest::Harness" "-e" "undef *Test::Harness::Switches; test_harness(0, 'blib/lib', 'blib/arch')" t/Iron/*.t t/IronCache/*.t t/IronMQ/*.t t/IronWorker/*.t
# Testing IO::Iron::IronMQ 0.11, Perl 5.024000, /bbbike/perl-5.24.0-RC1/bin/perl
# test ReadIronMQConfig
# Current dir config filename: ./iron.json
# Extra config filename: t/.IronMQTestConfig.json
t/Iron/client_readconfig.t ... ok
# Testing IO::Iron 0.11, Perl 5.024000, /bbbike/perl-5.24.0-RC1/bin/perl
t/Iron/load.t ................ ok
# Testing IO::Iron::IronCache::Client with policies, Perl 5.024000, /bbbike/perl-5.24.0-RC1/bin/perl
Redundant argument in sprintf at /opt/perl-5.24.0-RC1/lib/site_perl/5.24.0/Log/Any/Proxy.pm line 21.
t/IronCache/cache_policy.t ... ok
# Testing IO::Iron::IronCache::Client with policies, Perl 5.024000, /bbbike/perl-5.24.0-RC1/bin/perl
Redundant argument in sprintf at /opt/perl-5.24.0-RC1/lib/site_perl/5.24.0/Log/Any/Proxy.pm line 21.
Redundant argument in sprintf at /opt/perl-5.24.0-RC1/lib/site_perl/5.24.0/Log/Any/Proxy.pm line 21.
Redundant argument in sprintf at /opt/perl-5.24.0-RC1/lib/site_perl/5.24.0/Log/Any/Proxy.pm line 21.
Redundant argument in sprintf at /opt/perl-5.24.0-RC1/lib/site_perl/5.24.0/Log/Any/Proxy.pm line 21.
Redundant argument in sprintf at /opt/perl-5.24.0-RC1/lib/site_perl/5.24.0/Log/Any/Proxy.pm line 21.
Redundant argument in sprintf at /opt/perl-5.24.0-RC1/lib/site_perl/5.24.0/Log/Any/Proxy.pm line 21.
Redundant argument in sprintf at /opt/perl-5.24.0-RC1/lib/site_perl/5.24.0/Log/Any/Proxy.pm line 21.
Redundant argument in sprintf at /opt/perl-5.24.0-RC1/lib/site_perl/5.24.0/Log/Any/Proxy.pm line 21.
Redundant argument in sprintf at /opt/perl-5.24.0-RC1/lib/site_perl/5.24.0/Log/Any/Proxy.pm line 21.
Redundant argument in sprintf at /opt/perl-5.24.0-RC1/lib/site_perl/5.24.0/Log/Any/Proxy.pm line 21.
Redundant argument in sprintf at /opt/perl-5.24.0-RC1/lib/site_perl/5.24.0/Log/Any/Proxy.pm line 21.
Redundant argument in sprintf at /opt/perl-5.24.0-RC1/lib/site_perl/5.24.0/Log/Any/Proxy.pm line 21.
Redundant argument in sprintf at /opt/perl-5.24.0-RC1/lib/site_perl/5.24.0/Log/Any/Proxy.pm line 21.
Redundant argument in sprintf at /opt/perl-5.24.0-RC1/lib/site_perl/5.24.0/Log/Any/Proxy.pm line 21.
Redundant argument in sprintf at /opt/perl-5.24.0-RC1/lib/site_perl/5.24.0/Log/Any/Proxy.pm line 21.
Redundant argument in sprintf at /opt/perl-5.24.0-RC1/lib/site_perl/5.24.0/Log/Any/Proxy.pm line 21.
Redundant argument in sprintf at /opt/perl-5.24.0-RC1/lib/site_perl/5.24.0/Log/Any/Proxy.pm line 21.
Redundant argument in sprintf at /opt/perl-5.24.0-RC1/lib/site_perl/5.24.0/Log/Any/Proxy.pm line 21.
Redundant argument in sprintf at /opt/perl-5.24.0-RC1/lib/site_perl/5.24.0/Log/Any/Proxy.pm line 21.
Redundant argument in sprintf at /opt/perl-5.24.0-RC1/lib/site_perl/5.24.0/Log/Any/Proxy.pm line 21.
Redundant argument in sprintf at /opt/perl-5.24.0-RC1/lib/site_perl/5.24.0/Log/Any/Proxy.pm line 21.
Redundant argument in sprintf at /opt/perl-5.24.0-RC1/lib/site_perl/5.24.0/Log/Any/Proxy.pm line 21.
Redundant argument in sprintf at /opt/perl-5.24.0-RC1/lib/site_perl/5.24.0/Log/Any/Proxy.pm line 21.
Redundant argument in sprintf at /opt/perl-5.24.0-RC1/lib/site_perl/5.24.0/Log/Any/Proxy.pm line 21.
Redundant argument in sprintf at /opt/perl-5.24.0-RC1/lib/site_perl/5.24.0/Log/Any/Proxy.pm line 21.
Redundant argument in sprintf at /opt/perl-5.24.0-RC1/lib/site_perl/5.24.0/Log/Any/Proxy.pm line 21.
Redundant argument in sprintf at /opt/perl-5.24.0-RC1/lib/site_perl/5.24.0/Log/Any/Proxy.pm line 21.
Redundant argument in sprintf at /opt/perl-5.24.0-RC1/lib/site_perl/5.24.0/Log/Any/Proxy.pm line 21.
Redundant argument in sprintf at /opt/perl-5.24.0-RC1/lib/site_perl/5.24.0/Log/Any/Proxy.pm line 21.
Redundant argument in sprintf at /opt/perl-5.24.0-RC1/lib/site_perl/5.24.0/Log/Any/Proxy.pm line 21.
Redundant argument in sprintf at /opt/perl-5.24.0-RC1/lib/site_perl/5.24.0/Log/Any/Proxy.pm line 21.
Redundant argument in sprintf at /opt/perl-5.24.0-RC1/lib/site_perl/5.24.0/Log/Any/Proxy.pm line 21.
Redundant argument in sprintf at /opt/perl-5.24.0-RC1/lib/site_perl/5.24.0/Log/Any/Proxy.pm line 21.
Redundant argument in sprintf at /opt/perl-5.24.0-RC1/lib/site_perl/5.24.0/Log/Any/Proxy.pm line 21.
Redundant argument in sprintf at /opt/perl-5.24.0-RC1/lib/site_perl/5.24.0/Log/Any/Proxy.pm line 21.
Redundant argument in sprintf at /opt/perl-5.24.0-RC1/lib/site_perl/5.24.0/Log/Any/Proxy.pm line 21.
Redundant argument in sprintf at /opt/perl-5.24.0-RC1/lib/site_perl/5.24.0/Log/Any/Proxy.pm line 21.
Redundant argument in sprintf at /opt/perl-5.24.0-RC1/lib/site_perl/5.24.0/Log/Any/Proxy.pm line 21.
Redundant argument in sprintf at /opt/perl-5.24.0-RC1/lib/site_perl/5.24.0/Log/Any/Proxy.pm line 21.
Redundant argument in sprintf at /opt/perl-5.24.0-RC1/lib/site_perl/5.24.0/Log/Any/Proxy.pm line 21.
Redundant argument in sprintf at /opt/perl-5.24.0-RC1/lib/site_perl/5.24.0/Log/Any/Proxy.pm line 21.
Redundant argument in sprintf at /opt/perl-5.24.0-RC1/lib/site_perl/5.24.0/Log/Any/Proxy.pm line 21.
Redundant argument in sprintf at /opt/perl-5.24.0-RC1/lib/site_perl/5.24.0/Log/Any/Proxy.pm line 21.
Redundant argument in sprintf at /opt/perl-5.24.0-RC1/lib/site_perl/5.24.0/Log/Any/Proxy.pm line 21.
Redundant argument in sprintf at /opt/perl-5.24.0-RC1/lib/site_perl/5.24.0/Log/Any/Proxy.pm line 21.
Redundant argument in sprintf at /opt/perl-5.24.0-RC1/lib/site_perl/5.24.0/Log/Any/Proxy.pm line 21.
Redundant argument in sprintf at /opt/perl-5.24.0-RC1/lib/site_perl/5.24.0/Log/Any/Proxy.pm line 21.
Redundant argument in sprintf at /opt/perl-5.24.0-RC1/lib/site_perl/5.24.0/Log/Any/Proxy.pm line 21.
Redundant argument in sprintf at /opt/perl-5.24.0-RC1/lib/site_perl/5.24.0/Log/Any/Proxy.pm line 21.
Redundant argument in sprintf at /opt/perl-5.24.0-RC1/lib/site_perl/5.24.0/Log/Any/Proxy.pm line 21.
Redundant argument in sprintf at /opt/perl-5.24.0-RC1/lib/site_perl/5.24.0/Log/Any/Proxy.pm line 21.
Redundant argument in sprintf at /opt/perl-5.24.0-RC1/lib/site_perl/5.24.0/Log/Any/Proxy.pm line 21.
Redundant argument in sprintf at /opt/perl-5.24.0-RC1/lib/site_perl/5.24.0/Log/Any/Proxy.pm line 21.
Redundant argument in sprintf at /opt/perl-5.24.0-RC1/lib/site_perl/5.24.0/Log/Any/Proxy.pm line 21.
Redundant argument in sprintf at /opt/perl-5.24.0-RC1/lib/site_perl/5.24.0/Log/Any/Proxy.pm line 21.
Redundant argument in sprintf at /opt/perl-5.24.0-RC1/lib/site_perl/5.24.0/Log/Any/Proxy.pm line 21.
Redundant argument in sprintf at /opt/perl-5.24.0-RC1/lib/site_perl/5.24.0/Log/Any/Proxy.pm line 21.
Redundant argument in sprintf at /opt/perl-5.24.0-RC1/lib/site_perl/5.24.0/Log/Any/Proxy.pm line 21.
Redundant argument in sprintf at /opt/perl-5.24.0-RC1/lib/site_perl/5.24.0/Log/Any/Proxy.pm line 21.
Redundant argument in sprintf at /opt/perl-5.24.0-RC1/lib/site_perl/5.24.0/Log/Any/Proxy.pm line 21.
Redundant argument in sprintf at /opt/perl-5.24.0-RC1/lib/site_perl/5.24.0/Log/Any/Proxy.pm line 21.
Redundant argument in sprintf at /opt/perl-5.24.0-RC1/lib/site_perl/5.24.0/Log/Any/Proxy.pm line 21.
Redundant argument in sprintf at /opt/perl-5.24.0-RC1/lib/site_perl/5.24.0/Log/Any/Proxy.pm line 21.
Redundant argument in sprintf at /opt/perl-5.24.0-RC1/lib/site_perl/5.24.0/Log/Any/Proxy.pm line 21.
Redundant argument in sprintf at /opt/perl-5.24.0-RC1/lib/site_perl/5.24.0/Log/Any/Proxy.pm line 21.
Redundant argument in sprintf at /opt/perl-5.24.0-RC1/lib/site_perl/5.24.0/Log/Any/Proxy.pm line 21.
Redundant argument in sprintf at /opt/perl-5.24.0-RC1/lib/site_perl/5.24.0/Log/Any/Proxy.pm line 21.
Redundant argument in sprintf at /opt/perl-5.24.0-RC1/lib/site_perl/5.24.0/Log/Any/Proxy.pm line 21.
Redundant argument in sprintf at /opt/perl-5.24.0-RC1/lib/site_perl/5.24.0/Log/Any/Proxy.pm line 21.
Redundant argument in sprintf at /opt/perl-5.24.0-RC1/lib/site_perl/5.24.0/Log/Any/Proxy.pm line 21.
Redundant argument in sprintf at /opt/perl-5.24.0-RC1/lib/site_perl/5.24.0/Log/Any/Proxy.pm line 21.
Redundant argument in sprintf at /opt/perl-5.24.0-RC1/lib/site_perl/5.24.0/Log/Any/Proxy.pm line 21.
Redundant argument in sprintf at /opt/perl-5.24.0-RC1/lib/site_perl/5.24.0/Log/Any/Proxy.pm line 21.
Redundant argument in sprintf at /opt/perl-5.24.0-RC1/lib/site_perl/5.24.0/Log/Any/Proxy.pm line 21.
Redundant argument in sprintf at /opt/perl-5.24.0-RC1/lib/site_perl/5.24.0/Log/Any/Proxy.pm line 21.
Redundant argument in sprintf at /opt/perl-5.24.0-RC1/lib/site_perl/5.24.0/Log/Any/Proxy.pm line 21.
Redundant argument in sprintf at /opt/perl-5.24.0-RC1/lib/site_perl/5.24.0/Log/Any/Proxy.pm line 21.
Redundant argument in sprintf at /opt/perl-5.24.0-RC1/lib/site_perl/5.24.0/Log/Any/Proxy.pm line 21.
Redundant argument in sprintf at /opt/perl-5.24.0-RC1/lib/site_perl/5.24.0/Log/Any/Proxy.pm line 21.
Redundant argument in sprintf at /opt/perl-5.24.0-RC1/lib/site_perl/5.24.0/Log/Any/Proxy.pm line 21.
Redundant argument in sprintf at /opt/perl-5.24.0-RC1/lib/site_perl/5.24.0/Log/Any/Proxy.pm line 21.
Redundant argument in sprintf at /opt/perl-5.24.0-RC1/lib/site_perl/5.24.0/Log/Any/Proxy.pm line 21.
Redundant argument in sprintf at /opt/perl-5.24.0-RC1/lib/site_perl/5.24.0/Log/Any/Proxy.pm line 21.
Redundant argument in sprintf at /opt/perl-5.24.0-RC1/lib/site_perl/5.24.0/Log/Any/Proxy.pm line 21.
Redundant argument in sprintf at /opt/perl-5.24.0-RC1/lib/site_perl/5.24.0/Log/Any/Proxy.pm line 21.
Redundant argument in sprintf at /opt/perl-5.24.0-RC1/lib/site_perl/5.24.0/Log/Any/Proxy.pm line 21.
Redundant argument in sprintf at /opt/perl-5.24.0-RC1/lib/site_perl/5.24.0/Log/Any/Proxy.pm line 21.
Redundant argument in sprintf at /opt/perl-5.24.0-RC1/lib/site_perl/5.24.0/Log/Any/Proxy.pm line 21.
Redundant argument in sprintf at /opt/perl-5.24.0-RC1/lib/site_perl/5.24.0/Log/Any/Proxy.pm line 21.
Redundant argument in sprintf at /opt/perl-5.24.0-RC1/lib/site_perl/5.24.0/Log/Any/Proxy.pm line 21.
Redundant argument in sprintf at /opt/perl-5.24.0-RC1/lib/site_perl/5.24.0/Log/Any/Proxy.pm line 21.
Redundant argument in sprintf at /opt/perl-5.24.0-RC1/lib/site_perl/5.24.0/Log/Any/Proxy.pm line 21.
Redundant argument in sprintf at /opt/perl-5.24.0-RC1/lib/site_perl/5.24.0/Log/Any/Proxy.pm line 21.
Redundant argument in sprintf at /opt/perl-5.24.0-RC1/lib/site_perl/5.24.0/Log/Any/Proxy.pm line 21.
Redundant argument in sprintf at /opt/perl-5.24.0-RC1/lib/site_perl/5.24.0/Log/Any/Proxy.pm line 21.
Redundant argument in sprintf at /opt/perl-5.24.0-RC1/lib/site_perl/5.24.0/Log/Any/Proxy.pm line 21.
Redundant argument in sprintf at /opt/perl-5.24.0-RC1/lib/site_perl/5.24.0/Log/Any/Proxy.pm line 21.
Redundant argument in sprintf at /opt/perl-5.24.0-RC1/lib/site_perl/5.24.0/Log/Any/Proxy.pm line 21.
Redundant argument in sprintf at /opt/perl-5.24.0-RC1/lib/site_perl/5.24.0/Log/Any/Proxy.pm line 21.
Redundant argument in sprintf at /opt/perl-5.24.0-RC1/lib/site_perl/5.24.0/Log/Any/Proxy.pm line 21.
Redundant argument in sprintf at /opt/perl-5.24.0-RC1/lib/site_perl/5.24.0/Log/Any/Proxy.pm line 21.
Redundant argument in sprintf at /opt/perl-5.24.0-RC1/lib/site_perl/5.24.0/Log/Any/Proxy.pm line 21.
Redundant argument in sprintf at /opt/perl-5.24.0-RC1/lib/site_perl/5.24.0/Log/Any/Proxy.pm line 21.
Redundant argument in sprintf at /opt/perl-5.24.0-RC1/lib/site_perl/5.24.0/Log/Any/Proxy.pm line 21.
Redundant argument in sprintf at /opt/perl-5.24.0-RC1/lib/site_perl/5.24.0/Log/Any/Proxy.pm line 21.
Redundant argument in sprintf at /opt/perl-5.24.0-RC1/lib/site_perl/5.24.0/Log/Any/Proxy.pm line 21.
Redundant argument in sprintf at /opt/perl-5.24.0-RC1/lib/site_perl/5.24.0/Log/Any/Proxy.pm line 21.
Redundant argument in sprintf at /opt/perl-5.24.0-RC1/lib/site_perl/5.24.0/Log/Any/Proxy.pm line 21.
Redundant argument in sprintf at /opt/perl-5.24.0-RC1/lib/site_perl/5.24.0/Log/Any/Proxy.pm line 21.
Redundant argument in sprintf at /opt/perl-5.24.0-RC1/lib/site_perl/5.24.0/Log/Any/Proxy.pm line 21.
Redundant argument in sprintf at /opt/perl-5.24.0-RC1/lib/site_perl/5.24.0/Log/Any/Proxy.pm line 21.
Redundant argument in sprintf at /opt/perl-5.24.0-RC1/lib/site_perl/5.24.0/Log/Any/Proxy.pm line 21.
Redundant argument in sprintf at /opt/perl-5.24.0-RC1/lib/site_perl/5.24.0/Log/Any/Proxy.pm line 21.
Redundant argument in sprintf at /opt/perl-5.24.0-RC1/lib/site_perl/5.24.0/Log/Any/Proxy.pm line 21.
Redundant argument in sprintf at /opt/perl-5.24.0-RC1/lib/site_perl/5.24.0/Log/Any/Proxy.pm line 21.
Redundant argument in sprintf at /opt/perl-5.24.0-RC1/lib/site_perl/5.24.0/Log/Any/Proxy.pm line 21.
Redundant argument in sprintf at /opt/perl-5.24.0-RC1/lib/site_perl/5.24.0/Log/Any/Proxy.pm line 21.
Redundant argument in sprintf at /opt/perl-5.24.0-RC1/lib/site_perl/5.24.0/Log/Any/Proxy.pm line 21.
Redundant argument in sprintf at /opt/perl-5.24.0-RC1/lib/site_perl/5.24.0/Log/Any/Proxy.pm line 21.
Redundant argument in sprintf at /opt/perl-5.24.0-RC1/lib/site_perl/5.24.0/Log/Any/Proxy.pm line 21.
Redundant argument in sprintf at /opt/perl-5.24.0-RC1/lib/site_perl/5.24.0/Log/Any/Proxy.pm line 21.
Redundant argument in sprintf at /opt/perl-5.24.0-RC1/lib/site_perl/5.24.0/Log/Any/Proxy.pm line 21.
Redundant argument in sprintf at /opt/perl-5.24.0-RC1/lib/site_perl/5.24.0/Log/Any/Proxy.pm line 21.
Redundant argument in sprintf at /opt/perl-5.24.0-RC1/lib/site_perl/5.24.0/Log/Any/Proxy.pm line 21.
Redundant argument in sprintf at /opt/perl-5.24.0-RC1/lib/site_perl/5.24.0/Log/Any/Proxy.pm line 21.
Redundant argument in sprintf at /opt/perl-5.24.0-RC1/lib/site_perl/5.24.0/Log/Any/Proxy.pm line 21.
Redundant argument in sprintf at /opt/perl-5.24.0-RC1/lib/site_perl/5.24.0/Log/Any/Proxy.pm line 21.
Redundant argument in sprintf at /opt/perl-5.24.0-RC1/lib/site_perl/5.24.0/Log/Any/Proxy.pm line 21.
Redundant argument in sprintf at /opt/perl-5.24.0-RC1/lib/site_perl/5.24.0/Log/Any/Proxy.pm line 21.
Redundant argument in sprintf at /opt/perl-5.24.0-RC1/lib/site_perl/5.24.0/Log/Any/Proxy.pm line 21.
Redundant argument in sprintf at /opt/perl-5.24.0-RC1/lib/site_perl/5.24.0/Log/Any/Proxy.pm line 21.
Redundant argument in sprintf at /opt/perl-5.24.0-RC1/lib/site_perl/5.24.0/Log/Any/Proxy.pm line 21.
Redundant argument in sprintf at /opt/perl-5.24.0-RC1/lib/site_perl/5.24.0/Log/Any/Proxy.pm line 21.
Redundant argument in sprintf at /opt/perl-5.24.0-RC1/lib/site_perl/5.24.0/Log/Any/Proxy.pm line 21.
Redundant argument in sprintf at /opt/perl-5.24.0-RC1/lib/site_perl/5.24.0/Log/Any/Proxy.pm line 21.
Redundant argument in sprintf at /opt/perl-5.24.0-RC1/lib/site_perl/5.24.0/Log/Any/Proxy.pm line 21.
Redundant argument in sprintf at /opt/perl-5.24.0-RC1/lib/site_perl/5.24.0/Log/Any/Proxy.pm line 21.
Redundant argument in sprintf at /opt/perl-5.24.0-RC1/lib/site_perl/5.24.0/Log/Any/Proxy.pm line 21.
Redundant argument in sprintf at /opt/perl-5.24.0-RC1/lib/site_perl/5.24.0/Log/Any/Proxy.pm line 21.
Redundant argument in sprintf at /opt/perl-5.24.0-RC1/lib/site_perl/5.24.0/Log/Any/Proxy.pm line 21.
Redundant argument in sprintf at /opt/perl-5.24.0-RC1/lib/site_perl/5.24.0/Log/Any/Proxy.pm line 21.
Redundant argument in sprintf at /opt/perl-5.24.0-RC1/lib/site_perl/5.24.0/Log/Any/Proxy.pm line 21.
Redundant argument in sprintf at /opt/perl-5.24.0-RC1/lib/site_perl/5.24.0/Log/Any/Proxy.pm line 21.
Redundant argument in sprintf at /opt/perl-5.24.0-RC1/lib/site_perl/5.24.0/Log/Any/Proxy.pm line 21.
Redundant argument in sprintf at /opt/perl-5.24.0-RC1/lib/site_perl/5.24.0/Log/Any/Proxy.pm line 21.
Redundant argument in sprintf at /opt/perl-5.24.0-RC1/lib/site_perl/5.24.0/Log/Any/Proxy.pm line 21.
Redundant argument in sprintf at /opt/perl-5.24.0-RC1/lib/site_perl/5.24.0/Log/Any/Proxy.pm line 21.
Redundant argument in sprintf at /opt/perl-5.24.0-RC1/lib/site_perl/5.24.0/Log/Any/Proxy.pm line 21.
Redundant argument in sprintf at /opt/perl-5.24.0-RC1/lib/site_perl/5.24.0/Log/Any/Proxy.pm line 21.
Redundant argument in sprintf at /opt/perl-5.24.0-RC1/lib/site_perl/5.24.0/Log/Any/Proxy.pm line 21.
Redundant argument in sprintf at /opt/perl-5.24.0-RC1/lib/site_perl/5.24.0/Log/Any/Proxy.pm line 21.
Redundant argument in sprintf at /opt/perl-5.24.0-RC1/lib/site_perl/5.24.0/Log/Any/Proxy.pm line 21.
Redundant argument in sprintf at /opt/perl-5.24.0-RC1/lib/site_perl/5.24.0/Log/Any/Proxy.pm line 21.
Redundant argument in sprintf at /opt/perl-5.24.0-RC1/lib/site_perl/5.24.0/Log/Any/Proxy.pm line 21.
Redundant argument in sprintf at /opt/perl-5.24.0-RC1/lib/site_perl/5.24.0/Log/Any/Proxy.pm line 21.
Redundant argument in sprintf at /opt/perl-5.24.0-RC1/lib/site_perl/5.24.0/Log/Any/Proxy.pm line 21.
Redundant argument in sprintf at /opt/perl-5.24.0-RC1/lib/site_perl/5.24.0/Log/Any/Proxy.pm line 21.
Redundant argument in sprintf at /opt/perl-5.24.0-RC1/lib/site_perl/5.24.0/Log/Any/Proxy.pm line 21.
Redundant argument in sprintf at /opt/perl-5.24.0-RC1/lib/site_perl/5.24.0/Log/Any/Proxy.pm line 21.
Redundant argument in sprintf at /opt/perl-5.24.0-RC1/lib/site_perl/5.24.0/Log/Any/Proxy.pm line 21.
Redundant argument in sprintf at /opt/perl-5.24.0-RC1/lib/site_perl/5.24.0/Log/Any/Proxy.pm line 21.
Redundant argument in sprintf at /opt/perl-5.24.0-RC1/lib/site_perl/5.24.0/Log/Any/Proxy.pm line 21.
Redundant argument in sprintf at /opt/perl-5.24.0-RC1/lib/site_perl/5.24.0/Log/Any/Proxy.pm line 21.
Redundant argument in sprintf at /opt/perl-5.24.0-RC1/lib/site_perl/5.24.0/Log/Any/Proxy.pm line 21.
Redundant argument in sprintf at /opt/perl-5.24.0-RC1/lib/site_perl/5.24.0/Log/Any/Proxy.pm line 21.
Redundant argument in sprintf at /opt/perl-5.24.0-RC1/lib/site_perl/5.24.0/Log/Any/Proxy.pm line 21.
Redundant argument in sprintf at /opt/perl-5.24.0-RC1/lib/site_perl/5.24.0/Log/Any/Proxy.pm line 21.
Redundant argument in sprintf at /opt/perl-5.24.0-RC1/lib/site_perl/5.24.0/Log/Any/Proxy.pm line 21.
Redundant argument in sprintf at /opt/perl-5.24.0-RC1/lib/site_perl/5.24.0/Log/Any/Proxy.pm line 21.
Redundant argument in sprintf at /opt/perl-5.24.0-RC1/lib/site_perl/5.24.0/Log/Any/Proxy.pm line 21.
Redundant argument in sprintf at /opt/perl-5.24.0-RC1/lib/site_perl/5.24.0/Log/Any/Proxy.pm line 21.
Redundant argument in sprintf at /opt/perl-5.24.0-RC1/lib/site_perl/5.24.0/Log/Any/Proxy.pm line 21.
Redundant argument in sprintf at /opt/perl-5.24.0-RC1/lib/site_perl/5.24.0/Log/Any/Proxy.pm line 21.
Redundant argument in sprintf at /opt/perl-5.24.0-RC1/lib/site_perl/5.24.0/Log/Any/Proxy.pm line 21.
Redundant argument in sprintf at /opt/perl-5.24.0-RC1/lib/site_perl/5.24.0/Log/Any/Proxy.pm line 21.
Redundant argument in sprintf at /opt/perl-5.24.0-RC1/lib/site_perl/5.24.0/Log/Any/Proxy.pm line 21.
Redundant argument in sprintf at /opt/perl-5.24.0-RC1/lib/site_perl/5.24.0/Log/Any/Proxy.pm line 21.
Redundant argument in sprintf at /opt/perl-5.24.0-RC1/lib/site_perl/5.24.0/Log/Any/Proxy.pm line 21.
Redundant argument in sprintf at /opt/perl-5.24.0-RC1/lib/site_perl/5.24.0/Log/Any/Proxy.pm line 21.
Redundant argument in sprintf at /opt/perl-5.24.0-RC1/lib/site_perl/5.24.0/Log/Any/Proxy.pm line 21.
Redundant argument in sprintf at /opt/perl-5.24.0-RC1/lib/site_perl/5.24.0/Log/Any/Proxy.pm line 21.
Redundant argument in sprintf at /opt/perl-5.24.0-RC1/lib/site_perl/5.24.0/Log/Any/Proxy.pm line 21.
Redundant argument in sprintf at /opt/perl-5.24.0-RC1/lib/site_perl/5.24.0/Log/Any/Proxy.pm line 21.
Redundant argument in sprintf at /opt/perl-5.24.0-RC1/lib/site_perl/5.24.0/Log/Any/Proxy.pm line 21.
Redundant argument in sprintf at /opt/perl-5.24.0-RC1/lib/site_perl/5.24.0/Log/Any/Proxy.pm line 21.
Redundant argument in sprintf at /opt/perl-5.24.0-RC1/lib/site_perl/5.24.0/Log/Any/Proxy.pm line 21.
Redundant argument in sprintf at /opt/perl-5.24.0-RC1/lib/site_perl/5.24.0/Log/Any/Proxy.pm line 21.
Redundant argument in sprintf at /opt/perl-5.24.0-RC1/lib/site_perl/5.24.0/Log/Any/Proxy.pm line 21.
Redundant argument in sprintf at /opt/perl-5.24.0-RC1/lib/site_perl/5.24.0/Log/Any/Proxy.pm line 21.
Redundant argument in sprintf at /opt/perl-5.24.0-RC1/lib/site_perl/5.24.0/Log/Any/Proxy.pm line 21.
Redundant argument in sprintf at /opt/perl-5.24.0-RC1/lib/site_perl/5.24.0/Log/Any/Proxy.pm line 21.
Redundant argument in sprintf at /opt/perl-5.24.0-RC1/lib/site_perl/5.24.0/Log/Any/Proxy.pm line 21.
Redundant argument in sprintf at /opt/perl-5.24.0-RC1/lib/site_perl/5.24.0/Log/Any/Proxy.pm line 21.
Redundant argument in sprintf at /opt/perl-5.24.0-RC1/lib/site_perl/5.24.0/Log/Any/Proxy.pm line 21.
Redundant argument in sprintf at /opt/perl-5.24.0-RC1/lib/site_perl/5.24.0/Log/Any/Proxy.pm line 21.
Redundant argument in sprintf at /opt/perl-5.24.0-RC1/lib/site_perl/5.24.0/Log/Any/Proxy.pm line 21.
Redundant argument in sprintf at /opt/perl-5.24.0-RC1/lib/site_perl/5.24.0/Log/Any/Proxy.pm line 21.
Redundant argument in sprintf at /opt/perl-5.24.0-RC1/lib/site_perl/5.24.0/Log/Any/Proxy.pm line 21.
Redundant argument in sprintf at /opt/perl-5.24.0-RC1/lib/site_perl/5.24.0/Log/Any/Proxy.pm line 21.
Redundant argument in sprintf at /opt/perl-5.24.0-RC1/lib/site_perl/5.24.0/Log/Any/Proxy.pm line 21.
Redundant argument in sprintf at /opt/perl-5.24.0-RC1/lib/site_perl/5.24.0/Log/Any/Proxy.pm line 21.
Redundant argument in sprintf at /opt/perl-5.24.0-RC1/lib/site_perl/5.24.0/Log/Any/Proxy.pm line 21.
Redundant argument in sprintf at /opt/perl-5.24.0-RC1/lib/site_perl/5.24.0/Log/Any/Proxy.pm line 21.
Redundant argument in sprintf at /opt/perl-5.24.0-RC1/lib/site_perl/5.24.0/Log/Any/Proxy.pm line 21.
Redundant argument in sprintf at /opt/perl-5.24.0-RC1/lib/site_perl/5.24.0/Log/Any/Proxy.pm line 21.
Redundant argument in sprintf at /opt/perl-5.24.0-RC1/lib/site_perl/5.24.0/Log/Any/Proxy.pm line 21.
Redundant argument in sprintf at /opt/perl-5.24.0-RC1/lib/site_perl/5.24.0/Log/Any/Proxy.pm line 21.
Redundant argument in sprintf at /opt/perl-5.24.0-RC1/lib/site_perl/5.24.0/Log/Any/Proxy.pm line 21.
Redundant argument in sprintf at /opt/perl-5.24.0-RC1/lib/site_perl/5.24.0/Log/Any/Proxy.pm line 21.
Redundant argument in sprintf at /opt/perl-5.24.0-RC1/lib/site_perl/5.24.0/Log/Any/Proxy.pm line 21.
Redundant argument in sprintf at /opt/perl-5.24.0-RC1/lib/site_perl/5.24.0/Log/Any/Proxy.pm line 21.
Redundant argument in sprintf at /opt/perl-5.24.0-RC1/lib/site_perl/5.24.0/Log/Any/Proxy.pm line 21.
Redundant argument in sprintf at /opt/perl-5.24.0-RC1/lib/site_perl/5.24.0/Log/Any/Proxy.pm line 21.
Redundant argument in sprintf at /opt/perl-5.24.0-RC1/lib/site_perl/5.24.0/Log/Any/Proxy.pm line 21.
Redundant argument in sprintf at /opt/perl-5.24.0-RC1/lib/site_perl/5.24.0/Log/Any/Proxy.pm line 21.
Redundant argument in sprintf at /opt/perl-5.24.0-RC1/lib/site_perl/5.24.0/Log/Any/Proxy.pm line 21.
Redundant argument in sprintf at /opt/perl-5.24.0-RC1/lib/site_perl/5.24.0/Log/Any/Proxy.pm line 21.
Redundant argument in sprintf at /opt/perl-5.24.0-RC1/lib/site_perl/5.24.0/Log/Any/Proxy.pm line 21.
Redundant argument in sprintf at /opt/perl-5.24.0-RC1/lib/site_perl/5.24.0/Log/Any/Proxy.pm line 21.
Redundant argument in sprintf at /opt/perl-5.24.0-RC1/lib/site_perl/5.24.0/Log/Any/Proxy.pm line 21.
Redundant argument in sprintf at /opt/perl-5.24.0-RC1/lib/site_perl/5.24.0/Log/Any/Proxy.pm line 21.
Redundant argument in sprintf at /opt/perl-5.24.0-RC1/lib/site_perl/5.24.0/Log/Any/Proxy.pm line 21.
Redundant argument in sprintf at /opt/perl-5.24.0-RC1/lib/site_perl/5.24.0/Log/Any/Proxy.pm line 21.
Redundant argument in sprintf at /opt/perl-5.24.0-RC1/lib/site_perl/5.24.0/Log/Any/Proxy.pm line 21.
Redundant argument in sprintf at /opt/perl-5.24.0-RC1/lib/site_perl/5.24.0/Log/Any/Proxy.pm line 21.
Redundant argument in sprintf at /opt/perl-5.24.0-RC1/lib/site_perl/5.24.0/Log/Any/Proxy.pm line 21.
Redundant argument in sprintf at /opt/perl-5.24.0-RC1/lib/site_perl/5.24.0/Log/Any/Proxy.pm line 21.
Redundant argument in sprintf at /opt/perl-5.24.0-RC1/lib/site_perl/5.24.0/Log/Any/Proxy.pm line 21.
Redundant argument in sprintf at /opt/perl-5.24.0-RC1/lib/site_perl/5.24.0/Log/Any/Proxy.pm line 21.
Redundant argument in sprintf at /opt/perl-5.24.0-RC1/lib/site_perl/5.24.0/Log/Any/Proxy.pm line 21.
Redundant argument in sprintf at /opt/perl-5.24.0-RC1/lib/site_perl/5.24.0/Log/Any/Proxy.pm line 21.
Redundant argument in sprintf at /opt/perl-5.24.0-RC1/lib/site_perl/5.24.0/Log/Any/Proxy.pm line 21.
Redundant argument in sprintf at /opt/perl-5.24.0-RC1/lib/site_perl/5.24.0/Log/Any/Proxy.pm line 21.
Redundant argument in sprintf at /opt/perl-5.24.0-RC1/lib/site_perl/5.24.0/Log/Any/Proxy.pm line 21.
Redundant argument in sprintf at /opt/perl-5.24.0-RC1/lib/site_perl/5.24.0/Log/Any/Proxy.pm line 21.
Redundant argument in sprintf at /opt/perl-5.24.0-RC1/lib/site_perl/5.24.0/Log/Any/Proxy.pm line 21.
Redundant argument in sprintf at /opt/perl-5.24.0-RC1/lib/site_perl/5.24.0/Log/Any/Proxy.pm line 21.
Redundant argument in sprintf at /opt/perl-5.24.0-RC1/lib/site_perl/5.24.0/Log/Any/Proxy.pm line 21.
Redundant argument in sprintf at /opt/perl-5.24.0-RC1/lib/site_perl/5.24.0/Log/Any/Proxy.pm line 21.
Redundant argument in sprintf at /opt/perl-5.24.0-RC1/lib/site_perl/5.24.0/Log/Any/Proxy.pm line 21.
Redundant argument in sprintf at /opt/perl-5.24.0-RC1/lib/site_perl/5.24.0/Log/Any/Proxy.pm line 21.
Redundant argument in sprintf at /opt/perl-5.24.0-RC1/lib/site_perl/5.24.0/Log/Any/Proxy.pm line 21.
Redundant argument in sprintf at /opt/perl-5.24.0-RC1/lib/site_perl/5.24.0/Log/Any/Proxy.pm line 21.
Redundant argument in sprintf at /opt/perl-5.24.0-RC1/lib/site_perl/5.24.0/Log/Any/Proxy.pm line 21.
Redundant argument in sprintf at /opt/perl-5.24.0-RC1/lib/site_perl/5.24.0/Log/Any/Proxy.pm line 21.
Redundant argument in sprintf at /opt/perl-5.24.0-RC1/lib/site_perl/5.24.0/Log/Any/Proxy.pm line 21.
Redundant argument in sprintf at /opt/perl-5.24.0-RC1/lib/site_perl/5.24.0/Log/Any/Proxy.pm line 21.
Redundant argument in sprintf at /opt/perl-5.24.0-RC1/lib/site_perl/5.24.0/Log/Any/Proxy.pm line 21.
Redundant argument in sprintf at /opt/perl-5.24.0-RC1/lib/site_perl/5.24.0/Log/Any/Proxy.pm line 21.
Redundant argument in sprintf at /opt/perl-5.24.0-RC1/lib/site_perl/5.24.0/Log/Any/Proxy.pm line 21.
Redundant argument in sprintf at /opt/perl-5.24.0-RC1/lib/site_perl/5.24.0/Log/Any/Proxy.pm line 21.
Redundant argument in sprintf at /opt/perl-5.24.0-RC1/lib/site_perl/5.24.0/Log/Any/Proxy.pm line 21.
Redundant argument in sprintf at /opt/perl-5.24.0-RC1/lib/site_perl/5.24.0/Log/Any/Proxy.pm line 21.
Redundant argument in sprintf at /opt/perl-5.24.0-RC1/lib/site_perl/5.24.0/Log/Any/Proxy.pm line 21.
Redundant argument in sprintf at /opt/perl-5.24.0-RC1/lib/site_perl/5.24.0/Log/Any/Proxy.pm line 21.
Redundant argument in sprintf at /opt/perl-5.24.0-RC1/lib/site_perl/5.24.0/Log/Any/Proxy.pm line 21.
Redundant argument in sprintf at /opt/perl-5.24.0-RC1/lib/site_perl/5.24.0/Log/Any/Proxy.pm line 21.
Redundant argument in sprintf at /opt/perl-5.24.0-RC1/lib/site_perl/5.24.0/Log/Any/Proxy.pm line 21.
Redundant argument in sprintf at /opt/perl-5.24.0-RC1/lib/site_perl/5.24.0/Log/Any/Proxy.pm line 21.
Redundant argument in sprintf at /opt/perl-5.24.0-RC1/lib/site_perl/5.24.0/Log/Any/Proxy.pm line 21.
Redundant argument in sprintf at /opt/perl-5.24.0-RC1/lib/site_perl/5.24.0/Log/Any/Proxy.pm line 21.
Redundant argument in sprintf at /opt/perl-5.24.0-RC1/lib/site_perl/5.24.0/Log/Any/Proxy.pm line 21.
Redundant argument in sprintf at /opt/perl-5.24.0-RC1/lib/site_perl/5.24.0/Log/Any/Proxy.pm line 21.
Redundant argument in sprintf at /opt/perl-5.24.0-RC1/lib/site_perl/5.24.0/Log/Any/Proxy.pm line 21.
Redundant argument in sprintf at /opt/perl-5.24.0-RC1/lib/site_perl/5.24.0/Log/Any/Proxy.pm line 21.
Redundant argument in sprintf at /opt/perl-5.24.0-RC1/lib/site_perl/5.24.0/Log/Any/Proxy.pm line 21.
Redundant argument in sprintf at /opt/perl-5.24.0-RC1/lib/site_perl/5.24.0/Log/Any/Proxy.pm line 21.
Redundant argument in sprintf at /opt/perl-5.24.0-RC1/lib/site_perl/5.24.0/Log/Any/Proxy.pm line 21.
Redundant argument in sprintf at /opt/perl-5.24.0-RC1/lib/site_perl/5.24.0/Log/Any/Proxy.pm line 21.
Redundant argument in sprintf at /opt/perl-5.24.0-RC1/lib/site_perl/5.24.0/Log/Any/Proxy.pm line 21.
Redundant argument in sprintf at /opt/perl-5.24.0-RC1/lib/site_perl/5.24.0/Log/Any/Proxy.pm line 21.
Redundant argument in sprintf at /opt/perl-5.24.0-RC1/lib/site_perl/5.24.0/Log/Any/Proxy.pm line 21.
Redundant argument in sprintf at /opt/perl-5.24.0-RC1/lib/site_perl/5.24.0/Log/Any/Proxy.pm line 21.
Redundant argument in sprintf at /opt/perl-5.24.0-RC1/lib/site_perl/5.24.0/Log/Any/Proxy.pm line 21.
Redundant argument in sprintf at /opt/perl-5.24.0-RC1/lib/site_perl/5.24.0/Log/Any/Proxy.pm line 21.
Redundant argument in sprintf at /opt/perl-5.24.0-RC1/lib/site_perl/5.24.0/Log/Any/Proxy.pm line 21.
Redundant argument in sprintf at /opt/perl-5.24.0-RC1/lib/site_perl/5.24.0/Log/Any/Proxy.pm line 21.
Redundant argument in sprintf at /opt/perl-5.24.0-RC1/lib/site_perl/5.24.0/Log/Any/Proxy.pm line 21.
Redundant argument in sprintf at /opt/perl-5.24.0-RC1/lib/site_perl/5.24.0/Log/Any/Proxy.pm line 21.
Redundant argument in sprintf at /opt/perl-5.24.0-RC1/lib/site_perl/5.24.0/Log/Any/Proxy.pm line 21.
Redundant argument in sprintf at /opt/perl-5.24.0-RC1/lib/site_perl/5.24.0/Log/Any/Proxy.pm line 21.
Redundant argument in sprintf at /opt/perl-5.24.0-RC1/lib/site_perl/5.24.0/Log/Any/Proxy.pm line 21.
Redundant argument in sprintf at /opt/perl-5.24.0-RC1/lib/site_perl/5.24.0/Log/Any/Proxy.pm line 21.
Redundant argument in sprintf at /opt/perl-5.24.0-RC1/lib/site_perl/5.24.0/Log/Any/Proxy.pm line 21.
Redundant argument in sprintf at /opt/perl-5.24.0-RC1/lib/site_perl/5.24.0/Log/Any/Proxy.pm line 21.
Redundant argument in sprintf at /opt/perl-5.24.0-RC1/lib/site_perl/5.24.0/Log/Any/Proxy.pm line 21.
Redundant argument in sprintf at /opt/perl-5.24.0-RC1/lib/site_perl/5.24.0/Log/Any/Proxy.pm line 21.
Redundant argument in sprintf at /opt/perl-5.24.0-RC1/lib/site_perl/5.24.0/Log/Any/Proxy.pm line 21.
Redundant argument in sprintf at /opt/perl-5.24.0-RC1/lib/site_perl/5.24.0/Log/Any/Proxy.pm line 21.
Redundant argument in sprintf at /opt/perl-5.24.0-RC1/lib/site_perl/5.24.0/Log/Any/Proxy.pm line 21.
Redundant argument in sprintf at /opt/perl-5.24.0-RC1/lib/site_perl/5.24.0/Log/Any/Proxy.pm line 21.
Redundant argument in sprintf at /opt/perl-5.24.0-RC1/lib/site_perl/5.24.0/Log/Any/Proxy.pm line 21.
Redundant argument in sprintf at /opt/perl-5.24.0-RC1/lib/site_perl/5.24.0/Log/Any/Proxy.pm line 21.
Redundant argument in sprintf at /opt/perl-5.24.0-RC1/lib/site_perl/5.24.0/Log/Any/Proxy.pm line 21.
Redundant argument in sprintf at /opt/perl-5.24.0-RC1/lib/site_perl/5.24.0/Log/Any/Proxy.pm line 21.
Redundant argument in sprintf at /opt/perl-5.24.0-RC1/lib/site_perl/5.24.0/Log/Any/Proxy.pm line 21.
Redundant argument in sprintf at /opt/perl-5.24.0-RC1/lib/site_perl/5.24.0/Log/Any/Proxy.pm line 21.
Redundant argument in sprintf at /opt/perl-5.24.0-RC1/lib/site_perl/5.24.0/Log/Any/Proxy.pm line 21.
Redundant argument in sprintf at /opt/perl-5.24.0-RC1/lib/site_perl/5.24.0/Log/Any/Proxy.pm line 21.
Redundant argument in sprintf at /opt/perl-5.24.0-RC1/lib/site_perl/5.24.0/Log/Any/Proxy.pm line 21.
Redundant argument in sprintf at /opt/perl-5.24.0-RC1/lib/site_perl/5.24.0/Log/Any/Proxy.pm line 21.
Redundant argument in sprintf at /opt/perl-5.24.0-RC1/lib/site_perl/5.24.0/Log/Any/Proxy.pm line 21.
Redundant argument in sprintf at /opt/perl-5.24.0-RC1/lib/site_perl/5.24.0/Log/Any/Proxy.pm line 21.
Redundant argument in sprintf at /opt/perl-5.24.0-RC1/lib/site_perl/5.24.0/Log/Any/Proxy.pm line 21.
Redundant argument in sprintf at /opt/perl-5.24.0-RC1/lib/site_perl/5.24.0/Log/Any/Proxy.pm line 21.
Redundant argument in sprintf at /opt/perl-5.24.0-RC1/lib/site_perl/5.24.0/Log/Any/Proxy.pm line 21.
Redundant argument in sprintf at /opt/perl-5.24.0-RC1/lib/site_perl/5.24.0/Log/Any/Proxy.pm line 21.
Redundant argument in sprintf at /opt/perl-5.24.0-RC1/lib/site_perl/5.24.0/Log/Any/Proxy.pm line 21.
Redundant argument in sprintf at /opt/perl-5.24.0-RC1/lib/site_perl/5.24.0/Log/Any/Proxy.pm line 21.
Redundant argument in sprintf at /opt/perl-5.24.0-RC1/lib/site_perl/5.24.0/Log/Any/Proxy.pm line 21.
Redundant argument in sprintf at /opt/perl-5.24.0-RC1/lib/site_perl/5.24.0/Log/Any/Proxy.pm line 21.
Redundant argument in sprintf at /opt/perl-5.24.0-RC1/lib/site_perl/5.24.0/Log/Any/Proxy.pm line 21.
Redundant argument in sprintf at /opt/perl-5.24.0-RC1/lib/site_perl/5.24.0/Log/Any/Proxy.pm line 21.
Redundant argument in sprintf at /opt/perl-5.24.0-RC1/lib/site_perl/5.24.0/Log/Any/Proxy.pm line 21.
Redundant argument in sprintf at /opt/perl-5.24.0-RC1/lib/site_perl/5.24.0/Log/Any/Proxy.pm line 21.
Redundant argument in sprintf at /opt/perl-5.24.0-RC1/lib/site_perl/5.24.0/Log/Any/Proxy.pm line 21.
Redundant argument in sprintf at /opt/perl-5.24.0-RC1/lib/site_perl/5.24.0/Log/Any/Proxy.pm line 21.
Redundant argument in sprintf at /opt/perl-5.24.0-RC1/lib/site_perl/5.24.0/Log/Any/Proxy.pm line 21.
Redundant argument in sprintf at /opt/perl-5.24.0-RC1/lib/site_perl/5.24.0/Log/Any/Proxy.pm line 21.
Redundant argument in sprintf at /opt/perl-5.24.0-RC1/lib/site_perl/5.24.0/Log/Any/Proxy.pm line 21.
Redundant argument in sprintf at /opt/perl-5.24.0-RC1/lib/site_perl/5.24.0/Log/Any/Proxy.pm line 21.
Redundant argument in sprintf at /opt/perl-5.24.0-RC1/lib/site_perl/5.24.0/Log/Any/Proxy.pm line 21.
Redundant argument in sprintf at /opt/perl-5.24.0-RC1/lib/site_perl/5.24.0/Log/Any/Proxy.pm line 21.
Redundant argument in sprintf at /opt/perl-5.24.0-RC1/lib/site_perl/5.24.0/Log/Any/Proxy.pm line 21.
Redundant argument in sprintf at /opt/perl-5.24.0-RC1/lib/site_perl/5.24.0/Log/Any/Proxy.pm line 21.
Redundant argument in sprintf at /opt/perl-5.24.0-RC1/lib/site_perl/5.24.0/Log/Any/Proxy.pm line 21.
Redundant argument in sprintf at /opt/perl-5.24.0-RC1/lib/site_perl/5.24.0/Log/Any/Proxy.pm line 21.
Redundant argument in sprintf at /opt/perl-5.24.0-RC1/lib/site_perl/5.24.0/Log/Any/Proxy.pm line 21.
Redundant argument in sprintf at /opt/perl-5.24.0-RC1/lib/site_perl/5.24.0/Log/Any/Proxy.pm line 21.
Redundant argument in sprintf at /opt/perl-5.24.0-RC1/lib/site_perl/5.24.0/Log/Any/Proxy.pm line 21.
Redundant argument in sprintf at /opt/perl-5.24.0-RC1/lib/site_perl/5.24.0/Log/Any/Proxy.pm line 21.
Redundant argument in sprintf at /opt/perl-5.24.0-RC1/lib/site_perl/5.24.0/Log/Any/Proxy.pm line 21.
Redundant argument in sprintf at /opt/perl-5.24.0-RC1/lib/site_perl/5.24.0/Log/Any/Proxy.pm line 21.
Redundant argument in sprintf at /opt/perl-5.24.0-RC1/lib/site_perl/5.24.0/Log/Any/Proxy.pm line 21.
Redundant argument in sprintf at /opt/perl-5.24.0-RC1/lib/site_perl/5.24.0/Log/Any/Proxy.pm line 21.
Redundant argument in sprintf at /opt/perl-5.24.0-RC1/lib/site_perl/5.24.0/Log/Any/Proxy.pm line 21.
Redundant argument in sprintf at /opt/perl-5.24.0-RC1/lib/site_perl/5.24.0/Log/Any/Proxy.pm line 21.
Redundant argument in sprintf at /opt/perl-5.24.0-RC1/lib/site_perl/5.24.0/Log/Any/Proxy.pm line 21.
Redundant argument in sprintf at /opt/perl-5.24.0-RC1/lib/site_perl/5.24.0/Log/Any/Proxy.pm line 21.
Redundant argument in sprintf at /opt/perl-5.24.0-RC1/lib/site_perl/5.24.0/Log/Any/Proxy.pm line 21.
Redundant argument in sprintf at /opt/perl-5.24.0-RC1/lib/site_perl/5.24.0/Log/Any/Proxy.pm line 21.
Redundant argument in sprintf at /opt/perl-5.24.0-RC1/lib/site_perl/5.24.0/Log/Any/Proxy.pm line 21.
Redundant argument in sprintf at /opt/perl-5.24.0-RC1/lib/site_perl/5.24.0/Log/Any/Proxy.pm line 21.
Redundant argument in sprintf at /opt/perl-5.24.0-RC1/lib/site_perl/5.24.0/Log/Any/Proxy.pm line 21.
Redundant argument in sprintf at /opt/perl-5.24.0-RC1/lib/site_perl/5.24.0/Log/Any/Proxy.pm line 21.
Redundant argument in sprintf at /opt/perl-5.24.0-RC1/lib/site_perl/5.24.0/Log/Any/Proxy.pm line 21.
Redundant argument in sprintf at /opt/perl-5.24.0-RC1/lib/site_perl/5.24.0/Log/Any/Proxy.pm line 21.
Redundant argument in sprintf at /opt/perl-5.24.0-RC1/lib/site_perl/5.24.0/Log/Any/Proxy.pm line 21.
Redundant argument in sprintf at /opt/perl-5.24.0-RC1/lib/site_perl/5.24.0/Log/Any/Proxy.pm line 21.
Redundant argument in sprintf at /opt/perl-5.24.0-RC1/lib/site_perl/5.24.0/Log/Any/Proxy.pm line 21.
Redundant argument in sprintf at /opt/perl-5.24.0-RC1/lib/site_perl/5.24.0/Log/Any/Proxy.pm line 21.
Redundant argument in sprintf at /opt/perl-5.24.0-RC1/lib/site_perl/5.24.0/Log/Any/Proxy.pm line 21.
Redundant argument in sprintf at /opt/perl-5.24.0-RC1/lib/site_perl/5.24.0/Log/Any/Proxy.pm line 21.
Redundant argument in sprintf at /opt/perl-5.24.0-RC1/lib/site_perl/5.24.0/Log/Any/Proxy.pm line 21.
Redundant argument in sprintf at /opt/perl-5.24.0-RC1/lib/site_perl/5.24.0/Log/Any/Proxy.pm line 21.
Redundant argument in sprintf at /opt/perl-5.24.0-RC1/lib/site_perl/5.24.0/Log/Any/Proxy.pm line 21.
Redundant argument in sprintf at /opt/perl-5.24.0-RC1/lib/site_perl/5.24.0/Log/Any/Proxy.pm line 21.
Redundant argument in sprintf at /opt/perl-5.24.0-RC1/lib/site_perl/5.24.0/Log/Any/Proxy.pm line 21.
Redundant argument in sprintf at /opt/perl-5.24.0-RC1/lib/site_perl/5.24.0/Log/Any/Proxy.pm line 21.
Redundant argument in sprintf at /opt/perl-5.24.0-RC1/lib/site_perl/5.24.0/Log/Any/Proxy.pm line 21.
Redundant argument in sprintf at /opt/perl-5.24.0-RC1/lib/site_perl/5.24.0/Log/Any/Proxy.pm line 21.
Redundant argument in sprintf at /opt/perl-5.24.0-RC1/lib/site_perl/5.24.0/Log/Any/Proxy.pm line 21.
Redundant argument in sprintf at /opt/perl-5.24.0-RC1/lib/site_perl/5.24.0/Log/Any/Proxy.pm line 21.
Redundant argument in sprintf at /opt/perl-5.24.0-RC1/lib/site_perl/5.24.0/Log/Any/Proxy.pm line 21.
Redundant argument in sprintf at /opt/perl-5.24.0-RC1/lib/site_perl/5.24.0/Log/Any/Proxy.pm line 21.
Redundant argument in sprintf at /opt/perl-5.24.0-RC1/lib/site_perl/5.24.0/Log/Any/Proxy.pm line 21.
Redundant argument in sprintf at /opt/perl-5.24.0-RC1/lib/site_perl/5.24.0/Log/Any/Proxy.pm line 21.
Redundant argument in sprintf at /opt/perl-5.24.0-RC1/lib/site_perl/5.24.0/Log/Any/Proxy.pm line 21.
Redundant argument in sprintf at /opt/perl-5.24.0-RC1/lib/site_perl/5.24.0/Log/Any/Proxy.pm line 21.
Redundant argument in sprintf at /opt/perl-5.24.0-RC1/lib/site_perl/5.24.0/Log/Any/Proxy.pm line 21.
Redundant argument in sprintf at /opt/perl-5.24.0-RC1/lib/site_perl/5.24.0/Log/Any/Proxy.pm line 21.
Redundant argument in sprintf at /opt/perl-5.24.0-RC1/lib/site_perl/5.24.0/Log/Any/Proxy.pm line 21.
Redundant argument in sprintf at /opt/perl-5.24.0-RC1/lib/site_perl/5.24.0/Log/Any/Proxy.pm line 21.
Redundant argument in sprintf at /opt/perl-5.24.0-RC1/lib/site_perl/5.24.0/Log/Any/Proxy.pm line 21.
Redundant argument in sprintf at /opt/perl-5.24.0-RC1/lib/site_perl/5.24.0/Log/Any/Proxy.pm line 21.
Redundant argument in sprintf at /opt/perl-5.24.0-RC1/lib/site_perl/5.24.0/Log/Any/Proxy.pm line 21.
Redundant argument in sprintf at /opt/perl-5.24.0-RC1/lib/site_perl/5.24.0/Log/Any/Proxy.pm line 21.
Redundant argument in sprintf at /opt/perl-5.24.0-RC1/lib/site_perl/5.24.0/Log/Any/Proxy.pm line 21.
Redundant argument in sprintf at /opt/perl-5.24.0-RC1/lib/site_perl/5.24.0/Log/Any/Proxy.pm line 21.
Redundant argument in sprintf at /opt/perl-5.24.0-RC1/lib/site_perl/5.24.0/Log/Any/Proxy.pm line 21.
Redundant argument in sprintf at /opt/perl-5.24.0-RC1/lib/site_perl/5.24.0/Log/Any/Proxy.pm line 21.
Redundant argument in sprintf at /opt/perl-5.24.0-RC1/lib/site_perl/5.24.0/Log/Any/Proxy.pm line 21.
Redundant argument in sprintf at /opt/perl-5.24.0-RC1/lib/site_perl/5.24.0/Log/Any/Proxy.pm line 21.
Redundant argument in sprintf at /opt/perl-5.24.0-RC1/lib/site_perl/5.24.0/Log/Any/Proxy.pm line 21.
Redundant argument in sprintf at /opt/perl-5.24.0-RC1/lib/site_perl/5.24.0/Log/Any/Proxy.pm line 21.
Redundant argument in sprintf at /opt/perl-5.24.0-RC1/lib/site_perl/5.24.0/Log/Any/Proxy.pm line 21.
Redundant argument in sprintf at /opt/perl-5.24.0-RC1/lib/site_perl/5.24.0/Log/Any/Proxy.pm line 21.
Redundant argument in sprintf at /opt/perl-5.24.0-RC1/lib/site_perl/5.24.0/Log/Any/Proxy.pm line 21.
Redundant argument in sprintf at /opt/perl-5.24.0-RC1/lib/site_perl/5.24.0/Log/Any/Proxy.pm line 21.
Redundant argument in sprintf at /opt/perl-5.24.0-RC1/lib/site_perl/5.24.0/Log/Any/Proxy.pm line 21.
Redundant argument in sprintf at /opt/perl-5.24.0-RC1/lib/site_perl/5.24.0/Log/Any/Proxy.pm line 21.
Redundant argument in sprintf at /opt/perl-5.24.0-RC1/lib/site_perl/5.24.0/Log/Any/Proxy.pm line 21.
Redundant argument in sprintf at /opt/perl-5.24.0-RC1/lib/site_perl/5.24.0/Log/Any/Proxy.pm line 21.
Redundant argument in sprintf at /opt/perl-5.24.0-RC1/lib/site_perl/5.24.0/Log/Any/Proxy.pm line 21.
Redundant argument in sprintf at /opt/perl-5.24.0-RC1/lib/site_perl/5.24.0/Log/Any/Proxy.pm line 21.
Redundant argument in sprintf at /opt/perl-5.24.0-RC1/lib/site_perl/5.24.0/Log/Any/Proxy.pm line 21.
Redundant argument in sprintf at /opt/perl-5.24.0-RC1/lib/site_perl/5.24.0/Log/Any/Proxy.pm line 21.
Redundant argument in sprintf at /opt/perl-5.24.0-RC1/lib/site_perl/5.24.0/Log/Any/Proxy.pm line 21.
Redundant argument in sprintf at /opt/perl-5.24.0-RC1/lib/site_perl/5.24.0/Log/Any/Proxy.pm line 21.
Redundant argument in sprintf at /opt/perl-5.24.0-RC1/lib/site_perl/5.24.0/Log/Any/Proxy.pm line 21.
Redundant argument in sprintf at /opt/perl-5.24.0-RC1/lib/site_perl/5.24.0/Log/Any/Proxy.pm line 21.
Redundant argument in sprintf at /opt/perl-5.24.0-RC1/lib/site_perl/5.24.0/Log/Any/Proxy.pm line 21.
Redundant argument in sprintf at /opt/perl-5.24.0-RC1/lib/site_perl/5.24.0/Log/Any/Proxy.pm line 21.
Redundant argument in sprintf at /opt/perl-5.24.0-RC1/lib/site_perl/5.24.0/Log/Any/Proxy.pm line 21.
Redundant argument in sprintf at /opt/perl-5.24.0-RC1/lib/site_perl/5.24.0/Log/Any/Proxy.pm line 21.
Redundant argument in sprintf at /opt/perl-5.24.0-RC1/lib/site_perl/5.24.0/Log/Any/Proxy.pm line 21.
Redundant argument in sprintf at /opt/perl-5.24.0-RC1/lib/site_perl/5.24.0/Log/Any/Proxy.pm line 21.
Redundant argument in sprintf at /opt/perl-5.24.0-RC1/lib/site_perl/5.24.0/Log/Any/Proxy.pm line 21.
Redundant argument in sprintf at /opt/perl-5.24.0-RC1/lib/site_perl/5.24.0/Log/Any/Proxy.pm line 21.
Redundant argument in sprintf at /opt/perl-5.24.0-RC1/lib/site_perl/5.24.0/Log/Any/Proxy.pm line 21.
Redundant argument in sprintf at /opt/perl-5.24.0-RC1/lib/site_perl/5.24.0/Log/Any/Proxy.pm line 21.
Redundant argument in sprintf at /opt/perl-5.24.0-RC1/lib/site_perl/5.24.0/Log/Any/Proxy.pm line 21.
Redundant argument in sprintf at /opt/perl-5.24.0-RC1/lib/site_perl/5.24.0/Log/Any/Proxy.pm line 21.
Redundant argument in sprintf at /opt/perl-5.24.0-RC1/lib/site_perl/5.24.0/Log/Any/Proxy.pm line 21.
Redundant argument in sprintf at /opt/perl-5.24.0-RC1/lib/site_perl/5.24.0/Log/Any/Proxy.pm line 21.
Redundant argument in sprintf at /opt/perl-5.24.0-RC1/lib/site_perl/5.24.0/Log/Any/Proxy.pm line 21.
Redundant argument in sprintf at /opt/perl-5.24.0-RC1/lib/site_perl/5.24.0/Log/Any/Proxy.pm line 21.
Redundant argument in sprintf at /opt/perl-5.24.0-RC1/lib/site_perl/5.24.0/Log/Any/Proxy.pm line 21.
Redundant argument in sprintf at /opt/perl-5.24.0-RC1/lib/site_perl/5.24.0/Log/Any/Proxy.pm line 21.
Redundant argument in sprintf at /opt/perl-5.24.0-RC1/lib/site_perl/5.24.0/Log/Any/Proxy.pm line 21.
Redundant argument in sprintf at /opt/perl-5.24.0-RC1/lib/site_perl/5.24.0/Log/Any/Proxy.pm line 21.
Redundant argument in sprintf at /opt/perl-5.24.0-RC1/lib/site_perl/5.24.0/Log/Any/Proxy.pm line 21.
Redundant argument in sprintf at /opt/perl-5.24.0-RC1/lib/site_perl/5.24.0/Log/Any/Proxy.pm line 21.
Redundant argument in sprintf at /opt/perl-5.24.0-RC1/lib/site_perl/5.24.0/Log/Any/Proxy.pm line 21.
Redundant argument in sprintf at /opt/perl-5.24.0-RC1/lib/site_perl/5.24.0/Log/Any/Proxy.pm line 21.
Redundant argument in sprintf at /opt/perl-5.24.0-RC1/lib/site_perl/5.24.0/Log/Any/Proxy.pm line 21.
Redundant argument in sprintf at /opt/perl-5.24.0-RC1/lib/site_perl/5.24.0/Log/Any/Proxy.pm line 21.
Redundant argument in sprintf at /opt/perl-5.24.0-RC1/lib/site_perl/5.24.0/Log/Any/Proxy.pm line 21.
Redundant argument in sprintf at /opt/perl-5.24.0-RC1/lib/site_perl/5.24.0/Log/Any/Proxy.pm line 21.
Redundant argument in sprintf at /opt/perl-5.24.0-RC1/lib/site_perl/5.24.0/Log/Any/Proxy.pm line 21.
Redundant argument in sprintf at /opt/perl-5.24.0-RC1/lib/site_perl/5.24.0/Log/Any/Proxy.pm line 21.
Redundant argument in sprintf at /opt/perl-5.24.0-RC1/lib/site_perl/5.24.0/Log/Any/Proxy.pm line 21.
Redundant argument in sprintf at /opt/perl-5.24.0-RC1/lib/site_perl/5.24.0/Log/Any/Proxy.pm line 21.
Redundant argument in sprintf at /opt/perl-5.24.0-RC1/lib/site_perl/5.24.0/Log/Any/Proxy.pm line 21.
Redundant argument in sprintf at /opt/perl-5.24.0-RC1/lib/site_perl/5.24.0/Log/Any/Proxy.pm line 21.
Redundant argument in sprintf at /opt/perl-5.24.0-RC1/lib/site_perl/5.24.0/Log/Any/Proxy.pm line 21.
Redundant argument in sprintf at /opt/perl-5.24.0-RC1/lib/site_perl/5.24.0/Log/Any/Proxy.pm line 21.
Redundant argument in sprintf at /opt/perl-5.24.0-RC1/lib/site_perl/5.24.0/Log/Any/Proxy.pm line 21.
Redundant argument in sprintf at /opt/perl-5.24.0-RC1/lib/site_perl/5.24.0/Log/Any/Proxy.pm line 21.
Redundant argument in sprintf at /opt/perl-5.24.0-RC1/lib/site_perl/5.24.0/Log/Any/Proxy.pm line 21.
Redundant argument in sprintf at /opt/perl-5.24.0-RC1/lib/site_perl/5.24.0/Log/Any/Proxy.pm line 21.
Redundant argument in sprintf at /opt/perl-5.24.0-RC1/lib/site_perl/5.24.0/Log/Any/Proxy.pm line 21.
Redundant argument in sprintf at /opt/perl-5.24.0-RC1/lib/site_perl/5.24.0/Log/Any/Proxy.pm line 21.
Redundant argument in sprintf at /opt/perl-5.24.0-RC1/lib/site_perl/5.24.0/Log/Any/Proxy.pm line 21.
Redundant argument in sprintf at /opt/perl-5.24.0-RC1/lib/site_perl/5.24.0/Log/Any/Proxy.pm line 21.
Redundant argument in sprintf at /opt/perl-5.24.0-RC1/lib/site_perl/5.24.0/Log/Any/Proxy.pm line 21.
Redundant argument in sprintf at /opt/perl-5.24.0-RC1/lib/site_perl/5.24.0/Log/Any/Proxy.pm line 21.
Redundant argument in sprintf at /opt/perl-5.24.0-RC1/lib/site_perl/5.24.0/Log/Any/Proxy.pm line 21.
Redundant argument in sprintf at /opt/perl-5.24.0-RC1/lib/site_perl/5.24.0/Log/Any/Proxy.pm line 21.
Redundant argument in sprintf at /opt/perl-5.24.0-RC1/lib/site_perl/5.24.0/Log/Any/Proxy.pm line 21.
Redundant argument in sprintf at /opt/perl-5.24.0-RC1/lib/site_perl/5.24.0/Log/Any/Proxy.pm line 21.
Redundant argument in sprintf at /opt/perl-5.24.0-RC1/lib/site_perl/5.24.0/Log/Any/Proxy.pm line 21.
Redundant argument in sprintf at /opt/perl-5.24.0-RC1/lib/site_perl/5.24.0/Log/Any/Proxy.pm line 21.
Redundant argument in sprintf at /opt/perl-5.24.0-RC1/lib/site_perl/5.24.0/Log/Any/Proxy.pm line 21.
Redundant argument in sprintf at /opt/perl-5.24.0-RC1/lib/site_perl/5.24.0/Log/Any/Proxy.pm line 21.
Redundant argument in sprintf at /opt/perl-5.24.0-RC1/lib/site_perl/5.24.0/Log/Any/Proxy.pm line 21.
Redundant argument in sprintf at /opt/perl-5.24.0-RC1/lib/site_perl/5.24.0/Log/Any/Proxy.pm line 21.
Redundant argument in sprintf at /opt/perl-5.24.0-RC1/lib/site_perl/5.24.0/Log/Any/Proxy.pm line 21.
Redundant argument in sprintf at /opt/perl-5.24.0-RC1/lib/site_perl/5.24.0/Log/Any/Proxy.pm line 21.
Redundant argument in sprintf at /opt/perl-5.24.0-RC1/lib/site_perl/5.24.0/Log/Any/Proxy.pm line 21.
Redundant argument in sprintf at /opt/perl-5.24.0-RC1/lib/site_perl/5.24.0/Log/Any/Proxy.pm line 21.
Redundant argument in sprintf at /opt/perl-5.24.0-RC1/lib/site_perl/5.24.0/Log/Any/Proxy.pm line 21.
Redundant argument in sprintf at /opt/perl-5.24.0-RC1/lib/site_perl/5.24.0/Log/Any/Proxy.pm line 21.
Redundant argument in sprintf at /opt/perl-5.24.0-RC1/lib/site_perl/5.24.0/Log/Any/Proxy.pm line 21.
Redundant argument in sprintf at /opt/perl-5.24.0-RC1/lib/site_perl/5.24.0/Log/Any/Proxy.pm line 21.
Redundant argument in sprintf at /opt/perl-5.24.0-RC1/lib/site_perl/5.24.0/Log/Any/Proxy.pm line 21.
Redundant argument in sprintf at /opt/perl-5.24.0-RC1/lib/site_perl/5.24.0/Log/Any/Proxy.pm line 21.
Redundant argument in sprintf at /opt/perl-5.24.0-RC1/lib/site_perl/5.24.0/Log/Any/Proxy.pm line 21.
Redundant argument in sprintf at /opt/perl-5.24.0-RC1/lib/site_perl/5.24.0/Log/Any/Proxy.pm line 21.
Redundant argument in sprintf at /opt/perl-5.24.0-RC1/lib/site_perl/5.24.0/Log/Any/Proxy.pm line 21.
Redundant argument in sprintf at /opt/perl-5.24.0-RC1/lib/site_perl/5.24.0/Log/Any/Proxy.pm line 21.
Redundant argument in sprintf at /opt/perl-5.24.0-RC1/lib/site_perl/5.24.0/Log/Any/Proxy.pm line 21.
Redundant argument in sprintf at /opt/perl-5.24.0-RC1/lib/site_perl/5.24.0/Log/Any/Proxy.pm line 21.
Redundant argument in sprintf at /opt/perl-5.24.0-RC1/lib/site_perl/5.24.0/Log/Any/Proxy.pm line 21.
Redundant argument in sprintf at /opt/perl-5.24.0-RC1/lib/site_perl/5.24.0/Log/Any/Proxy.pm line 21.
Redundant argument in sprintf at /opt/perl-5.24.0-RC1/lib/site_perl/5.24.0/Log/Any/Proxy.pm line 21.
Redundant argument in sprintf at /opt/perl-5.24.0-RC1/lib/site_perl/5.24.0/Log/Any/Proxy.pm line 21.
Redundant argument in sprintf at /opt/perl-5.24.0-RC1/lib/site_perl/5.24.0/Log/Any/Proxy.pm line 21.
Redundant argument in sprintf at /opt/perl-5.24.0-RC1/lib/site_perl/5.24.0/Log/Any/Proxy.pm line 21.
Redundant argument in sprintf at /opt/perl-5.24.0-RC1/lib/site_perl/5.24.0/Log/Any/Proxy.pm line 21.
Redundant argument in sprintf at /opt/perl-5.24.0-RC1/lib/site_perl/5.24.0/Log/Any/Proxy.pm line 21.
Redundant argument in sprintf at /opt/perl-5.24.0-RC1/lib/site_perl/5.24.0/Log/Any/Proxy.pm line 21.
Redundant argument in sprintf at /opt/perl-5.24.0-RC1/lib/site_perl/5.24.0/Log/Any/Proxy.pm line 21.
Redundant argument in sprintf at /opt/perl-5.24.0-RC1/lib/site_perl/5.24.0/Log/Any/Proxy.pm line 21.
Redundant argument in sprintf at /opt/perl-5.24.0-RC1/lib/site_perl/5.24.0/Log/Any/Proxy.pm line 21.
Redundant argument in sprintf at /opt/perl-5.24.0-RC1/lib/site_perl/5.24.0/Log/Any/Proxy.pm line 21.
Redundant argument in sprintf at /opt/perl-5.24.0-RC1/lib/site_perl/5.24.0/Log/Any/Proxy.pm line 21.
Redundant argument in sprintf at /opt/perl-5.24.0-RC1/lib/site_perl/5.24.0/Log/Any/Proxy.pm line 21.
Redundant argument in sprintf at /opt/perl-5.24.0-RC1/lib/site_perl/5.24.0/Log/Any/Proxy.pm line 21.
Redundant argument in sprintf at /opt/perl-5.24.0-RC1/lib/site_perl/5.24.0/Log/Any/Proxy.pm line 21.
Redundant argument in sprintf at /opt/perl-5.24.0-RC1/lib/site_perl/5.24.0/Log/Any/Proxy.pm line 21.
Redundant argument in sprintf at /opt/perl-5.24.0-RC1/lib/site_perl/5.24.0/Log/Any/Proxy.pm line 21.
Redundant argument in sprintf at /opt/perl-5.24.0-RC1/lib/site_perl/5.24.0/Log/Any/Proxy.pm line 21.
Redundant argument in sprintf at /opt/perl-5.24.0-RC1/lib/site_perl/5.24.0/Log/Any/Proxy.pm line 21.
Redundant argument in sprintf at /opt/perl-5.24.0-RC1/lib/site_perl/5.24.0/Log/Any/Proxy.pm line 21.
Redundant argument in sprintf at /opt/perl-5.24.0-RC1/lib/site_perl/5.24.0/Log/Any/Proxy.pm line 21.
Redundant argument in sprintf at /opt/perl-5.24.0-RC1/lib/site_perl/5.24.0/Log/Any/Proxy.pm line 21.
Redundant argument in sprintf at /opt/perl-5.24.0-RC1/lib/site_perl/5.24.0/Log/Any/Proxy.pm line 21.
Redundant argument in sprintf at /opt/perl-5.24.0-RC1/lib/site_perl/5.24.0/Log/Any/Proxy.pm line 21.
Redundant argument in sprintf at /opt/perl-5.24.0-RC1/lib/site_perl/5.24.0/Log/Any/Proxy.pm line 21.
Redundant argument in sprintf at /opt/perl-5.24.0-RC1/lib/site_perl/5.24.0/Log/Any/Proxy.pm line 21.
Redundant argument in sprintf at /opt/perl-5.24.0-RC1/lib/site_perl/5.24.0/Log/Any/Proxy.pm line 21.
Redundant argument in sprintf at /opt/perl-5.24.0-RC1/lib/site_perl/5.24.0/Log/Any/Proxy.pm line 21.
Redundant argument in sprintf at /opt/perl-5.24.0-RC1/lib/site_perl/5.24.0/Log/Any/Proxy.pm line 21.
Redundant argument in sprintf at /opt/perl-5.24.0-RC1/lib/site_perl/5.24.0/Log/Any/Proxy.pm line 21.
Redundant argument in sprintf at /opt/perl-5.24.0-RC1/lib/site_perl/5.24.0/Log/Any/Proxy.pm line 21.
Redundant argument in sprintf at /opt/perl-5.24.0-RC1/lib/site_perl/5.24.0/Log/Any/Proxy.pm line 21.
Redundant argument in sprintf at /opt/perl-5.24.0-RC1/lib/site_perl/5.24.0/Log/Any/Proxy.pm line 21.
Redundant argument in sprintf at /opt/perl-5.24.0-RC1/lib/site_perl/5.24.0/Log/Any/Proxy.pm line 21.
Redundant argument in sprintf at /opt/perl-5.24.0-RC1/lib/site_perl/5.24.0/Log/Any/Proxy.pm line 21.
Redundant argument in sprintf at /opt/perl-5.24.0-RC1/lib/site_perl/5.24.0/Log/Any/Proxy.pm line 21.
Redundant argument in sprintf at /opt/perl-5.24.0-RC1/lib/site_perl/5.24.0/Log/Any/Proxy.pm line 21.
Redundant argument in sprintf at /opt/perl-5.24.0-RC1/lib/site_perl/5.24.0/Log/Any/Proxy.pm line 21.
Redundant argument in sprintf at /opt/perl-5.24.0-RC1/lib/site_perl/5.24.0/Log/Any/Proxy.pm line 21.
Redundant argument in sprintf at /opt/perl-5.24.0-RC1/lib/site_perl/5.24.0/Log/Any/Proxy.pm line 21.
Redundant argument in sprintf at /opt/perl-5.24.0-RC1/lib/site_perl/5.24.0/Log/Any/Proxy.pm line 21.
Redundant argument in sprintf at /opt/perl-5.24.0-RC1/lib/site_perl/5.24.0/Log/Any/Proxy.pm line 21.
Redundant argument in sprintf at /opt/perl-5.24.0-RC1/lib/site_perl/5.24.0/Log/Any/Proxy.pm line 21.
Redundant argument in sprintf at /opt/perl-5.24.0-RC1/lib/site_perl/5.24.0/Log/Any/Proxy.pm line 21.
Redundant argument in sprintf at /opt/perl-5.24.0-RC1/lib/site_perl/5.24.0/Log/Any/Proxy.pm line 21.
Redundant argument in sprintf at /opt/perl-5.24.0-RC1/lib/site_perl/5.24.0/Log/Any/Proxy.pm line 21.
Redundant argument in sprintf at /opt/perl-5.24.0-RC1/lib/site_perl/5.24.0/Log/Any/Proxy.pm line 21.
Redundant argument in sprintf at /opt/perl-5.24.0-RC1/lib/site_perl/5.24.0/Log/Any/Proxy.pm line 21.
Redundant argument in sprintf at /opt/perl-5.24.0-RC1/lib/site_perl/5.24.0/Log/Any/Proxy.pm line 21.
Redundant argument in sprintf at /opt/perl-5.24.0-RC1/lib/site_perl/5.24.0/Log/Any/Proxy.pm line 21.
Redundant argument in sprintf at /opt/perl-5.24.0-RC1/lib/site_perl/5.24.0/Log/Any/Proxy.pm line 21.
Redundant argument in sprintf at /opt/perl-5.24.0-RC1/lib/site_perl/5.24.0/Log/Any/Proxy.pm line 21.
Redundant argument in sprintf at /opt/perl-5.24.0-RC1/lib/site_perl/5.24.0/Log/Any/Proxy.pm line 21.
Redundant argument in sprintf at /opt/perl-5.24.0-RC1/lib/site_perl/5.24.0/Log/Any/Proxy.pm line 21.
Redundant argument in sprintf at /opt/perl-5.24.0-RC1/lib/site_perl/5.24.0/Log/Any/Proxy.pm line 21.
Redundant argument in sprintf at /opt/perl-5.24.0-RC1/lib/site_perl/5.24.0/Log/Any/Proxy.pm line 21.
Redundant argument in sprintf at /opt/perl-5.24.0-RC1/lib/site_perl/5.24.0/Log/Any/Proxy.pm line 21.
Redundant argument in sprintf at /opt/perl-5.24.0-RC1/lib/site_perl/5.24.0/Log/Any/Proxy.pm line 21.
Redundant argument in sprintf at /opt/perl-5.24.0-RC1/lib/site_perl/5.24.0/Log/Any/Proxy.pm line 21.
Redundant argument in sprintf at /opt/perl-5.24.0-RC1/lib/site_perl/5.24.0/Log/Any/Proxy.pm line 21.
Redundant argument in sprintf at /opt/perl-5.24.0-RC1/lib/site_perl/5.24.0/Log/Any/Proxy.pm line 21.
Redundant argument in sprintf at /opt/perl-5.24.0-RC1/lib/site_perl/5.24.0/Log/Any/Proxy.pm line 21.
Redundant argument in sprintf at /opt/perl-5.24.0-RC1/lib/site_perl/5.24.0/Log/Any/Proxy.pm line 21.
Redundant argument in sprintf at /opt/perl-5.24.0-RC1/lib/site_perl/5.24.0/Log/Any/Proxy.pm line 21.
Redundant argument in sprintf at /opt/perl-5.24.0-RC1/lib/site_perl/5.24.0/Log/Any/Proxy.pm line 21.
Redundant argument in sprintf at /opt/perl-5.24.0-RC1/lib/site_perl/5.24.0/Log/Any/Proxy.pm line 21.
Redundant argument in sprintf at /opt/perl-5.24.0-RC1/lib/site_perl/5.24.0/Log/Any/Proxy.pm line 21.
Redundant argument in sprintf at /opt/perl-5.24.0-RC1/lib/site_perl/5.24.0/Log/Any/Proxy.pm line 21.
Redundant argument in sprintf at /opt/perl-5.24.0-RC1/lib/site_perl/5.24.0/Log/Any/Proxy.pm line 21.
Redundant argument in sprintf at /opt/perl-5.24.0-RC1/lib/site_perl/5.24.0/Log/Any/Proxy.pm line 21.
Redundant argument in sprintf at /opt/perl-5.24.0-RC1/lib/site_perl/5.24.0/Log/Any/Proxy.pm line 21.
Redundant argument in sprintf at /opt/perl-5.24.0-RC1/lib/site_perl/5.24.0/Log/Any/Proxy.pm line 21.
Redundant argument in sprintf at /opt/perl-5.24.0-RC1/lib/site_perl/5.24.0/Log/Any/Proxy.pm line 21.
Redundant argument in sprintf at /opt/perl-5.24.0-RC1/lib/site_perl/5.24.0/Log/Any/Proxy.pm line 21.
Redundant argument in sprintf at /opt/perl-5.24.0-RC1/lib/site_perl/5.24.0/Log/Any/Proxy.pm line 21.
Redundant argument in sprintf at /opt/perl-5.24.0-RC1/lib/site_perl/5.24.0/Log/Any/Proxy.pm line 21.
Redundant argument in sprintf at /opt/perl-5.24.0-RC1/lib/site_perl/5.24.0/Log/Any/Proxy.pm line 21.
Redundant argument in sprintf at /opt/perl-5.24.0-RC1/lib/site_perl/5.24.0/Log/Any/Proxy.pm line 21.
Redundant argument in sprintf at /opt/perl-5.24.0-RC1/lib/site_perl/5.24.0/Log/Any/Proxy.pm line 21.
Redundant argument in sprintf at /opt/perl-5.24.0-RC1/lib/site_perl/5.24.0/Log/Any/Proxy.pm line 21.
Redundant argument in sprintf at /opt/perl-5.24.0-RC1/lib/site_perl/5.24.0/Log/Any/Proxy.pm line 21.
Redundant argument in sprintf at /opt/perl-5.24.0-RC1/lib/site_perl/5.24.0/Log/Any/Proxy.pm line 21.
Redundant argument in sprintf at /opt/perl-5.24.0-RC1/lib/site_perl/5.24.0/Log/Any/Proxy.pm line 21.
Redundant argument in sprintf at /opt/perl-5.24.0-RC1/lib/site_perl/5.24.0/Log/Any/Proxy.pm line 21.
Redundant argument in sprintf at /opt/perl-5.24.0-RC1/lib/site_perl/5.24.0/Log/Any/Proxy.pm line 21.
Redundant argument in sprintf at /opt/perl-5.24.0-RC1/lib/site_perl/5.24.0/Log/Any/Proxy.pm line 21.
Redundant argument in sprintf at /opt/perl-5.24.0-RC1/lib/site_perl/5.24.0/Log/Any/Proxy.pm line 21.
Redundant argument in sprintf at /opt/perl-5.24.0-RC1/lib/site_perl/5.24.0/Log/Any/Proxy.pm line 21.
Redundant argument in sprintf at /opt/perl-5.24.0-RC1/lib/site_perl/5.24.0/Log/Any/Proxy.pm line 21.
Redundant argument in sprintf at /opt/perl-5.24.0-RC1/lib/site_perl/5.24.0/Log/Any/Proxy.pm line 21.
Redundant argument in sprintf at /opt/perl-5.24.0-RC1/lib/site_perl/5.24.0/Log/Any/Proxy.pm line 21.
Redundant argument in sprintf at /opt/perl-5.24.0-RC1/lib/site_perl/5.24.0/Log/Any/Proxy.pm line 21.
Redundant argument in sprintf at /opt/perl-5.24.0-RC1/lib/site_perl/5.24.0/Log/Any/Proxy.pm line 21.
Redundant argument in sprintf at /opt/perl-5.24.0-RC1/lib/site_perl/5.24.0/Log/Any/Proxy.pm line 21.
Redundant argument in sprintf at /opt/perl-5.24.0-RC1/lib/site_perl/5.24.0/Log/Any/Proxy.pm line 21.
Redundant argument in sprintf at /opt/perl-5.24.0-RC1/lib/site_perl/5.24.0/Log/Any/Proxy.pm line 21.
Redundant argument in sprintf at /opt/perl-5.24.0-RC1/lib/site_perl/5.24.0/Log/Any/Proxy.pm line 21.
Redundant argument in sprintf at /opt/perl-5.24.0-RC1/lib/site_perl/5.24.0/Log/Any/Proxy.pm line 21.
Redundant argument in sprintf at /opt/perl-5.24.0-RC1/lib/site_perl/5.24.0/Log/Any/Proxy.pm line 21.
Redundant argument in sprintf at /opt/perl-5.24.0-RC1/lib/site_perl/5.24.0/Log/Any/Proxy.pm line 21.
Redundant argument in sprintf at /opt/perl-5.24.0-RC1/lib/site_perl/5.24.0/Log/Any/Proxy.pm line 21.
Redundant argument in sprintf at /opt/perl-5.24.0-RC1/lib/site_perl/5.24.0/Log/Any/Proxy.pm line 21.
Redundant argument in sprintf at /opt/perl-5.24.0-RC1/lib/site_perl/5.24.0/Log/Any/Proxy.pm line 21.
Redundant argument in sprintf at /opt/perl-5.24.0-RC1/lib/site_perl/5.24.0/Log/Any/Proxy.pm line 21.
Redundant argument in sprintf at /opt/perl-5.24.0-RC1/lib/site_perl/5.24.0/Log/Any/Proxy.pm line 21.
Redundant argument in sprintf at /opt/perl-5.24.0-RC1/lib/site_perl/5.24.0/Log/Any/Proxy.pm line 21.
Redundant argument in sprintf at /opt/perl-5.24.0-RC1/lib/site_perl/5.24.0/Log/Any/Proxy.pm line 21.
Redundant argument in sprintf at /opt/perl-5.24.0-RC1/lib/site_perl/5.24.0/Log/Any/Proxy.pm line 21.
Redundant argument in sprintf at /opt/perl-5.24.0-RC1/lib/site_perl/5.24.0/Log/Any/Proxy.pm line 21.
Redundant argument in sprintf at /opt/perl-5.24.0-RC1/lib/site_perl/5.24.0/Log/Any/Proxy.pm line 21.
Redundant argument in sprintf at /opt/perl-5.24.0-RC1/lib/site_perl/5.24.0/Log/Any/Proxy.pm line 21.
Redundant argument in sprintf at /opt/perl-5.24.0-RC1/lib/site_perl/5.24.0/Log/Any/Proxy.pm line 21.
Redundant argument in sprintf at /opt/perl-5.24.0-RC1/lib/site_perl/5.24.0/Log/Any/Proxy.pm line 21.
Redundant argument in sprintf at /opt/perl-5.24.0-RC1/lib/site_perl/5.24.0/Log/Any/Proxy.pm line 21.
Redundant argument in sprintf at /opt/perl-5.24.0-RC1/lib/site_perl/5.24.0/Log/Any/Proxy.pm line 21.
Redundant argument in sprintf at /opt/perl-5.24.0-RC1/lib/site_perl/5.24.0/Log/Any/Proxy.pm line 21.
Redundant argument in sprintf at /opt/perl-5.24.0-RC1/lib/site_perl/5.24.0/Log/Any/Proxy.pm line 21.
Redundant argument in sprintf at /opt/perl-5.24.0-RC1/lib/site_perl/5.24.0/Log/Any/Proxy.pm line 21.
Redundant argument in sprintf at /opt/perl-5.24.0-RC1/lib/site_perl/5.24.0/Log/Any/Proxy.pm line 21.
Redundant argument in sprintf at /opt/perl-5.24.0-RC1/lib/site_perl/5.24.0/Log/Any/Proxy.pm line 21.
Redundant argument in sprintf at /opt/perl-5.24.0-RC1/lib/site_perl/5.24.0/Log/Any/Proxy.pm line 21.
Redundant argument in sprintf at /opt/perl-5.24.0-RC1/lib/site_perl/5.24.0/Log/Any/Proxy.pm line 21.
Redundant argument in sprintf at /opt/perl-5.24.0-RC1/lib/site_perl/5.24.0/Log/Any/Proxy.pm line 21.
Redundant argument in sprintf at /opt/perl-5.24.0-RC1/lib/site_perl/5.24.0/Log/Any/Proxy.pm line 21.
Redundant argument in sprintf at /opt/perl-5.24.0-RC1/lib/site_perl/5.24.0/Log/Any/Proxy.pm line 21.
Redundant argument in sprintf at /opt/perl-5.24.0-RC1/lib/site_perl/5.24.0/Log/Any/Proxy.pm line 21.
Redundant argument in sprintf at /opt/perl-5.24.0-RC1/lib/site_perl/5.24.0/Log/Any/Proxy.pm line 21.
Redundant argument in sprintf at /opt/perl-5.24.0-RC1/lib/site_perl/5.24.0/Log/Any/Proxy.pm line 21.
Redundant argument in sprintf at /opt/perl-5.24.0-RC1/lib/site_perl/5.24.0/Log/Any/Proxy.pm line 21.
Redundant argument in sprintf at /opt/perl-5.24.0-RC1/lib/site_perl/5.24.0/Log/Any/Proxy.pm line 21.
Redundant argument in sprintf at /opt/perl-5.24.0-RC1/lib/site_perl/5.24.0/Log/Any/Proxy.pm line 21.
Redundant argument in sprintf at /opt/perl-5.24.0-RC1/lib/site_perl/5.24.0/Log/Any/Proxy.pm line 21.
Redundant argument in sprintf at /opt/perl-5.24.0-RC1/lib/site_perl/5.24.0/Log/Any/Proxy.pm line 21.
Redundant argument in sprintf at /opt/perl-5.24.0-RC1/lib/site_perl/5.24.0/Log/Any/Proxy.pm line 21.
Redundant argument in sprintf at /opt/perl-5.24.0-RC1/lib/site_perl/5.24.0/Log/Any/Proxy.pm line 21.
Redundant argument in sprintf at /opt/perl-5.24.0-RC1/lib/site_perl/5.24.0/Log/Any/Proxy.pm line 21.
Redundant argument in sprintf at /opt/perl-5.24.0-RC1/lib/site_perl/5.24.0/Log/Any/Proxy.pm line 21.
Redundant argument in sprintf at /opt/perl-5.24.0-RC1/lib/site_perl/5.24.0/Log/Any/Proxy.pm line 21.
Redundant argument in sprintf at /opt/perl-5.24.0-RC1/lib/site_perl/5.24.0/Log/Any/Proxy.pm line 21.
Redundant argument in sprintf at /opt/perl-5.24.0-RC1/lib/site_perl/5.24.0/Log/Any/Proxy.pm line 21.
Redundant argument in sprintf at /opt/perl-5.24.0-RC1/lib/site_perl/5.24.0/Log/Any/Proxy.pm line 21.
Redundant argument in sprintf at /opt/perl-5.24.0-RC1/lib/site_perl/5.24.0/Log/Any/Proxy.pm line 21.
Redundant argument in sprintf at /opt/perl-5.24.0-RC1/lib/site_perl/5.24.0/Log/Any/Proxy.pm line 21.
t/IronCache/cache_policy2.t .. ok
# Testing IO::Iron::IronCache, Perl 5.024000, /bbbike/perl-5.24.0-RC1/bin/perl
t/IronCache/load.t ........... ok
# Testing IO::Iron::IronMQ 0.11, Perl 5.024000, /bbbike/perl-5.24.0-RC1/bin/perl
t/IronMQ/load.t .............. ok
# Testing IO::Iron::IronWorker 0.11, Perl 5.024000, /bbbike/perl-5.24.0-RC1/bin/perl
t/IronWorker/load.t .......... ok
All tests successful.
Files=7, Tests=92,  1 wallclock secs ( 0.05 usr  0.03 sys +  0.63 cusr  0.40 csys =  1.11 CPU)
Result: PASS

------------------------------
PREREQUISITES
------------------------------

Prerequisite modules loaded:

requires:

    Module             Need Have    
    ------------------ ---- --------
    Carp               0    1.38    
    Carp::Assert       0    0.21    
    Carp::Assert::More 0    1.14    
    constant           0    1.33    
    Data::Dumper       0    2.160   
    Data::UUID         0    1.221   
    English            0    1.10    
    Exception::Class   0    1.40    
    Exporter           0    5.72    
    File::HomeDir      0    1.00    
    File::Slurp        0    9999.19 
    File::Spec         0    3.62    
    Hash::Util         0.06 0.19    
    JSON::MaybeXS      0    1.003005
    Log::Any           0    1.040   
    Params::Validate   0    1.23    
    parent             0    0.234   
    REST::Client       0    273     
    Scalar::Util       0    1.45    
    strict             0    1.11    
    Try::Tiny          0    0.24    
    URI::Escape        0    3.31    
    warnings           0    1.36    

build_requires:

    Module             Need Have    
    ------------------ ---- --------
    File::Copy         0    2.30    
    File::Remove       0    1.56    
    lib                0    0.63    
    Log::Any::Test     0    1.040   
    Test::Exception    0    0.43    
    Test::More         0    1.001014


------------------------------
ENVIRONMENT AND OTHER CONTEXT
------------------------------

Environment variables:

    LANG = C
    LC_ALL = de_DE.UTF-8
    PATH = /usr/local/bin:/usr/bin:/bin:/usr/local/sbin:/usr/sbin:/sbin:/home/cpansand/bin/linux-gnu:/home/cpansand/bin/sh:/home/cpansand/bin:/usr/games:/home/cpansand/devel:/home/eserte/src/srezic-misc/scripts
    PERL5LIB = /home/cpansand/.cpan/build/2016041803/Finance-USDX-0.03-6Gi27D/blib/arch:/home/cpansand/.cpan/build/2016041803/Finance-USDX-0.03-6Gi27D/blib/lib:/home/cpansand/.cpan/build/2016041803/Dist-Zilla-LocaleTextDomain-0.90-msEzLg/blib/arch:/home/cpansand/.cpan/build/2016041803/Dist-Zilla-LocaleTextDomain-0.90-msEzLg/blib/lib:/home/cpansand/.cpan/build/2016041803/Device-BusPirate-Chip-nRF24L01P-0.01-lco_92/blib/arch:/home/cpansand/.cpan/build/2016041803/Device-BusPirate-Chip-nRF24L01P-0.01-lco_92/blib/lib:/home/cpansand/.cpan/build/2016041803/Devel-Local-0.22-bOPM8Q/blib/arch:/home/cpansand/.cpan/build/2016041803/Devel-Local-0.22-bOPM8Q/blib/lib:/home/cpansand/.cpan/build/2016041803/Array-CompareAndFilter-v1.100-B0IWDg/blib/arch:/home/cpansand/.cpan/build/2016041803/Array-CompareAndFilter-v1.100-B0IWDg/blib/lib:/home/cpansand/.cpan/build/2016041803/WWW-Correios-SRO-0.10-6JjFql/blib/arch:/home/cpansand/.cpan/build/2016041803/WWW-Correios-SRO-0.10-6JjFql/blib/lib:/home/cpansand/.cpan/build/2016041803/PostScript-Simple-0.09-cR0Byz/blib/arch:/home/cpansand/.cpan/build/2016041803/PostScript-Simple-0.09-cR0Byz/blib/lib:/home/cpansand/.cpan/build/2016041803/Pod-Simple-XHTML-WithHighlightConfig-0.000001-ivds01/blib/arch:/home/cpansand/.cpan/build/2016041803/Pod-Simple-XHTML-WithHighlightConfig-0.000001-ivds01/blib/lib:/home/cpansand/.cpan/build/2016041803/Net-SMS-WAY2SMS-0.10-oWTxNF/blib/arch:/home/cpansand/.cpan/build/2016041803/Net-SMS-WAY2SMS-0.10-oWTxNF/blib/lib:/home/cpansand/.cpan/build/2016041803/Geography-China-Provinces-0.06-VOmVCu/blib/arch:/home/cpansand/.cpan/build/2016041803/Geography-China-Provinces-0.06-VOmVCu/blib/lib:/home/cpansand/.cpan/build/2016041803/Dist-Inkt-0.023-I14uLc/blib/arch:/home/cpansand/.cpan/build/2016041803/Dist-Inkt-0.023-I14uLc/blib/lib:/home/cpansand/.cpan/build/2016041803/Dist-Inkt-Role-Test-0.002-9nJcj0/blib/arch:/home/cpansand/.cpan/build/2016041803/Dist-Inkt-Role-Test-0.002-9nJcj0/blib/lib:/home/cpansand/.cpan/build/2016041803/MooseX-AttributeTags-0.002-G3JULL/blib/arch:/home/cpansand/.cpan/build/2016041803/MooseX-AttributeTags-0.002-G3JULL/blib/lib:/home/cpansand/.cpan/build/2016041803/Sort-Key-1.33-JiwHuz/blib/arch:/home/cpansand/.cpan/build/2016041803/Sort-Key-1.33-JiwHuz/blib/lib:/home/cpansand/.cpan/build/2016041803/DBIx-VersionedSubs-0.08-DIqA81/blib/arch:/home/cpansand/.cpan/build/2016041803/DBIx-VersionedSubs-0.08-DIqA81/blib/lib:/home/cpansand/.cpan/build/2016041803/Benchmark-Report-GitHub-0.002-tAyjGf/blib/arch:/home/cpansand/.cpan/build/2016041803/Benchmark-Report-GitHub-0.002-tAyjGf/blib/lib:/home/cpansand/.cpan/build/2016041803/Acme-Boolean-0.4-GID5tq/blib/arch:/home/cpansand/.cpan/build/2016041803/Acme-Boolean-0.4-GID5tq/blib/lib:/home/cpansand/.cpan/build/2016041803/SVN-Class-0.18-lq5LEE/blib/arch:/home/cpansand/.cpan/build/2016041803/SVN-Class-0.18-lq5LEE/blib/lib:/home/cpansand/.cpan/build/2016041803/Exception-Chain-0.11-guKlBU/blib/arch:/home/cpansand/.cpan/build/2016041803/Exception-Chain-0.11-guKlBU/blib/lib:/home/cpansand/.cpan/build/2016041803/Encode-Arabic-14.1-9LqZn0/blib/arch:/home/cpansand/.cpan/build/2016041803/Encode-Arabic-14.1-9LqZn0/blib/lib:/home/cpansand/.cpan/build/2016041803/Cindy-0.22-ea4sch/blib/arch:/home/cpansand/.cpan/build/2016041803/Cindy-0.22-ea4sch/blib/lib:/home/cpansand/.cpan/build/2016041803/CPAN-Testers-WWW-Reports-Parser-0.06-jE9sIE/blib/arch:/home/cpansand/.cpan/build/2016041803/CPAN-Testers-WWW-Reports-Parser-0.06-jE9sIE/blib/lib:/home/cpansand/.cpan/build/2016041803/App-Daemon-0.22-dOOKfp/blib/arch:/home/cpansand/.cpan/build/2016041803/App-Daemon-0.22-dOOKfp/blib/lib:/home/cpansand/.cpan/build/2016041803/ComXo-Call2-0.01-HVwqv7/blib/arch:/home/cpansand/.cpan/build/2016041803/ComXo-Call2-0.01-HVwqv7/blib/lib:/home/cpansand/.cpan/build/2016041803/again-0.08-YcszhS/blib/arch:/home/cpansand/.cpan/build/2016041803/again-0.08-YcszhS/blib/lib:/home/cpansand/.cpan/build/2016041803/Role-Inspector-0.005-c_uk3l/blib/arch:/home/cpansand/.cpan/build/2016041803/Role-Inspector-0.005-c_uk3l/blib/lib:/home/cpansand/.cpan/build/2016041803/Data-Validate-Sanctions-0.03-fpoqXw/blib/arch:/home/cpansand/.cpan/build/2016041803/Data-Validate-Sanctions-0.03-fpoqXw/blib/lib:/home/cpansand/.cpan/build/2016041803/Dancer-Plugin-Controller-0.153-hgFiuU/blib/arch:/home/cpansand/.cpan/build/2016041803/Dancer-Plugin-Controller-0.153-hgFiuU/blib/lib:/home/cpansand/.cpan/build/2016041803/Dancer-Template-HtmlTemplate-0.07-p9qNBL/blib/arch:/home/cpansand/.cpan/build/2016041803/Dancer-Template-HtmlTemplate-0.07-p9qNBL/blib/lib:/home/cpansand/.cpan/build/2016041803/Color-Calc-1.074-QpW5kv/blib/arch:/home/cpansand/.cpan/build/2016041803/Color-Calc-1.074-QpW5kv/blib/lib:/home/cpansand/.cpan/build/2016041803/Graphics-ColorNames-WWW-1.13-0VCOX4/blib/arch:/home/cpansand/.cpan/build/2016041803/Graphics-ColorNames-WWW-1.13-0VCOX4/blib/lib
    PERL5OPT = 
    PERL5_CPANPLUS_IS_RUNNING = 3600
    PERL5_CPAN_IS_RUNNING = 3600
    PERL5_CPAN_IS_RUNNING_IN_RECURSION = 16932,3600
    PERLDOC = -MPod::Perldoc::ToTextOverstrike
    PERL_BATCH = yes
    PERL_CANARY_STABILITY_NOPROMPT = 1
    PERL_CPAN_REPORTER_CONFIG = /var/tmp/cpansmoker-1023/2016041803/cpanreporter_000_config.ini
    PERL_EXTUTILS_AUTOINSTALL = --defaultdeps
    PERL_PARALLEL_SMOKER = yes
    SHELL = /bin/zsh
    TERM = screen
    TMPDIR = /var/tmp/cpansmoker-1023/2016041803

Perl special variables (and OS-specific diagnostics, for MSWin32):

    $^X = /bbbike/perl-5.24.0-RC1/bin/perl
    $UID/$EUID = 1023 / 1023
    $GID = 1023 1023
    $EGID = 1023 1023

Perl module toolchain versions installed:

    Module              Have    
    ------------------- --------
    CPAN                2.11    
    CPAN::Meta          2.150005
    Cwd                 3.62    
    ExtUtils::CBuilder  0.280225
    ExtUtils::Command   7.10    
    ExtUtils::Install   2.04    
    ExtUtils::MakeMaker 7.10_01 
    ExtUtils::Manifest  1.70    
    ExtUtils::ParseXS   3.31    
    File::Spec          3.62    
    JSON                2.90    
    JSON::PP            2.27300 
    Module::Build       0.4216  
    Module::Signature   0.79    
    Parse::CPAN::Meta   1.4417  
    Test::Harness       3.36    
    Test::More          1.001014
    YAML                1.15    
    YAML::Syck          1.29    
    version             0.9916  


--

Summary of my perl5 (revision 5 version 24 subversion 0) configuration:
   
  Platform:
    osname=linux, osvers=3.2.0-4-amd64, archname=x86_64-linux
    uname='linux eserte 3.2.0-4-amd64 #1 smp debian 3.2.78-1 x86_64 gnulinux '
    config_args='-ds -e -Dprefix=/opt/perl-5.24.0-RC1 -Dcf_email=srezic@cpan.org'
    hint=recommended, useposix=true, d_sigaction=define
    useithreads=undef, usemultiplicity=undef
    use64bitint=define, use64bitall=define, uselongdouble=undef
    usemymalloc=n, bincompat5005=undef
  Compiler:
    cc='cc', ccflags ='-fwrapv -fno-strict-aliasing -pipe -fstack-protector -I/usr/local/include -D_LARGEFILE_SOURCE -D_FILE_OFFSET_BITS=64 -D_FORTIFY_SOURCE=2',
    optimize='-O2',
    cppflags='-fwrapv -fno-strict-aliasing -pipe -fstack-protector -I/usr/local/include'
    ccversion='', gccversion='4.7.2', gccosandvers=''
    intsize=4, longsize=8, ptrsize=8, doublesize=8, byteorder=12345678, doublekind=3
    d_longlong=define, longlongsize=8, d_longdbl=define, longdblsize=16, longdblkind=3
    ivtype='long', ivsize=8, nvtype='double', nvsize=8, Off_t='off_t', lseeksize=8
    alignbytes=8, prototype=define
  Linker and Libraries:
    ld='cc', ldflags =' -fstack-protector -L/usr/local/lib'
    libpth=/usr/local/lib /usr/lib/gcc/x86_64-linux-gnu/4.7/include-fixed /usr/include/x86_64-linux-gnu /usr/lib /lib/x86_64-linux-gnu /lib/../lib /usr/lib/x86_64-linux-gnu /usr/lib/../lib /lib
    libs=-lpthread -lnsl -ldb -ldl -lm -lcrypt -lutil -lc
    perllibs=-lpthread -lnsl -ldl -lm -lcrypt -lutil -lc
    libc=libc-2.13.so, so=so, useshrplib=false, libperl=libperl.a
    gnulibc_version='2.13'
  Dynamic Linking:
    dlsrc=dl_dlopen.xs, dlext=so, d_dlsymun=undef, ccdlflags='-Wl,-E'
    cccdlflags='-fPIC', lddlflags='-shared -O2 -L/usr/local/lib -fstack-protector'


Characteristics of this binary (from libperl): 
  Compile-time options: HAS_TIMES PERLIO_LAYERS PERL_COPY_ON_WRITE
                        PERL_DONT_CREATE_GVSV
                        PERL_HASH_FUNC_ONE_AT_A_TIME_HARD PERL_MALLOC_WRAP
                        PERL_PRESERVE_IVUV USE_64_BIT_ALL USE_64_BIT_INT
                        USE_LARGE_FILES USE_LOCALE USE_LOCALE_COLLATE
                        USE_LOCALE_CTYPE USE_LOCALE_NUMERIC USE_LOCALE_TIME
                        USE_PERLIO USE_PERL_ATOF
  Locally applied patches:
	RC1
  Built under linux
  Compiled at Apr 14 2016 05:20:01
  %ENV:
    PERL5LIB="/home/cpansand/.cpan/build/2016041803/Finance-USDX-0.03-6Gi27D/blib/arch:/home/cpansand/.cpan/build/2016041803/Finance-USDX-0.03-6Gi27D/blib/lib:/home/cpansand/.cpan/build/2016041803/Dist-Zilla-LocaleTextDomain-0.90-msEzLg/blib/arch:/home/cpansand/.cpan/build/2016041803/Dist-Zilla-LocaleTextDomain-0.90-msEzLg/blib/lib:/home/cpansand/.cpan/build/2016041803/Device-BusPirate-Chip-nRF24L01P-0.01-lco_92/blib/arch:/home/cpansand/.cpan/build/2016041803/Device-BusPirate-Chip-nRF24L01P-0.01-lco_92/blib/lib:/home/cpansand/.cpan/build/2016041803/Devel-Local-0.22-bOPM8Q/blib/arch:/home/cpansand/.cpan/build/2016041803/Devel-Local-0.22-bOPM8Q/blib/lib:/home/cpansand/.cpan/build/2016041803/Array-CompareAndFilter-v1.100-B0IWDg/blib/arch:/home/cpansand/.cpan/build/2016041803/Array-CompareAndFilter-v1.100-B0IWDg/blib/lib:/home/cpansand/.cpan/build/2016041803/WWW-Correios-SRO-0.10-6JjFql/blib/arch:/home/cpansand/.cpan/build/2016041803/WWW-Correios-SRO-0.10-6JjFql/blib/lib:/home/cpansand/.cpan/build/2016041803/PostScript-Simple-0.09-cR0Byz/blib/arch:/home/cpansand/.cpan/build/2016041803/PostScript-Simple-0.09-cR0Byz/blib/lib:/home/cpansand/.cpan/build/2016041803/Pod-Simple-XHTML-WithHighlightConfig-0.000001-ivds01/blib/arch:/home/cpansand/.cpan/build/2016041803/Pod-Simple-XHTML-WithHighlightConfig-0.000001-ivds01/blib/lib:/home/cpansand/.cpan/build/2016041803/Net-SMS-WAY2SMS-0.10-oWTxNF/blib/arch:/home/cpansand/.cpan/build/2016041803/Net-SMS-WAY2SMS-0.10-oWTxNF/blib/lib:/home/cpansand/.cpan/build/2016041803/Geography-China-Provinces-0.06-VOmVCu/blib/arch:/home/cpansand/.cpan/build/2016041803/Geography-China-Provinces-0.06-VOmVCu/blib/lib:/home/cpansand/.cpan/build/2016041803/Dist-Inkt-0.023-I14uLc/blib/arch:/home/cpansand/.cpan/build/2016041803/Dist-Inkt-0.023-I14uLc/blib/lib:/home/cpansand/.cpan/build/2016041803/Dist-Inkt-Role-Test-0.002-9nJcj0/blib/arch:/home/cpansand/.cpan/build/2016041803/Dist-Inkt-Role-Test-0.002-9nJcj0/blib/lib:/home/cpansand/.cpan/build/2016041803/MooseX-AttributeTags-0.002-G3JULL/blib/arch:/home/cpansand/.cpan/build/2016041803/MooseX-AttributeTags-0.002-G3JULL/blib/lib:/home/cpansand/.cpan/build/2016041803/Sort-Key-1.33-JiwHuz/blib/arch:/home/cpansand/.cpan/build/2016041803/Sort-Key-1.33-JiwHuz/blib/lib:/home/cpansand/.cpan/build/2016041803/DBIx-VersionedSubs-0.08-DIqA81/blib/arch:/home/cpansand/.cpan/build/2016041803/DBIx-VersionedSubs-0.08-DIqA81/blib/lib:/home/cpansand/.cpan/build/2016041803/Benchmark-Report-GitHub-0.002-tAyjGf/blib/arch:/home/cpansand/.cpan/build/2016041803/Benchmark-Report-GitHub-0.002-tAyjGf/blib/lib:/home/cpansand/.cpan/build/2016041803/Acme-Boolean-0.4-GID5tq/blib/arch:/home/cpansand/.cpan/build/2016041803/Acme-Boolean-0.4-GID5tq/blib/lib:/home/cpansand/.cpan/build/2016041803/SVN-Class-0.18-lq5LEE/blib/arch:/home/cpansand/.cpan/build/2016041803/SVN-Class-0.18-lq5LEE/blib/lib:/home/cpansand/.cpan/build/2016041803/Exception-Chain-0.11-guKlBU/blib/arch:/home/cpansand/.cpan/build/2016041803/Exception-Chain-0.11-guKlBU/blib/lib:/home/cpansand/.cpan/build/2016041803/Encode-Arabic-14.1-9LqZn0/blib/arch:/home/cpansand/.cpan/build/2016041803/Encode-Arabic-14.1-9LqZn0/blib/lib:/home/cpansand/.cpan/build/2016041803/Cindy-0.22-ea4sch/blib/arch:/home/cpansand/.cpan/build/2016041803/Cindy-0.22-ea4sch/blib/lib:/home/cpansand/.cpan/build/2016041803/CPAN-Testers-WWW-Reports-Parser-0.06-jE9sIE/blib/arch:/home/cpansand/.cpan/build/2016041803/CPAN-Testers-WWW-Reports-Parser-0.06-jE9sIE/blib/lib:/home/cpansand/.cpan/build/2016041803/App-Daemon-0.22-dOOKfp/blib/arch:/home/cpansand/.cpan/build/2016041803/App-Daemon-0.22-dOOKfp/blib/lib:/home/cpansand/.cpan/build/2016041803/ComXo-Call2-0.01-HVwqv7/blib/arch:/home/cpansand/.cpan/build/2016041803/ComXo-Call2-0.01-HVwqv7/blib/lib:/home/cpansand/.cpan/build/2016041803/again-0.08-YcszhS/blib/arch:/home/cpansand/.cpan/build/2016041803/again-0.08-YcszhS/blib/lib:/home/cpansand/.cpan/build/2016041803/Role-Inspector-0.005-c_uk3l/blib/arch:/home/cpansand/.cpan/build/2016041803/Role-Inspector-0.005-c_uk3l/blib/lib:/home/cpansand/.cpan/build/2016041803/Data-Validate-Sanctions-0.03-fpoqXw/blib/arch:/home/cpansand/.cpan/build/2016041803/Data-Validate-Sanctions-0.03-fpoqXw/blib/lib:/home/cpansand/.cpan/build/2016041803/Dancer-Plugin-Controller-0.153-hgFiuU/blib/arch:/home/cpansand/.cpan/build/2016041803/Dancer-Plugin-Controller-0.153-hgFiuU/blib/lib:/home/cpansand/.cpan/build/2016041803/Dancer-Template-HtmlTemplate-0.07-p9qNBL/blib/arch:/home/cpansand/.cpan/build/2016041803/Dancer-Template-HtmlTemplate-0.07-p9qNBL/blib/lib:/home/cpansand/.cpan/build/2016041803/Color-Calc-1.074-QpW5kv/blib/arch:/home/cpansand/.cpan/build/2016041803/Color-Calc-1.074-QpW5kv/blib/lib:/home/cpansand/.cpan/build/2016041803/Graphics-ColorNames-WWW-1.13-0VCOX4/blib/arch:/home/cpansand/.cpan/build/2016041803/Graphics-ColorNames-WWW-1.13-0VCOX4/blib/lib"
    PERL5OPT=""
    PERL5_CPANPLUS_IS_RUNNING="3600"
    PERL5_CPAN_IS_RUNNING="3600"
    PERL5_CPAN_IS_RUNNING_IN_RECURSION="16932,3600"
    PERLDOC="-MPod::Perldoc::ToTextOverstrike"
    PERL_BATCH="yes"
    PERL_CANARY_STABILITY_NOPROMPT="1"
    PERL_CPAN_REPORTER_CONFIG="/var/tmp/cpansmoker-1023/2016041803/cpanreporter_000_config.ini"
    PERL_EXTUTILS_AUTOINSTALL="--defaultdeps"
    PERL_PARALLEL_SMOKER="yes"
  @INC:
    /home/cpansand/.cpan/build/2016041803/Finance-USDX-0.03-6Gi27D/blib/arch
    /home/cpansand/.cpan/build/2016041803/Finance-USDX-0.03-6Gi27D/blib/lib
    /home/cpansand/.cpan/build/2016041803/Dist-Zilla-LocaleTextDomain-0.90-msEzLg/blib/arch
    /home/cpansand/.cpan/build/2016041803/Dist-Zilla-LocaleTextDomain-0.90-msEzLg/blib/lib
    /home/cpansand/.cpan/build/2016041803/Device-BusPirate-Chip-nRF24L01P-0.01-lco_92/blib/arch
    /home/cpansand/.cpan/build/2016041803/Device-BusPirate-Chip-nRF24L01P-0.01-lco_92/blib/lib
    /home/cpansand/.cpan/build/2016041803/Devel-Local-0.22-bOPM8Q/blib/arch
    /home/cpansand/.cpan/build/2016041803/Devel-Local-0.22-bOPM8Q/blib/lib
    /home/cpansand/.cpan/build/2016041803/Array-CompareAndFilter-v1.100-B0IWDg/blib/arch
    /home/cpansand/.cpan/build/2016041803/Array-CompareAndFilter-v1.100-B0IWDg/blib/lib
    /home/cpansand/.cpan/build/2016041803/WWW-Correios-SRO-0.10-6JjFql/blib/arch
    /home/cpansand/.cpan/build/2016041803/WWW-Correios-SRO-0.10-6JjFql/blib/lib
    /home/cpansand/.cpan/build/2016041803/PostScript-Simple-0.09-cR0Byz/blib/arch
    /home/cpansand/.cpan/build/2016041803/PostScript-Simple-0.09-cR0Byz/blib/lib
    /home/cpansand/.cpan/build/2016041803/Pod-Simple-XHTML-WithHighlightConfig-0.000001-ivds01/blib/arch
    /home/cpansand/.cpan/build/2016041803/Pod-Simple-XHTML-WithHighlightConfig-0.000001-ivds01/blib/lib
    /home/cpansand/.cpan/build/2016041803/Net-SMS-WAY2SMS-0.10-oWTxNF/blib/arch
    /home/cpansand/.cpan/build/2016041803/Net-SMS-WAY2SMS-0.10-oWTxNF/blib/lib
    /home/cpansand/.cpan/build/2016041803/Geography-China-Provinces-0.06-VOmVCu/blib/arch
    /home/cpansand/.cpan/build/2016041803/Geography-China-Provinces-0.06-VOmVCu/blib/lib
    /home/cpansand/.cpan/build/2016041803/Dist-Inkt-0.023-I14uLc/blib/arch
    /home/cpansand/.cpan/build/2016041803/Dist-Inkt-0.023-I14uLc/blib/lib
    /home/cpansand/.cpan/build/2016041803/Dist-Inkt-Role-Test-0.002-9nJcj0/blib/arch
    /home/cpansand/.cpan/build/2016041803/Dist-Inkt-Role-Test-0.002-9nJcj0/blib/lib
    /home/cpansand/.cpan/build/2016041803/MooseX-AttributeTags-0.002-G3JULL/blib/arch
    /home/cpansand/.cpan/build/2016041803/MooseX-AttributeTags-0.002-G3JULL/blib/lib
    /home/cpansand/.cpan/build/2016041803/Sort-Key-1.33-JiwHuz/blib/arch
    /home/cpansand/.cpan/build/2016041803/Sort-Key-1.33-JiwHuz/blib/lib
    /home/cpansand/.cpan/build/2016041803/DBIx-VersionedSubs-0.08-DIqA81/blib/arch
    /home/cpansand/.cpan/build/2016041803/DBIx-VersionedSubs-0.08-DIqA81/blib/lib
    /home/cpansand/.cpan/build/2016041803/Benchmark-Report-GitHub-0.002-tAyjGf/blib/arch
    /home/cpansand/.cpan/build/2016041803/Benchmark-Report-GitHub-0.002-tAyjGf/blib/lib
    /home/cpansand/.cpan/build/2016041803/Acme-Boolean-0.4-GID5tq/blib/arch
    /home/cpansand/.cpan/build/2016041803/Acme-Boolean-0.4-GID5tq/blib/lib
    /home/cpansand/.cpan/build/2016041803/SVN-Class-0.18-lq5LEE/blib/arch
    /home/cpansand/.cpan/build/2016041803/SVN-Class-0.18-lq5LEE/blib/lib
    /home/cpansand/.cpan/build/2016041803/Exception-Chain-0.11-guKlBU/blib/arch
    /home/cpansand/.cpan/build/2016041803/Exception-Chain-0.11-guKlBU/blib/lib
    /home/cpansand/.cpan/build/2016041803/Encode-Arabic-14.1-9LqZn0/blib/arch
    /home/cpansand/.cpan/build/2016041803/Encode-Arabic-14.1-9LqZn0/blib/lib
    /home/cpansand/.cpan/build/2016041803/Cindy-0.22-ea4sch/blib/arch
    /home/cpansand/.cpan/build/2016041803/Cindy-0.22-ea4sch/blib/lib
    /home/cpansand/.cpan/build/2016041803/CPAN-Testers-WWW-Reports-Parser-0.06-jE9sIE/blib/arch
    /home/cpansand/.cpan/build/2016041803/CPAN-Testers-WWW-Reports-Parser-0.06-jE9sIE/blib/lib
    /home/cpansand/.cpan/build/2016041803/App-Daemon-0.22-dOOKfp/blib/arch
    /home/cpansand/.cpan/build/2016041803/App-Daemon-0.22-dOOKfp/blib/lib
    /home/cpansand/.cpan/build/2016041803/ComXo-Call2-0.01-HVwqv7/blib/arch
    /home/cpansand/.cpan/build/2016041803/ComXo-Call2-0.01-HVwqv7/blib/lib
    /home/cpansand/.cpan/build/2016041803/again-0.08-YcszhS/blib/arch
    /home/cpansand/.cpan/build/2016041803/again-0.08-YcszhS/blib/lib
    /home/cpansand/.cpan/build/2016041803/Role-Inspector-0.005-c_uk3l/blib/arch
    /home/cpansand/.cpan/build/2016041803/Role-Inspector-0.005-c_uk3l/blib/lib
    /home/cpansand/.cpan/build/2016041803/Data-Validate-Sanctions-0.03-fpoqXw/blib/arch
    /home/cpansand/.cpan/build/2016041803/Data-Validate-Sanctions-0.03-fpoqXw/blib/lib
    /home/cpansand/.cpan/build/2016041803/Dancer-Plugin-Controller-0.153-hgFiuU/blib/arch
    /home/cpansand/.cpan/build/2016041803/Dancer-Plugin-Controller-0.153-hgFiuU/blib/lib
    /home/cpansand/.cpan/build/2016041803/Dancer-Template-HtmlTemplate-0.07-p9qNBL/blib/arch
    /home/cpansand/.cpan/build/2016041803/Dancer-Template-HtmlTemplate-0.07-p9qNBL/blib/lib
    /home/cpansand/.cpan/build/2016041803/Color-Calc-1.074-QpW5kv/blib/arch
    /home/cpansand/.cpan/build/2016041803/Color-Calc-1.074-QpW5kv/blib/lib
    /home/cpansand/.cpan/build/2016041803/Graphics-ColorNames-WWW-1.13-0VCOX4/blib/arch
    /home/cpansand/.cpan/build/2016041803/Graphics-ColorNames-WWW-1.13-0VCOX4/blib/lib
    /opt/perl-5.24.0-RC1/lib/site_perl/5.24.0/x86_64-linux
    /opt/perl-5.24.0-RC1/lib/site_perl/5.24.0
    /opt/perl-5.24.0-RC1/lib/5.24.0/x86_64-linux
    /opt/perl-5.24.0-RC1/lib/5.24.0
    .