Report for Net-SugarCRM-3.21345

Back
From: metabase:user:d2c9f356-b46f-11df-9a90-20a83c0b7757
Subject: PASS Net-SugarCRM-3.21345 v5.18.0 SunOS/Solaris
Date: 2013-08-20T22:33:09Z

This distribution has been tested as part of the CPAN Testers
project, supporting the Perl programming language.  See
http://wiki.cpantesters.org/ for more information or email
questions to cpan-testers-discuss@perl.org


--
Dear Nito Martinez,

This is a computer-generated report for Net-SugarCRM-3.21345
on perl 5.18.0, created by CPAN-Reporter-1.2010.

Thank you for uploading your work to CPAN.  Congratulations!
All tests were successful.

Sections of this report:

    * Tester comments
    * Program output
    * Prerequisites
    * Environment and other context

------------------------------
TESTER COMMENTS
------------------------------

Additional comments from tester:

this report is from an automated smoke testing program
and was not reviewed by a human for accuracy

------------------------------
PROGRAM OUTPUT
------------------------------

Output from './Build test':

# Testing Net::SugarCRM 3.21345, Perl 5.018000, /export/home/cpant5/perl5/perlbrew/perls/perl-5.18.0/bin/perl5.18.0
t/00-load.t ................ ok
t/10-login.t ............... skipped: Author test.  Set $ENV{TEST_AUTHOR_SUGAR} to a true value to run. Define it as DEBUG to see the debug messages
t/20-modules.t ............. skipped: Author test.  Set $ENV{TEST_AUTHOR_SUGAR} to a true value to run. Define it as DEBUG to see the debug messages
t/30-lead.t ................ skipped: Author test.  Set $ENV{TEST_AUTHOR_SUGAR} to a true value to run. Define it as DEBUG to see the debug messages
t/40-contact.t ............. skipped: Author test.  Set $ENV{TEST_AUTHOR_SUGAR} to a true value to run. Define it as DEBUG to see the debug messages
t/50-account.t ............. skipped: Author test.  Set $ENV{TEST_AUTHOR_SUGAR} to a true value to run. Define it as DEBUG to see the debug messages
t/60-opportunity.t ......... skipped: Author test.  Set $ENV{TEST_AUTHOR_SUGAR} to a true value to run. Define it as DEBUG to see the debug messages
t/70-getmailentry.t ........ skipped: Author test.  Set $ENV{TEST_AUTHOR_SUGAR} to a true value to run. Define it as DEBUG to see the debug messages
t/75-add-note.t ............ skipped: Author test.  Set $ENV{TEST_AUTHOR_SUGAR} to a true value to run. Define it as DEBUG to see the debug messages
t/77-currency.t ............ skipped: Author test.  Set $ENV{TEST_AUTHOR_SUGAR} to a true value to run. Define it as DEBUG to see the debug messages
t/80-mailinglist.t ......... skipped: Author test.  Set $ENV{TEST_AUTHOR_SUGAR} to a true value to run. Define it as DEBUG to see the debug messages
t/90-send-campaign-mail.t .. skipped: Author test.  Set $ENV{TEST_AUTHOR_SUGAR} to a true value to run. Define it as DEBUG to see the debug messages
t/manifest.t ............... skipped: Author tests not required for installation
t/perlcritic.t ............. skipped: Author test.  Set $ENV{TEST_AUTHOR} to a true value to run.
t/pod-coverage.t ........... ok
t/pod.t .................... ok
All tests successful.
Files=16, Tests=6,  6 wallclock secs ( 0.21 usr  0.13 sys +  4.18 cusr  0.82 csys =  5.34 CPU)
Result: PASS

------------------------------
PREREQUISITES
------------------------------

Prerequisite modules loaded:

requires:

    Module         Need Have  
    -------------- ---- ------
    DateTime       0    1.03  
    DBI            0    1.628 
    File::Spec     0    3.40  
    JSON           0    2.59  
    Log::Log4perl  0    1.42  
    LWP::UserAgent 0    6.05  
    Moose          0    2.1005
    Readonly       0    1.03  
    Try::Tiny      0    0.18  

build_requires:

    Module         Need Have  
    -------------- ---- ------
    Test::More     0    0.98  

configure_requires:

    Module         Need Have  
    -------------- ---- ------
    Module::Build  0.38 0.4007


------------------------------
ENVIRONMENT AND OTHER CONTEXT
------------------------------

Environment variables:

    AUTOMATED_TESTING = 1
    LANG = C
    LD_LIBRARY_PATH = /usr/local/lib:
    MANPATH_WITHOUT_PERLBREW = 
    PATH = /export/home/cpant5/perl5/perlbrew/bin:/export/home/cpant5/perl5/perlbrew/perls/perl-5.18.0/bin:/export/home/cpant5/perl5/bin:/usr/local/bin:/usr/bin
    PATH_WITHOUT_PERLBREW = /export/home/cpant5/perl5/bin:/usr/local/bin:/usr/bin
    PERL5LIB = /export/home/cpant5/.cpan/build/Readonly-1.03-amwEZ2/blib/arch:/export/home/cpant5/.cpan/build/Readonly-1.03-amwEZ2/blib/lib
    PERL5OPT = 
    PERL5_CPANPLUS_IS_RUNNING = 11827
    PERL5_CPAN_IS_RUNNING = 11827
    PERL5_CPAN_IS_RUNNING_IN_RECURSION = 16890,11827
    PERLBREW_BASHRC_VERSION = 0.44
    PERLBREW_HOME = /export/home/cpant5/.perlbrew
    PERLBREW_MANPATH = /export/home/cpant5/perl5/perlbrew/perls/perl-5.18.0/man
    PERLBREW_PATH = /export/home/cpant5/perl5/perlbrew/bin:/export/home/cpant5/perl5/perlbrew/perls/perl-5.18.0/bin
    PERLBREW_PERL = perl-5.18.0
    PERLBREW_ROOT = /export/home/cpant5/perl5/perlbrew
    PERLBREW_VERSION = 0.44
    PERL_CR_SMOKER_CURRENT = Net-SugarCRM-3.21345
    PERL_EXTUTILS_AUTOINSTALL = --defaultdeps
    PERL_MM_USE_DEFAULT = 1
    SHELL = /bin/bash
    TERM = xterm

Perl special variables (and OS-specific diagnostics, for MSWin32):

    $^X = /export/home/cpant5/perl5/perlbrew/perls/perl-5.18.0/bin/perl5.18.0
    $UID/$EUID = 105 / 105
    $GID = 1 1
    $EGID = 1 1

Perl module toolchain versions installed:

    Module              Have    
    ------------------- --------
    CPAN                2.00    
    CPAN::Meta          2.132140
    Cwd                 3.40    
    ExtUtils::CBuilder  0.280210
    ExtUtils::Command   1.17    
    ExtUtils::Install   1.59    
    ExtUtils::MakeMaker 6.72    
    ExtUtils::Manifest  1.63    
    ExtUtils::ParseXS   3.21    
    File::Spec          3.40    
    JSON                2.59    
    JSON::PP            2.27202 
    Module::Build       0.4007  
    Module::Signature   n/a     
    Parse::CPAN::Meta   1.4405  
    Test::Harness       3.28    
    Test::More          0.98    
    YAML                0.84    
    YAML::Syck          1.27    
    version             0.9903  


--

Summary of my perl5 (revision 5 version 18 subversion 0) configuration:
   
  Platform:
    osname=solaris, osvers=2.10, archname=i86pc-solaris-64int
    uname='sunos vmrz0046 5.10 generic_141445-09 i86pc i386 i86pc solaris '
    config_args='-de -Dprefix=/export/home/cpant5/perl5/perlbrew/perls/perl-5.18.0 -Dcc=gcc -Duse64bitint -Dusedevel -Aeval:scriptdir=/export/home/cpant5/perl5/perlbrew/perls/perl-5.18.0/bin'
    hint=recommended, useposix=true, d_sigaction=define
    useithreads=undef, usemultiplicity=undef
    useperlio=define, d_sfio=undef, uselargefiles=define, usesocks=undef
    use64bitint=define, use64bitall=undef, uselongdouble=undef
    usemymalloc=n, bincompat5005=undef
  Compiler:
    cc='gcc', ccflags ='-DPTR_IS_LONG -fno-strict-aliasing -pipe -I/usr/local/include -D_LARGEFILE_SOURCE -D_FILE_OFFSET_BITS=64 -DPERL_USE_SAFE_PUTENV',
    optimize='-O',
    cppflags='-DPTR_IS_LONG -fno-strict-aliasing -pipe -I/usr/local/include'
    ccversion='', gccversion='3.4.6', gccosandvers='solaris2.10'
    intsize=4, longsize=4, ptrsize=4, doublesize=8, byteorder=12345678
    d_longlong=define, longlongsize=8, d_longdbl=define, longdblsize=12
    ivtype='long long', ivsize=8, nvtype='double', nvsize=8, Off_t='off_t', lseeksize=8
    alignbytes=4, prototype=define
  Linker and Libraries:
    ld='gcc', ldflags =' -L/usr/local/lib '
    libpth=/usr/local/lib /usr/lib /usr/ccs/lib
    libs=-lsocket -lnsl -lgdbm -ldl -lm -lc
    perllibs=-lsocket -lnsl -ldl -lm -lc
    libc=/lib/libc.so, so=so, useshrplib=false, libperl=libperl.a
    gnulibc_version=''
  Dynamic Linking:
    dlsrc=dl_dlopen.xs, dlext=so, d_dlsymun=undef, ccdlflags=' '
    cccdlflags='-fPIC', lddlflags='-G -L/usr/local/lib'


Characteristics of this binary (from libperl): 
  Compile-time options: HAS_TIMES PERLIO_LAYERS PERL_DONT_CREATE_GVSV
                        PERL_HASH_FUNC_ONE_AT_A_TIME_HARD PERL_MALLOC_WRAP
                        PERL_PRESERVE_IVUV PERL_SAWAMPERSAND PERL_USE_DEVEL
                        PERL_USE_SAFE_PUTENV USE_64_BIT_INT USE_LARGE_FILES
                        USE_LOCALE USE_LOCALE_COLLATE USE_LOCALE_CTYPE
                        USE_LOCALE_NUMERIC USE_PERLIO USE_PERL_ATOF
  Built under solaris
  Compiled at May 21 2013 08:43:42
  %ENV:
    PERL5LIB="/export/home/cpant5/.cpan/build/Readonly-1.03-amwEZ2/blib/arch:/export/home/cpant5/.cpan/build/Readonly-1.03-amwEZ2/blib/lib"
    PERL5OPT=""
    PERL5_CPANPLUS_IS_RUNNING="11827"
    PERL5_CPAN_IS_RUNNING="11827"
    PERL5_CPAN_IS_RUNNING_IN_RECURSION="16890,11827"
    PERLBREW_BASHRC_VERSION="0.44"
    PERLBREW_HOME="/export/home/cpant5/.perlbrew"
    PERLBREW_MANPATH="/export/home/cpant5/perl5/perlbrew/perls/perl-5.18.0/man"
    PERLBREW_PATH="/export/home/cpant5/perl5/perlbrew/bin:/export/home/cpant5/perl5/perlbrew/perls/perl-5.18.0/bin"
    PERLBREW_PERL="perl-5.18.0"
    PERLBREW_ROOT="/export/home/cpant5/perl5/perlbrew"
    PERLBREW_VERSION="0.44"
    PERL_CR_SMOKER_CURRENT="Net-SugarCRM-3.21345"
    PERL_EXTUTILS_AUTOINSTALL="--defaultdeps"
    PERL_MM_USE_DEFAULT="1"
  @INC:
    /export/home/cpant5/.cpan/build/Readonly-1.03-amwEZ2/blib/arch
    /export/home/cpant5/.cpan/build/Readonly-1.03-amwEZ2/blib/lib
    /export/home/cpant5/perl5/perlbrew/perls/perl-5.18.0/lib/site_perl/5.18.0/i86pc-solaris-64int
    /export/home/cpant5/perl5/perlbrew/perls/perl-5.18.0/lib/site_perl/5.18.0
    /export/home/cpant5/perl5/perlbrew/perls/perl-5.18.0/lib/5.18.0/i86pc-solaris-64int
    /export/home/cpant5/perl5/perlbrew/perls/perl-5.18.0/lib/5.18.0
    .