Text-Amuse-Preprocessor v0.60 Perl 5 v5.12.1 x86_64-linux-thread-multi

Status
Pass
From
Chris Williams (BINGOS)
Dist
Text-Amuse-Preprocessor v0.60
Platform
Perl 5 v5.12.1 x86_64-linux-thread-multi
Date
2019-03-22 13:14:57
ID
7d78c25c-4ca4-11e9-9066-e374b0ba08e8
This distribution has been tested as part of the CPAN Testers
project, supporting the Perl programming language.  See
http://wiki.cpantesters.org/ for more information or email
questions to cpan-testers-discuss@perl.org


--

Dear MELMOTHX,

This is a computer-generated error report created automatically by
CPANPLUS, version 0.9176. Testers personal comments may appear
at the end of this report.


Thank you for uploading your work to CPAN.  Congratulations!
All tests were successful.

TEST RESULTS:

Below is the error stack from stage 'make test':

PERL_DL_NONLAZY=1 "/home/cpan/pit/thr/perl-5.12.1/bin/perl" "-MExtUtils::Command::MM" "-MTest::Harness" "-e" "undef *Test::Harness::Switches; test_harness(0, 'blib/lib', 'blib/arch')" t/*.t
# Testing Text::Amuse::Preprocessor 0.60, Perl 5.012001, /home/cpan/pit/thr/perl-5.12.1/bin/perl
t/00-load.t ........... ok
t/changes.t ........... skipped: Changes testing not required (or Test::CPAN::Changes not found)
t/chars.t ............. ok
# Using /tmp/CPc3R613ES for ligatures
# Using /tmp/cLuOcyDVsO for missing_nl
# Using /tmp/Hv9WwNnusp for garbage
# Using /tmp/LonNNKO6ur for ellipsis_no_fix
# Using /tmp/C_1zr1kmK8 for ellipsis
# Using /tmp/uZM1FSqfN4 for links
# Using /tmp/LNk58dwbe8 for en
# Using /tmp/coead9koym for fi
# Using /tmp/INgu_xeN2o for es
# Using /tmp/vI7Oy6F0QA for sr
# Using /tmp/BdGDA89ZmN for hr
# Using /tmp/6xlnm3QG3M for ru
# Using /tmp/BGZp3q4ZtX for it
# Using /tmp/GGF_4YliWL for mk
# Using /tmp/caFy325IEy for sv
# Using /tmp/96IQYhfsC_ for de
# Using /tmp/7GO029sBBh for fr
# Using /tmp/3IfVPSo5PC for pt
# Using /tmp/fg9ZWXQTUv for sq
# Using /tmp/gBW3mQ2ZzV for da
# Using /tmp/JT0jeYfe6H for nl
# Using /tmp/FpTJJfBZGd for id
# Using /tmp/XrwUHB1jjW for Full example
# Using /tmp/H2Ub2zzIjE for Quote
# Using /tmp/llOTgezZSA for Quote
# Using /tmp/lTg5lKMBi6 for Nl quotation
t/common.t ............ ok
t/crash-on-verb.t ..... ok
# $VAR1 = "#title Test
# #lang en
# 
# 0
# 
# \x{201c}0\x{201d}
# 
# 0
# ";
# $VAR1 = "#title Test
# #lang en
# 
# 0
# 
# \x{201c}0\x{201d}
# 
# 0
# ";
t/crash_on_loop.t ..... ok
# /tmp/ylF25WhxFN/verbatim-in.muse
# /tmp/ylF25WhxFN
t/exclude-verbatim.t .. ok
# Testing t/footnotes/good.in => t/footnotes/good.out
# Testing t/footnotes/good2.in => t/footnotes/good2.out
# Testing t/footnotes/good3.in => t/footnotes/good3.out
# Testing t/footnotes/mixed.in => t/footnotes/mixed.out
# Testing t/footnotes/indentation.in => t/footnotes/indentation.out
# Testing t/footnotes/sec-good.in => t/footnotes/sec-good.out
# Testing t/footnotes/sec-good2.in => t/footnotes/sec-good2.out
# Testing t/footnotes/sec-good3.in => t/footnotes/sec-good3.out
# Testing t/footnotes/sec-bad.in => t/footnotes/sec-bad.out
# @@ -1 +1,2 @@
# -{4}
# +{3}
# +{3}
# Testing t/footnotes/sec-bad2.in => t/footnotes/sec-bad2.out
# @@ -1,3 +1,2 @@
# -{4}
# +{3}
# -{5}
# +{3}
# -{6}
# Testing t/footnotes/bad.in => t/footnotes/bad.out
# @@ -1,2 +1,3 @@
#  [1]
# -[1]
# +[2]
# +[4]
# Testing t/footnotes/bad2.in => t/footnotes/bad2.out
# @@ -1,4 +1,3 @@
#  [1]
# -[1]
# +[2]
#  [4]
# -[5]
t/footnotes.t ......... ok
tagpile mismatch: root, p
t/html-2.t ............ ok
# Using /tmp/G8CqpWvCHb.html
# Using /tmp/5CRY2he02k.html
# Using /tmp/qKZLqF1OMV.html
# Using /tmp/kfPcCU6iyF.html
# Using /tmp/q5hqP1UnUg.html
# Using /tmp/n6fJrxk7sD.html
# Using /tmp/I_60Rs7ae6.html
# Using /tmp/n349xwsYLs.html
# Using /tmp/JxoW5CzmEd.html
# Using /tmp/bgyrEKdjYS.html
# Using /tmp/TGSUa5tfBD.html
# Using /tmp/woN7O_5KfK.html
# Using /tmp/r2TGKfH0db.html
# Using /tmp/sPon6JSVjE.html
# Using /tmp/8G5NNtO3gK.html
# Using /tmp/ZEvIc8doN6.html
# Using /tmp/QageGTUqfX.html
t/html.t .............. ok
t/manifest.t .......... skipped: Author tests not required for installation
t/memory-cycles.t ..... skipped: Test::Memory::Cycle required for testing memory cycles
t/nbsp.t .............. ok
# Infile is /tmp/gaYNGjYOvR/input.txt
# Using /tmp/C_XOLMVBRq as temporary dir
t/object.t ............ ok
t/pod-coverage.t ...... skipped: Pod coverage not required for installation
t/pod.t ............... skipped: Pod test not required for installation
# $VAR1 = [
#           {
#             'string' => '#lang ru',
#             'type' => 'text'
#           },
#           {
#             'string' => '
# 
# ',
#             'type' => 'markup'
#           },
#           {
#             'string' => "\x{42f} \x{435}\x{434}\x{443} \x{434}\x{43e}\x{43c}\x{43e}\x{439} \x{43f}\x{43e} \x{434}\x{43e}\x{440}\x{43e}\x{433}\x{435} \x{432} \x{448}\x{43a}\x{43e}\x{43b}\x{443}. \x{415}\x{441}\x{43b}\x{438} \x{431}\x{44b} \x{432}\x{441}\x{451} \x{437}\x{430}\x{432}\x{438}\x{441}\x{435}\x{43b}\x{43e} \x{43e}\x{442} \x{43c}\x{435}\x{43d}\x{44f}, \x{43d}\x{43e} \x{44d}\x{442}\x{43e}",
#             'type' => 'text'
#           },
#           {
#             'string' => '
# ',
#             'type' => 'text'
#           },
#           {
#             'string' => "\x{43d}\x{435} \x{442}\x{430}\x{43a}. \x{427}\x{442}\x{43e} \x{436}\x{435} \x{441} \x{44d}\x{442}\x{438}\x{43c} \x{43f}\x{43e}\x{434}\x{435}\x{43b}\x{430}\x{435}\x{448}\x{44c}, \x{440}\x{430}\x{437} \x{442}\x{430}\x{43a}\x{438}\x{435} \x{443} \x{43d}\x{430}\x{441} \x{43f}\x{43b}\x{43e}\x{445}\x{438}\x{435} \x{438} \x{43c}\x{443}\x{441}\x{43e}\x{440}\x{430},",
#             'type' => 'text'
#           },
#           {
#             'string' => '
# ',
#             'type' => 'text'
#           },
#           {
#             'string' => "\x{438} \x{433}\x{440}\x{430}\x{431}\x{438}\x{442}\x{435}\x{43b}\x{438}. \x{42f} \x{2014} \x{447}\x{435}\x{43b}\x{43e}\x{432}\x{435}\x{43a} \x{445}\x{43e}\x{440}\x{43e}\x{448}\x{438}\x{439}, \x{430} \x{43e}\x{43d}\x{438} \x{2014} \x{43f}\x{43b}\x{43e}\x{445}\x{438}\x{435}. \x{41a} \x{43c}\x{43e}\x{435}\x{43c}\x{443} \x{441}\x{43e}\x{436}\x{430}\x{43b}\x{435}\x{43d}\x{438}\x{44e},",
#             'type' => 'text'
#           },
#           {
#             'string' => '
# ',
#             'type' => 'text'
#           },
#           {
#             'string' => "\x{441} \x{443}\x{43c}\x{43e}\x{43c} \x{43e} \x{43d}\x{435}\x{439} \x{433}\x{43e}\x{432}\x{43e}\x{440}\x{438}\x{442}\x{44c} \x{43d}\x{435} \x{43f}\x{43e}\x{43b}\x{443}\x{447}\x{438}\x{43b}\x{43e}\x{441}\x{44c}. \x{415}\x{434}\x{443} \x{44f} \x{437}\x{43d}\x{430}\x{447}\x{438}\x{442} \x{43a} \x{434}\x{440}\x{443}\x{433}\x{443}, \x{443} \x{43a}\x{43e}\x{442}\x{43e}\x{440}\x{43e}\x{433}\x{43e}",
#             'type' => 'text'
#           },
#           {
#             'string' => '
# ',
#             'type' => 'text'
#           },
#           {
#             'string' => "\x{43d}\x{438} \x{43a}\x{43e}\x{43b}\x{430}, \x{43d}\x{438} \x{434}\x{432}\x{43e}\x{440}\x{430}. \x{41e} \x{43d}\x{451}\x{43c} \x{44f} \x{442}\x{435}\x{431}\x{435} \x{440}\x{430}\x{441}\x{441}\x{43a}\x{430}\x{437}\x{44b}\x{432}\x{430}\x{43b}. \x{41d}\x{443} \x{44f} \x{435}\x{43c}\x{443} \x{438} \x{433}\x{43e}\x{432}\x{43e}\x{440}\x{44e}:",
#             'type' => 'text'
#           },
#           {
#             'string' => '
# ',
#             'type' => 'text'
#           },
#           {
#             'string' => "\x{43d}\x{443}, \x{43e}\x{442}\x{432}\x{435}\x{447}\x{430}\x{439}. \x{41e}\x{442} \x{43d}\x{435}\x{433}\x{43e}, \x{43e}\x{442} \x{43d}\x{435}\x{451} \x{438} \x{43f}\x{43e}\x{448}\x{43b}\x{43e} \x{432}\x{441}\x{451}. \x{41e}\x{431} \x{44d}\x{442}\x{43e}\x{43c} \x{436}\x{435} \x{44f} \x{43f}\x{438}\x{441}\x{430}\x{43b} 99 \x{441}\x{43c}",
#             'type' => 'text'
#           },
#           {
#             'string' => '
# ',
#             'type' => 'text'
#           },
#           {
#             'string' => "\x{43d}\x{430}\x{437}\x{430}\x{434}. \x{418} 25 \x{43c} \x{438} 65 \x{43b} \x{438} \x{434}\x{430}\x{436}\x{435} 809 \x{412}. \x{412}\x{441}\x{451} \x{447}\x{442}\x{43e} \x{434}\x{443}\x{448}\x{435} \x{43f}\x{43e}\x{436}\x{435}\x{43b}\x{430}\x{435}\x{448}\x{44c}. \x{422}\x{43e} \x{441}\x{430}\x{43c}\x{43e}\x{435}",
#             'type' => 'text'
#           },
#           {
#             'string' => '
# ',
#             'type' => 'text'
#           },
#           {
#             'string' => "89 \x{43a}\x{433} \x{43f}\x{440}\x{435}\x{432}\x{440}\x{430}\x{449}\x{430}\x{44e}\x{442}\x{441}\x{44f} \x{432} 90 \x{433}, \x{43f}\x{440}\x{438} \x{436}\x{435}\x{43b}\x{430}\x{43d}\x{438}\x{438}. \x{415}\x{441}\x{43b}\x{438} \x{431}\x{44b} \x{442}\x{44b} \x{43f}\x{43e}\x{448}\x{451}\x{43b}, \x{434}\x{430} \x{432}\x{43e}\x{442}",
#             'type' => 'text'
#           },
#           {
#             'string' => '
# ',
#             'type' => 'text'
#           },
#           {
#             'string' => "\x{43d}\x{435} \x{432}\x{44b}\x{43b}\x{435}\x{437}. \x{414}\x{430}, \x{43a}\x{440}\x{430}\x{441}\x{438}\x{432}\x{43e} \x{442}\x{443}\x{442}. \x{41d}\x{43e} \x{43c}\x{43e}\x{433}\x{43b}\x{43e} \x{431}\x{44b}\x{442}\x{44c} \x{438} \x{43b}\x{443}\x{447}\x{448}\x{435}. \x{41f}\x{43e} \x{441}\x{435}\x{43c}\x{443} \x{437}\x{430}\x{43a}\x{43b}\x{44e}\x{447}\x{430}\x{44e}",
#             'type' => 'text'
#           },
#           {
#             'string' => '
# ',
#             'type' => 'text'
#           },
#           {
#             'string' => "\x{43d}\x{435} \x{432}\x{43e}\x{440}\x{43e}\x{432}\x{430}\x{442}\x{44c}, \x{447}\x{442}\x{43e} \x{431} \x{442}\x{44b} \x{441}\x{434}\x{43e}\x{445}. \x{412} \x{442}.\x{447}. \x{442}\x{435}\x{431}\x{44f}. \x{41d}\x{443} \x{442}\x{435}\x{431}\x{44f} \x{442}\x{43e} \x{438} \x{442}.\x{43f}. \x{441}\x{432}\x{43e}\x{440}\x{443}.",
#             'type' => 'text'
#           },
#           {
#             'string' => '
# ',
#             'type' => 'text'
#           },
#           {
#             'string' => "\x{421}\x{43e} \x{434}\x{432}\x{43e}\x{440}\x{430} \x{43d}\x{430}\x{434}\x{43e} \x{433}\x{43d}\x{430}\x{442}\x{44c}. \x{414}\x{43e} \x{43a}\x{43e}\x{43b}\x{435} \x{43c}\x{43e}\x{436}\x{43d}\x{43e} \x{442}\x{435}\x{440}\x{43f}\x{435}\x{442}\x{44c}. \x{41a}\x{43e} \x{43c}\x{43d}\x{435} \x{43f}\x{440}\x{438}\x{445}\x{43e}\x{434}\x{44f}\x{442}. \x{422}\x{443} \x{434}\x{435}\x{432}\x{443}\x{448}\x{43a}\x{443}.",
#             'type' => 'text'
#           },
#           {
#             'string' => '
# ',
#             'type' => 'text'
#           },
#           {
#             'string' => "\x{412}\x{43e} \x{432}\x{442}\x{43e}\x{440}\x{43e}\x{439} \x{43f}\x{43e}\x{43b}\x{43e}\x{432}\x{438}\x{43d}\x{435}. \x{422}\x{430} \x{43f}\x{43e}\x{434}\x{440}\x{443}\x{433}\x{430} \x{43a}\x{43e} \x{43c}\x{43d}\x{435} \x{43f}\x{43e}\x{448}\x{43b}\x{430} \x{432}\x{43e} \x{432}\x{442}\x{43e}\x{440}\x{43e}\x{43c} \x{447}\x{430}\x{441}\x{443}.",
#             'type' => 'text'
#           },
#           {
#             'string' => '
# ',
#             'type' => 'text'
#           },
#           {
#             'string' => "12 \x{44f}\x{43d}\x{432}\x{430}\x{440}\x{44f}, 12 \x{43c}\x{430}\x{44f}, 12 \x{430}\x{43f}\x{440}\x{435}\x{43b}\x{44f}, 12 \x{444}\x{435}\x{432}\x{440}\x{430}\x{43b}\x{44f}, 12 \x{43c}\x{430}\x{440}\x{442}\x{430}, 12 \x{438}\x{44e}\x{43d}\x{44f}, 12 \x{438}\x{44e}\x{43b}\x{44f},",
#             'type' => 'text'
#           },
#           {
#             'string' => '
# ',
#             'type' => 'text'
#           },
#           {
#             'string' => "12 \x{430}\x{432}\x{433}\x{443}\x{441}\x{442}\x{430}, 12 \x{441}\x{435}\x{43d}\x{442}\x{44f}\x{431}\x{440}\x{44f}, 12 \x{43e}\x{43a}\x{442}\x{44f}\x{431}\x{440}\x{44f}, 12 \x{43d}\x{43e}\x{44f}\x{431}\x{440}\x{44f}, 12 \x{434}\x{435}\x{43a}\x{430}\x{431}\x{440}\x{44f}. \x{422}\x{435} \x{43a}\x{442}\x{43e} \x{43f}\x{43e}\x{448}\x{43b}\x{438}",
#             'type' => 'text'
#           },
#           {
#             'string' => '
# ',
#             'type' => 'text'
#           },
#           {
#             'string' => "\x{434}\x{43e}\x{43c}\x{43e}\x{439}, \x{43d}\x{430} \x{433}\x{43e}\x{440}\x{43a}\x{443} \x{43d}\x{435} \x{43f}\x{43e}\x{439}\x{434}\x{443}\x{442}. \x{417}\x{430} \x{434}\x{43e}\x{43c}\x{43e}\x{439} \x{441}\x{442}\x{43e}\x{438}\x{442} \x{438}\x{437} \x{43d}\x{435}\x{433}\x{43e} \x{432}\x{44b}\x{445}\x{43e}\x{434}\x{438}\x{442}.",
#             'type' => 'text'
#           },
#           {
#             'string' => '
# ',
#             'type' => 'text'
#           },
#           {
#             'string' => "\x{414}\x{430}, \x{43f}\x{440}\x{438}\x{447}\x{443}\x{434}\x{438}\x{43b}\x{43e}\x{441}\x{44c}. \x{41e}\x{431} \x{44d}\x{442}\x{43e}\x{43c} \x{43d}\x{430}\x{434}\x{43e} \x{43d}\x{443} \x{43c}\x{43e}\x{436}\x{435}\x{442} \x{438} \x{43d}\x{435} \x{43d}\x{430}\x{434}\x{43e}. \x{41f}\x{43e} \x{442}\x{435}\x{431}\x{435}, \x{43d}\x{43e} \x{43d}\x{435} \x{43f}\x{43e} \x{43c}\x{43d}\x{435}.",
#             'type' => 'text'
#           },
#           {
#             'string' => '
# ',
#             'type' => 'text'
#           },
#           {
#             'string' => "\x{417}\x{430} \x{434}\x{43e}\x{43c} \x{441}\x{43f}\x{440}\x{44f}\x{442}\x{430}\x{43b}\x{441}\x{44f}. \x{41d}\x{438} \x{43a}\x{43e}\x{43b}\x{430}, \x{43d}\x{438} \x{434}\x{432}\x{43e}\x{440}\x{430}. \x{41d}\x{430} \x{44e}\x{433} \x{43f}\x{43e}\x{43b}\x{435}\x{442}\x{435}\x{43b}\x{438}, \x{43d}\x{43e}, \x{43a}\x{430}\x{437}\x{430}\x{43b}\x{43e}\x{441}\x{44c} \x{431}\x{44b},",
#             'type' => 'text'
#           },
#           {
#             'string' => '
# ',
#             'type' => 'text'
#           },
#           {
#             'string' => "\x{43d}\x{435} \x{434}\x{43e}\x{43b}\x{435}\x{442}\x{435}\x{43b}\x{438}. \x{422}\x{43e} \x{447}\x{442}\x{43e} \x{43d}\x{430}\x{434}\x{43e}. \x{421}\x{43c}. \x{442}\x{443}\x{442}. \x{434}\x{43e} \x{434}\x{43e}\x{43c}\x{430}. \x{432}\x{43e} \x{432}\x{442}\x{43e}\x{440}\x{43d}\x{438}\x{43a}. \x{441}\x{43e} \x{43a}\x{43e}\x{43e}\x{43f}\x{435}\x{440}\x{430}\x{442}\x{438}\x{432}.",
#             'type' => 'text'
#           },
#           {
#             'string' => '
# ',
#             'type' => 'text'
#           },
#           {
#             'string' => "\x{442}\x{430} \x{43d}\x{435}\x{434}\x{435}\x{43b}\x{44f}. \x{442}\x{443} \x{43f}\x{43e}\x{434}\x{440}\x{443}\x{433}\x{443}. \x{442}\x{43e} \x{441}\x{435}\x{43b}\x{43e}. \x{442}\x{435} \x{43b}\x{44e}\x{434}\x{438}. \x{44d}\x{439}, \x{441}\x{43c}. \x{43f}\x{440}\x{438}\x{43c}\x{435}\x{447}\x{430}\x{43d}\x{438}\x{435}. \x{41d}\x{435} \x{43f}\x{43e}\x{435}\x{434}\x{443}.",
#             'type' => 'text'
#           },
#           {
#             'string' => '
# ',
#             'type' => 'text'
#           },
#           {
#             'string' => "\x{41d}\x{430} \x{433}\x{43e}\x{440}\x{443}. \x{41d}\x{443} \x{438} \x{43b}\x{430}\x{434}\x{43d}\x{43e}. \x{41d}\x{443}, \x{43f}\x{43e}\x{43d}\x{435}\x{441}\x{43b}\x{430}\x{441}\x{44c}! \x{41e}\x{431} \x{44d}\x{442}\x{43e}\x{43c} \x{433}\x{43e}\x{432}\x{43e}\x{440}\x{438}\x{43b}\x{438}. \x{418}\x{437} \x{438}\x{437}\x{431}\x{44b}",
#             'type' => 'text'
#           },
#           {
#             'string' => '
# ',
#             'type' => 'text'
#           },
#           {
#             'string' => "\x{432}\x{44b}\x{431}\x{435}\x{436}\x{430}\x{43b}\x{438} \x{436}\x{435}. \x{414}\x{430} \x{43f}\x{43e}\x{435}\x{445}\x{430}\x{43b} \x{43e}\x{43d}. \x{41d}\x{43e} \x{43f}\x{43e}\x{448}\x{43b}\x{43e} \x{43f}\x{43e}\x{435}\x{445}\x{430}\x{43b}\x{43e}. \x{418}\x{43c}. \x{418}\x{432}\x{430}\x{43d}\x{430} \x{41b}\x{438}\x{43c}\x{431}\x{430}\x{445}\x{430}. \x{41e}\x{431} \x{44d}\x{442}\x{43e}\x{43c}",
#             'type' => 'text'
#           },
#           {
#             'string' => '
# ',
#             'type' => 'text'
#           },
#           {
#             'string' => "\x{433}\x{43e}\x{432}\x{43e}\x{440}\x{438}\x{442}\x{441}\x{44f} \x{436}. \x{41d}\x{435} \x{44d}\x{442}\x{43e} \x{43b}\x{44c}. \x{41e}\x{43d} \x{436}\x{435}, \x{43a}\x{430}\x{436}\x{435}\x{442}\x{441}\x{44f}. 25 \x{43c}\x{43c}, \x{43f}\x{440}\x{435}\x{432}\x{440}\x{430}\x{449}\x{430}\x{44e}\x{442}\x{441}\x{44f} \x{432} 35 \x{434}\x{43c},",
#             'type' => 'text'
#           },
#           {
#             'string' => '
# ',
#             'type' => 'text'
#           },
#           {
#             'string' => "\x{430} \x{43e}\x{43d}\x{438} 1 \x{43a}\x{43c}. 13 \x{410} \x{440}\x{430}\x{432}\x{43d}\x{44b} 45 \x{412}\x{422}, \x{43d}\x{43e} \x{435}\x{441}\x{43b}\x{438} 89 W, \x{442}\x{43e} \x{438} 12 \x{b0}C. \x{41a}\x{443}\x{440}\x{438}\x{446}\x{430} \x{2212}",
#             'type' => 'text'
#           },
#           {
#             'string' => '
# ',
#             'type' => 'text'
#           },
#           {
#             'string' => "\x{43d}\x{435} \x{447}\x{435}\x{43b}\x{43e}\x{432}\x{435}\x{43a}.\x{422}\x{44b} \x{430}, \x{43a}\x{430}\x{436}\x{435}\x{442}\x{441}\x{44f}. \x{422}\x{44b} \x{438}, \x{43a}\x{430}\x{436}\x{435}\x{442}\x{441}\x{44f}. \x{422}\x{44b} \x{441}. 50. \x{422}\x{44b} \x{442}. 287.",
#             'type' => 'text'
#           },
#           {
#             'string' => '
# ',
#             'type' => 'text'
#           },
#           {
#             'string' => "31 \x{43c}\x{430}\x{440}\x{442}\x{430}",
#             'type' => 'text'
#           },
#           {
#             'string' => '
# ',
#             'type' => 'text'
#           },
#           {
#             'string' => "\x{41f}\x{43e} \x{434}\x{432}\x{43e}\x{440}\x{443} \x{438}\x{434}\x{451}\x{442} \x{432} \x{434}\x{43e}\x{43c} \x{43a}\x{43e}\x{437}\x{430}, \x{445}\x{43e}\x{447}\x{435}\x{442} \x{437}\x{430}\x{43b}\x{435}\x{437}\x{442}\x{44c} \x{43d}\x{430} \x{43a}\x{440}\x{44b}\x{448}\x{443}",
#             'type' => 'text'
#           },
#           {
#             'string' => '
# ',
#             'type' => 'text'
#           },
#           {
#             'string' => "\x{415}\x{434}\x{435}\x{442} \x{438} \x{438}\x{434}\x{451}\x{442}, \x{43d}\x{43e} \x{43f}\x{43b}\x{44b}\x{432}\x{451}\x{442}",
#             'type' => 'text'
#           },
#           {
#             'string' => '
# ',
#             'type' => 'text'
#           },
#           {
#             'string' => "\x{435}\x{441}\x{43b}\x{438} \x{431}\x{44b}, \x{434}\x{430} \x{43d}\x{435} \x{43f}\x{43e}\x{43b}\x{443}\x{447}\x{430}\x{435}\x{442}\x{441}\x{44f} \x{436}\x{435}",
#             'type' => 'text'
#           },
#           {
#             'string' => '
# ',
#             'type' => 'text'
#           },
#           {
#             'string' => "\x{41d}\x{438} \x{440}\x{44b}\x{431}\x{430}, \x{43d}\x{438} \x{43c}\x{44f}\x{441}\x{43e}",
#             'type' => 'text'
#           },
#           {
#             'string' => '
# ',
#             'type' => 'text'
#           },
#           {
#             'string' => "\x{435}\x{441}\x{43b}\x{438} \x{431}\x{44b}, \x{434}\x{430} \x{43d}\x{435} \x{43f}\x{43e}\x{43b}\x{443}\x{447}\x{430}\x{435}\x{442}\x{441}\x{44f} \x{436}\x{435}",
#             'type' => 'text'
#           },
#           {
#             'string' => '
# ',
#             'type' => 'text'
#           },
#           {
#             'string' => "\x{41d}\x{443}, \x{43f}\x{43e}\x{435}\x{445}\x{430}\x{43b}\x{438}",
#             'type' => 'text'
#           },
#           {
#             'string' => '
# ',
#             'type' => 'text'
#           },
#           {
#             'string' => "\x{43d}\x{443} \x{43e}\x{43d} \x{438} \x{43f}\x{43e}\x{448}\x{451}\x{43b}",
#             'type' => 'text'
#           },
#           {
#             'string' => '
# ',
#             'type' => 'text'
#           },
#           {
#             'string' => "35 \x{43c}\x{43c}",
#             'type' => 'text'
#           },
#           {
#             'string' => '
# ',
#             'type' => 'text'
#           },
#           {
#             'string' => "pogledaj \x{447}. 3, \x{441}\x{43c}. \x{ab}\x{410}\x{43d}\x{430}\x{440}\x{445}\x{438}\x{44f} \x{440}\x{430}\x{431}\x{43e}\x{442}\x{430}\x{435}\x{442}\x{bb}",
#             'type' => 'text'
#           },
#           {
#             'string' => '
# ',
#             'type' => 'text'
#           },
#           {
#             'string' => "\x{442}. test \x{43f}. test \x{421}\x{43c}. test",
#             'type' => 'text'
#           },
#           {
#             'string' => '
# ',
#             'type' => 'text'
#           },
#           {
#             'string' => "\x{428}\x{43a}\x{43e}\x{43b}\x{430} \x{438}\x{43c}. \x{41c}\x{430}\x{445}\x{43d}\x{43e}",
#             'type' => 'text'
#           },
#           {
#             'string' => '
# ',
#             'type' => 'text'
#           }
#         ];
t/russian.t ........... ok
t/subs.t .............. ok
t/typography.t ........ ok
All tests successful.
Files=19, Tests=410,  2 wallclock secs ( 0.09 usr  0.02 sys +  1.49 cusr  0.24 csys =  1.84 CPU)
Result: PASS


PREREQUISITES:

Here is a list of prerequisites you specified and versions we
managed to load:

	  Module Name                        Have     Want
	  HTML::PullParser                   3.57        0
	  IO::HTML                          1.001        1
	  Pod::Simple::Wiki                  0.20     0.19
	  Test::More                     1.302162        0
	  Text::Amuse                        1.27     0.95
	  Text::Diff                         1.45        0

Perl module toolchain versions installed:
	Module Name                        Have
	CPANPLUS                         0.9176
	CPANPLUS::Dist::Build              0.90
	Cwd                                3.75
	ExtUtils::CBuilder             0.280230
	ExtUtils::Command                  7.34
	ExtUtils::Install                  2.14
	ExtUtils::MakeMaker                7.34
	ExtUtils::Manifest                 1.71
	ExtUtils::ParseXS                  3.35
	File::Spec                         3.75
	Module::Build                    0.4224
	Pod::Parser                        1.37
	Pod::Simple                        3.14
	Test2                          1.302162
	Test::Harness                      3.42
	Test::More                     1.302162
	version                          0.9924

******************************** NOTE ********************************
The comments above are created mechanically, possibly without manual
checking by the sender.  As there are many people performing automatic
tests on each upload to CPAN, it is likely that you will receive
identical messages about the same problem.

If you believe that the message is mistaken, please reply to the first
one with correction and/or additional informations, and do not take
it personally.  We appreciate your patience. :)
**********************************************************************

Additional comments:


This report was machine-generated by CPANPLUS::Dist::YACSmoke 1.06.
Powered by minismokebox version 0.68

------------------------------
ENVIRONMENT AND OTHER CONTEXT
------------------------------

Environment variables:

    AUTOMATED_TESTING = 1
    LANG = en_GB.UTF-8
    LANGUAGE = en_GB:en
    NONINTERACTIVE_TESTING = 1
    PATH = /home/cpan/pit/thr/conf/perl-5.12.1/.cpanplus/5.12.1/build/iwztgz3Jtg/Text-Amuse-Preprocessor-0.60/blib/script:/usr/local/sbin:/usr/local/bin:/usr/sbin:/usr/bin:/sbin:/bin:/usr/games:/usr/local/games:/snap/bin
    PERL5LIB = /home/cpan/pit/jail/p6ahuLWVUP/lib/perl5:/home/cpan/pit/thr/conf/perl-5.12.1/.cpanplus/5.12.1/build/iwztgz3Jtg/Text-Amuse-Preprocessor-0.60/blib/lib:/home/cpan/pit/thr/conf/perl-5.12.1/.cpanplus/5.12.1/build/iwztgz3Jtg/Text-Amuse-Preprocessor-0.60/blib/arch
    PERL5_CPANPLUS_IS_RUNNING = 16279
    PERL5_CPANPLUS_IS_VERSION = 0.9176
    PERL5_MINISMOKEBOX = 0.68
    PERL5_YACSMOKE_BASE = /home/cpan/pit/thr/conf/perl-5.12.1
    PERL_EXTUTILS_AUTOINSTALL = --defaultdeps
    PERL_LOCAL_LIB_ROOT = /home/cpan/pit/jail/p6ahuLWVUP
    PERL_MB_OPT = --install_base "/home/cpan/pit/jail/p6ahuLWVUP"
    PERL_MM_OPT = INSTALL_BASE=/home/cpan/pit/jail/p6ahuLWVUP
    PERL_MM_USE_DEFAULT = 1
    SHELL = /bin/bash
    TERM = screen

Perl special variables (and OS-specific diagnostics, for MSWin32):

    Perl: $^X = /home/cpan/pit/thr/perl-5.12.1/bin/perl
    UID:  $<  = 1001
    EUID: $>  = 1001
    GID:  $(  = 1001 1001
    EGID: $)  = 1001 1001


-------------------------------


--

Summary of my perl5 (revision 5 version 12 subversion 1) configuration:
   
  Platform:
    osname=linux, osvers=4.4.0-21-generic, archname=x86_64-linux-thread-multi
    uname='linux uchder 4.4.0-21-generic #37-ubuntu smp mon apr 18 18:33:37 utc 2016 x86_64 x86_64 x86_64 gnulinux '
    config_args='-des -Dprefix=/home/cpan/pit/thr/perl-5.12.1 -Dusethreads'
    hint=recommended, useposix=true, d_sigaction=define
    useithreads=define, usemultiplicity=define
    useperlio=define, d_sfio=undef, uselargefiles=define, usesocks=undef
    use64bitint=define, use64bitall=define, uselongdouble=undef
    usemymalloc=n, bincompat5005=undef
  Compiler:
    cc='cc', ccflags ='-D_REENTRANT -D_GNU_SOURCE -fno-strict-aliasing -pipe -fstack-protector -I/usr/local/include -D_LARGEFILE_SOURCE -D_FILE_OFFSET_BITS=64',
    optimize='-O2',
    cppflags='-D_REENTRANT -D_GNU_SOURCE -fno-strict-aliasing -pipe -fstack-protector -I/usr/local/include'
    ccversion='', gccversion='5.3.1 20160413', gccosandvers=''
    intsize=4, longsize=8, ptrsize=8, doublesize=8, byteorder=12345678
    d_longlong=define, longlongsize=8, d_longdbl=define, longdblsize=16
    ivtype='long', ivsize=8, nvtype='double', nvsize=8, Off_t='off_t', lseeksize=8
    alignbytes=8, prototype=define
  Linker and Libraries:
    ld='cc', ldflags =' -fstack-protector -L/usr/local/lib'
    libpth=/usr/local/lib /lib/x86_64-linux-gnu /lib/../lib /usr/lib/x86_64-linux-gnu /usr/lib/../lib /lib /usr/lib
    libs=-lnsl -lgdbm -ldl -lm -lcrypt -lutil -lpthread -lc -lgdbm_compat
    perllibs=-lnsl -ldl -lm -lcrypt -lutil -lpthread -lc
    libc=libc-2.23.so, so=so, useshrplib=false, libperl=libperl.a
    gnulibc_version='2.23'
  Dynamic Linking:
    dlsrc=dl_dlopen.xs, dlext=so, d_dlsymun=undef, ccdlflags='-Wl,-E'
    cccdlflags='-fPIC', lddlflags='-shared -O2 -L/usr/local/lib -fstack-protector'


Characteristics of this binary (from libperl): 
  Compile-time options: MULTIPLICITY PERL_DONT_CREATE_GVSV
                        PERL_IMPLICIT_CONTEXT PERL_MALLOC_WRAP USE_64_BIT_ALL
                        USE_64_BIT_INT USE_ITHREADS USE_LARGE_FILES
                        USE_PERLIO USE_PERL_ATOF USE_REENTRANT_API
  Locally applied patches:
	Devel::PatchPerl 1.42
  Built under linux
  Compiled at May  2 2016 01:24:45
  %ENV:
    PERL5LIB="/home/cpan/pit/jail/p6ahuLWVUP/lib/perl5:/home/cpan/pit/thr/conf/perl-5.12.1/.cpanplus/5.12.1/build/iwztgz3Jtg/Text-Amuse-Preprocessor-0.60/blib/lib:/home/cpan/pit/thr/conf/perl-5.12.1/.cpanplus/5.12.1/build/iwztgz3Jtg/Text-Amuse-Preprocessor-0.60/blib/arch"
    PERL5_CPANPLUS_IS_RUNNING="16279"
    PERL5_CPANPLUS_IS_VERSION="0.9176"
    PERL5_MINISMOKEBOX="0.68"
    PERL5_YACSMOKE_BASE="/home/cpan/pit/thr/conf/perl-5.12.1"
    PERL_EXTUTILS_AUTOINSTALL="--defaultdeps"
    PERL_LOCAL_LIB_ROOT="/home/cpan/pit/jail/p6ahuLWVUP"
    PERL_MB_OPT="--install_base "/home/cpan/pit/jail/p6ahuLWVUP""
    PERL_MM_OPT="INSTALL_BASE=/home/cpan/pit/jail/p6ahuLWVUP"
    PERL_MM_USE_DEFAULT="1"
  @INC:
    /home/cpan/pit/jail/p6ahuLWVUP/lib/perl5/5.12.1/x86_64-linux-thread-multi
    /home/cpan/pit/jail/p6ahuLWVUP/lib/perl5/5.12.1
    /home/cpan/pit/jail/p6ahuLWVUP/lib/perl5/x86_64-linux-thread-multi
    /home/cpan/pit/jail/p6ahuLWVUP/lib/perl5
    /home/cpan/pit/thr/conf/perl-5.12.1/.cpanplus/5.12.1/build/iwztgz3Jtg/Text-Amuse-Preprocessor-0.60/blib/lib
    /home/cpan/pit/thr/conf/perl-5.12.1/.cpanplus/5.12.1/build/iwztgz3Jtg/Text-Amuse-Preprocessor-0.60/blib/arch
    /home/cpan/pit/thr/perl-5.12.1/lib/site_perl/5.12.1/x86_64-linux-thread-multi
    /home/cpan/pit/thr/perl-5.12.1/lib/site_perl/5.12.1
    /home/cpan/pit/thr/perl-5.12.1/lib/5.12.1/x86_64-linux-thread-multi
    /home/cpan/pit/thr/perl-5.12.1/lib/5.12.1
    .