CGI-Pure v0.07 Perl 5 v5.27.8 x86_64-linux
- Status
- Pass
- From
- Slaven Rezić (SREZIC)
- Dist
-
CGI-Pure v0.07
- Platform
- Perl 5 v5.27.8 x86_64-linux
- Date
- 2018-01-22 10:17:45
- ID
- 7d738fc0-ff5d-11e7-9213-dfab751b66eb
This distribution has been tested as part of the CPAN Testers
project, supporting the Perl programming language. See
http://wiki.cpantesters.org/ for more information or email
questions to cpan-testers-discuss@perl.org
--
Dear Michal Josef Spacek,
This is a computer-generated report for CGI-Pure-0.07
on perl 5.27.8, created by CPAN-Reporter-1.2018.
Thank you for uploading your work to CPAN. Congratulations!
All tests were successful.
Sections of this report:
* Tester comments
* Program output
* Prerequisites
* Environment and other context
------------------------------
TESTER COMMENTS
------------------------------
Additional comments from tester:
none provided
------------------------------
PROGRAM OUTPUT
------------------------------
Output from '/usr/bin/make test':
PERL_DL_NONLAZY=1 "/bbbike/perl-5.27.8/bin/perl5.27.8" "-MExtUtils::Command::MM" "-MTest::Harness" "-e" "undef *Test::Harness::Switches; test_harness(0, 'inc', 'blib/lib', 'blib/arch')" t/CGI-Pure-Save/*.t t/CGI-Pure/*.t
t/CGI-Pure-Save/01-use.t ........... ok
t/CGI-Pure-Save/02-version.t ....... ok
t/CGI-Pure-Save/03-new.t ........... ok
t/CGI-Pure-Save/04-save.t .......... ok
t/CGI-Pure-Save/05-load.t .......... ok
t/CGI-Pure/01-use.t ................ ok
t/CGI-Pure/02-version.t ............ ok
t/CGI-Pure/03-new.t ................ ok
t/CGI-Pure/04-append_param.t ....... ok
t/CGI-Pure/05-clone.t .............. ok
t/CGI-Pure/06-delete_param.t ....... ok
t/CGI-Pure/07-delete_all_params.t .. ok
t/CGI-Pure/08-param.t .............. ok
t/CGI-Pure/09-delete_all_params.t .. ok
t/CGI-Pure/10-query_data.t ......... ok
t/CGI-Pure/11-query_string.t ....... ok
All tests successful.
Files=16, Tests=93, 4 wallclock secs ( 0.03 usr 0.07 sys + 1.14 cusr 0.27 csys = 1.51 CPU)
Result: PASS
------------------------------
PREREQUISITES
------------------------------
Prerequisite modules loaded:
requires:
Module Need Have
------------------- ---- --------
CGI::Deurl::XS 0 0.08
Class::Utils 0.02 0.07
Encode 0 2.94
English 0 1.10
Error::Pure 0.16 0.24
IO::File 0 1.16
List::MoreUtils 0 0.428
Readonly 0 2.05
URI::Escape 0 3.31
build_requires:
Module Need Have
------------------- ---- --------
English 0 1.10
Error::Pure::Utils 0.16 0.24
ExtUtils::MakeMaker 6.36 7.30
File::Object 0.03 0.1
IO::Scalar 0 2.111
Test::More 0 1.302120
Test::NoWarnings 0 1.04
configure_requires:
Module Need Have
------------------- ---- --------
ExtUtils::MakeMaker 6.36 7.30
------------------------------
ENVIRONMENT AND OTHER CONTEXT
------------------------------
Environment variables:
LANG = C
LC_ALL = de_DE.UTF-8
PATH = /usr/local/bin:/usr/bin:/bin:/usr/local/sbin:/usr/sbin:/sbin:/home/cpansand/bin/linux-gnu:/home/cpansand/bin/sh:/home/cpansand/bin:/usr/games:/home/cpansand/devel:/home/eserte/src/srezic-misc/scripts
PERL5LIB = /home/cpansand/.cpan/build/2018012209/CGI-Deurl-XS-0.08-2/blib/arch:/home/cpansand/.cpan/build/2018012209/CGI-Deurl-XS-0.08-2/blib/lib:/home/cpansand/.cpan/build/2018012209/FIX-Lite-2/blib/arch:/home/cpansand/.cpan/build/2018012209/FIX-Lite-2/blib/lib
PERL5OPT =
PERL5_CPANPLUS_IS_RUNNING = 2804
PERL5_CPAN_IS_RUNNING = 2804
PERL5_CPAN_IS_RUNNING_IN_RECURSION = 30305,2804
PERLDOC = -MPod::Perldoc::ToTextOverstrike
PERL_BATCH = yes
PERL_CANARY_STABILITY_NOPROMPT = 1
PERL_CPAN_REPORTER_CONFIG = /var/tmp/cpansmoker-1023/2018012209/cpanreporter_001_config.ini
PERL_EXTUTILS_AUTOINSTALL = --defaultdeps
PERL_PARALLEL_SMOKER = yes
PERL_USE_UNSAFE_INC = 1
SHELL = /bin/zsh
TERM = screen
TMPDIR = /var/tmp/cpansmoker-1023/2018012209
Perl special variables (and OS-specific diagnostics, for MSWin32):
$^X = /bbbike/perl-5.27.8/bin/perl5.27.8
$UID/$EUID = 1023 / 1023
$GID = 1023 1023
$EGID = 1023 1023
Perl module toolchain versions installed:
Module Have
------------------- --------
CPAN 2.20
CPAN::Meta 2.150010
Cwd 3.72
ExtUtils::CBuilder 0.280230
ExtUtils::Command 7.30
ExtUtils::Install 2.14
ExtUtils::MakeMaker 7.30
ExtUtils::Manifest 1.70
ExtUtils::ParseXS 3.36
File::Spec 3.72
JSON 2.97001
JSON::PP 2.97001
Module::Build 0.4224
Module::Signature 0.81
Parse::CPAN::Meta 2.150010
Test::Harness 3.39
Test::More 1.302120
YAML 1.24
YAML::Syck 1.30
version 0.9918
--
Summary of my perl5 (revision 5 version 27 subversion 8) configuration:
Platform:
osname=linux
osvers=3.16.0-4-amd64
archname=x86_64-linux
uname='linux eserte 3.16.0-4-amd64 #1 smp debian 3.16.51-2 (2017-12-03) x86_64 gnulinux '
config_args='-ds -e -Dprefix=/opt/perl-5.27.8 -Dusedevel -Dusemallocwrap=no -Dcf_email=srezic@cpan.org'
hint=recommended
useposix=true
d_sigaction=define
useithreads=undef
usemultiplicity=undef
use64bitint=define
use64bitall=define
uselongdouble=undef
usemymalloc=n
default_inc_excludes_dot=define
bincompat5005=undef
Compiler:
cc='cc'
ccflags ='-fwrapv -fno-strict-aliasing -pipe -fstack-protector-strong -I/usr/local/include -D_LARGEFILE_SOURCE -D_FILE_OFFSET_BITS=64 -D_FORTIFY_SOURCE=2'
optimize='-O2'
cppflags='-fwrapv -fno-strict-aliasing -pipe -fstack-protector-strong -I/usr/local/include'
ccversion=''
gccversion='4.9.2'
gccosandvers=''
intsize=4
longsize=8
ptrsize=8
doublesize=8
byteorder=12345678
doublekind=3
d_longlong=define
longlongsize=8
d_longdbl=define
longdblsize=16
longdblkind=3
ivtype='long'
ivsize=8
nvtype='double'
nvsize=8
Off_t='off_t'
lseeksize=8
alignbytes=8
prototype=define
Linker and Libraries:
ld='cc'
ldflags =' -fstack-protector-strong -L/usr/local/lib'
libpth=/usr/local/lib /usr/lib/gcc/x86_64-linux-gnu/4.9/include-fixed /usr/include/x86_64-linux-gnu /usr/lib /lib/x86_64-linux-gnu /lib/../lib /usr/lib/x86_64-linux-gnu /usr/lib/../lib /lib
libs=-lpthread -lnsl -lgdbm -ldb -ldl -lm -lcrypt -lutil -lc -lgdbm_compat
perllibs=-lpthread -lnsl -ldl -lm -lcrypt -lutil -lc
libc=libc-2.19.so
so=so
useshrplib=false
libperl=libperl.a
gnulibc_version='2.19'
Dynamic Linking:
dlsrc=dl_dlopen.xs
dlext=so
d_dlsymun=undef
ccdlflags='-Wl,-E'
cccdlflags='-fPIC'
lddlflags='-shared -O2 -L/usr/local/lib -fstack-protector-strong'
Characteristics of this binary (from libperl):
Compile-time options:
HAS_TIMES
PERLIO_LAYERS
PERL_COPY_ON_WRITE
PERL_DONT_CREATE_GVSV
PERL_OP_PARENT
PERL_PRESERVE_IVUV
PERL_USE_DEVEL
USE_64_BIT_ALL
USE_64_BIT_INT
USE_LARGE_FILES
USE_LOCALE
USE_LOCALE_COLLATE
USE_LOCALE_CTYPE
USE_LOCALE_NUMERIC
USE_LOCALE_TIME
USE_PERLIO
USE_PERL_ATOF
Built under linux
Compiled at Jan 20 2018 08:24:13
%ENV:
PERL5LIB="/home/cpansand/.cpan/build/2018012209/CGI-Deurl-XS-0.08-2/blib/arch:/home/cpansand/.cpan/build/2018012209/CGI-Deurl-XS-0.08-2/blib/lib:/home/cpansand/.cpan/build/2018012209/FIX-Lite-2/blib/arch:/home/cpansand/.cpan/build/2018012209/FIX-Lite-2/blib/lib"
PERL5OPT=""
PERL5_CPANPLUS_IS_RUNNING="2804"
PERL5_CPAN_IS_RUNNING="2804"
PERL5_CPAN_IS_RUNNING_IN_RECURSION="30305,2804"
PERLDOC="-MPod::Perldoc::ToTextOverstrike"
PERL_BATCH="yes"
PERL_CANARY_STABILITY_NOPROMPT="1"
PERL_CPAN_REPORTER_CONFIG="/var/tmp/cpansmoker-1023/2018012209/cpanreporter_001_config.ini"
PERL_EXTUTILS_AUTOINSTALL="--defaultdeps"
PERL_PARALLEL_SMOKER="yes"
PERL_USE_UNSAFE_INC="1"
@INC:
/home/cpansand/.cpan/build/2018012209/CGI-Deurl-XS-0.08-2/blib/arch
/home/cpansand/.cpan/build/2018012209/CGI-Deurl-XS-0.08-2/blib/lib
/home/cpansand/.cpan/build/2018012209/FIX-Lite-2/blib/arch
/home/cpansand/.cpan/build/2018012209/FIX-Lite-2/blib/lib
/opt/perl-5.27.8/lib/site_perl/5.27.8/x86_64-linux
/opt/perl-5.27.8/lib/site_perl/5.27.8
/opt/perl-5.27.8/lib/5.27.8/x86_64-linux
/opt/perl-5.27.8/lib/5.27.8
.