Back
From: metabase:user:9820532a-708b-1014-9a05-b18a96298da1
Subject: PASS Class-Value-Net-1.110250 v5.15.3 GNU/Linux
Date: 2011-09-27T18:49:54Z
This distribution has been tested as part of the CPAN Testers
project, supporting the Perl programming language. See
http://wiki.cpantesters.org/ for more information or email
questions to cpan-testers-discuss@perl.org
--
Dear Marcel Gruenauer,
This is a computer-generated report for Class-Value-Net-1.110250
on perl 5.15.3, created by CPAN-Reporter-1.2002.
Thank you for uploading your work to CPAN. Congratulations!
All tests were successful.
Sections of this report:
* Tester comments
* Program output
* Prerequisites
* Environment and other context
------------------------------
TESTER COMMENTS
------------------------------
Additional comments from tester:
this report is from an automated smoke testing program
and was not reviewed by a human for accuracy
------------------------------
PROGRAM OUTPUT
------------------------------
Output from '/usr/bin/make test':
PERL_DL_NONLAZY=1 /home/test/perl5/perlbrew/perls/perl-5.15.3/bin/perl5.15.3 "-MExtUtils::Command::MM" "-e" "test_harness(0, 'blib/lib', 'blib/arch')" t/*.t
t/00-compile.t ............... ok
# Testing with Perl 5.015003, /home/test/perl5/perlbrew/perls/perl-5.15.3/bin/perl5.15.3
# Carp version is 1.23
# Class::Value version is 1.100840
# Class::Value::Boolean version is 1.100840
# Class::Value::Enum version is 1.100840
# Class::Value::Exception::Base version is 1.100840
# Class::Value::SemanticAdapter version is 1.100841
# Class::Value::String version is 1.100840
# Class::Value::Test version is 1.100840
# Data::Semantic::Net::IPAddress::TestData::IPv4 version is 1.101760
# Data::Semantic::Net::IPAddress::TestData::IPv6 version is 1.101760
# English version is 1.04
# Error version is 0.17016
# Error::Hierarchy::Mixin version is 1.103530
# Error::Hierarchy::Test version is 1.103530
# ExtUtils::MakeMaker version is 6.58
# File::Find version is 1.20
# File::Temp version is 0.22
# Scalar::Util version is 1.23
# Test::CompanionClasses version is 1.101370
# Test::CompanionClasses::Base version is 1.101370
# Test::More version is 0.98
# constant version is 1.21
# parent version is 0.225
t/000-report-versions.t ...... ok
t/01_companion_classes.t ..... ok
t/02_hostname.t .............. ok
t/author-critic.t ............ skipped: these tests are for testing by the author
t/release-check-changes.t .... skipped: these tests are for release candidate testing
t/release-dist-manifest.t .... skipped: these tests are for release candidate testing
t/release-distmeta.t ......... skipped: these tests are for release candidate testing
t/release-eol.t .............. skipped: these tests are for release candidate testing
t/release-has-version.t ...... skipped: these tests are for release candidate testing
t/release-kwalitee.t ......... skipped: these tests are for release candidate testing
t/release-minimum-version.t .. skipped: these tests are for release candidate testing
t/release-no-tabs.t .......... skipped: these tests are for release candidate testing
t/release-pod-coverage.t ..... skipped: these tests are for release candidate testing
t/release-pod-spell.t ........ skipped: these tests are for release candidate testing
t/release-pod-syntax.t ....... skipped: these tests are for release candidate testing
t/release-portability.t ...... skipped: these tests are for release candidate testing
t/release-synopsis.t ......... skipped: these tests are for release candidate testing
t/release-unused-vars.t ...... skipped: these tests are for release candidate testing
All tests successful.
Files=19, Tests=96, 4 wallclock secs ( 0.14 usr 0.08 sys + 3.33 cusr 0.66 csys = 4.21 CPU)
Result: PASS
------------------------------
PREREQUISITES
------------------------------
Prerequisite modules loaded:
requires:
Module Need Have
---------------------------------------------- -------- --------
Class::Value::Boolean 0 1.100840
Class::Value::Enum 0 1.100840
Class::Value::Exception::Base 0 1.100840
Class::Value::SemanticAdapter 0 1.100841
Class::Value::String 0 1.100840
Class::Value::Test 0 1.100840
constant 0 1.21
Data::Semantic::Net::IPAddress::TestData::IPv4 1.101750 1.101760
Data::Semantic::Net::IPAddress::TestData::IPv6 0 1.101760
Error::Hierarchy::Mixin 0 1.103530
Error::Hierarchy::Test 0 1.103530
parent 0 0.225
Test::CompanionClasses::Base 0 1.101370
Test::More 0 0.98
build_requires:
Module Need Have
---------------------------------------------- -------- --------
Carp 0 1.23
Class::Value 0 1.100840
English 0 1.04
Error 0 0.17016
File::Find 0 1.20
File::Temp 0 0.22
Scalar::Util 0 1.23
Test::CompanionClasses 0 1.101370
Test::More 0.94 0.98
configure_requires:
Module Need Have
---------------------------------------------- -------- --------
ExtUtils::MakeMaker 6.31 6.58
------------------------------
ENVIRONMENT AND OTHER CONTEXT
------------------------------
Environment variables:
AUTOMATED_TESTING = 1
LANG = C
LC_ALL = C
PATH = /home/test/perl5/perlbrew/bin:/home/test/perl5/perlbrew/perls/perl-5.15.3/bin:/home/test/bin:~/bin:/usr/bin:/bin
PATH_WITHOUT_PERLBREW = /home/test/bin:~/bin:/usr/bin:/bin
PERL5LIB =
PERL5OPT =
PERL5_CPANPLUS_IS_RUNNING = 9761
PERL5_CPAN_IS_RUNNING = 9761
PERL5_CPAN_IS_RUNNING_IN_RECURSION = 14326,9761
PERLBREW_HOME = /home/test/.perlbrew
PERLBREW_PATH = /home/test/perl5/perlbrew/bin:/home/test/perl5/perlbrew/perls/perl-5.15.3/bin
PERLBREW_PERL = perl-5.15.3
PERLBREW_ROOT = /home/test/perl5/perlbrew
PERLBREW_VERSION = 0.29
PERL_CPANM_OPT = --prompt --mirror file:///mirrors/cpan/
PERL_CR_SMOKER_CURRENT = Class-Value-Net-1.110250
PERL_EXTUTILS_AUTOINSTALL = --defaultdeps
PERL_MM_USE_DEFAULT = 1
SHELL = /bin/bash
TERM = linux
Perl special variables (and OS-specific diagnostics, for MSWin32):
$^X = /home/test/perl5/perlbrew/perls/perl-5.15.3/bin/perl5.15.3
$UID/$EUID = 1001 / 1001
$GID = 1001 1001
$EGID = 1001 1001
Perl module toolchain versions installed:
Module Have
------------------- --------
CPAN 1.9800
CPAN::Meta 2.112621
Cwd 3.37
ExtUtils::CBuilder 0.280204
ExtUtils::Command 1.17
ExtUtils::Install 1.57
ExtUtils::MakeMaker 6.58
ExtUtils::Manifest 1.60
ExtUtils::ParseXS 3.04
File::Spec 3.34
JSON 2.53
JSON::PP 2.27200
Module::Build 0.3800
Module::Signature n/a
Parse::CPAN::Meta 1.4401
Test::Harness 3.23
Test::More 0.98
YAML 0.75
YAML::Syck n/a
version 0.94
--
Summary of my perl5 (revision 5 version 15 subversion 3) configuration:
Platform:
osname=linux, osvers=2.6.35-28-generic, archname=x86_64-linux-ld
uname='linux zippy 2.6.35-28-generic #50-ubuntu smp fri mar 18 18:42:20 utc 2011 x86_64 gnulinux '
config_args='-de -Dprefix=/home/test/perl5/perlbrew/perls/perl-5.15.3 -Duselongdouble -Dusedevel'
hint=recommended, useposix=true, d_sigaction=define
useithreads=undef, usemultiplicity=undef
useperlio=define, d_sfio=undef, uselargefiles=define, usesocks=undef
use64bitint=define, use64bitall=define, uselongdouble=define
usemymalloc=n, bincompat5005=undef
Compiler:
cc='cc', ccflags ='-fno-strict-aliasing -pipe -fstack-protector -I/usr/local/include -D_LARGEFILE_SOURCE -D_FILE_OFFSET_BITS=64',
optimize='-O2',
cppflags='-fno-strict-aliasing -pipe -fstack-protector -I/usr/local/include'
ccversion='', gccversion='4.4.5', gccosandvers=''
intsize=4, longsize=8, ptrsize=8, doublesize=8, byteorder=12345678
d_longlong=define, longlongsize=8, d_longdbl=define, longdblsize=16
ivtype='long', ivsize=8, nvtype='long double', nvsize=16, Off_t='off_t', lseeksize=8
alignbytes=16, prototype=define
Linker and Libraries:
ld='cc', ldflags =' -fstack-protector -L/usr/local/lib'
libpth=/usr/local/lib /lib/../lib /usr/lib/../lib /lib /usr/lib /usr/lib/x86_64-linux-gnu /lib64 /usr/lib64
libs=-lnsl -ldl -lm -lcrypt -lutil -lc
perllibs=-lnsl -ldl -lm -lcrypt -lutil -lc
libc=/lib/libc-2.12.1.so, so=so, useshrplib=false, libperl=libperl.a
gnulibc_version='2.12.1'
Dynamic Linking:
dlsrc=dl_dlopen.xs, dlext=so, d_dlsymun=undef, ccdlflags='-Wl,-E'
cccdlflags='-fPIC', lddlflags='-shared -O2 -L/usr/local/lib -fstack-protector'
Characteristics of this binary (from libperl):
Compile-time options: HAS_TIMES PERLIO_LAYERS PERL_DONT_CREATE_GVSV
PERL_MALLOC_WRAP PERL_PRESERVE_IVUV PERL_USE_DEVEL
USE_64_BIT_ALL USE_64_BIT_INT USE_LARGE_FILES
USE_LOCALE USE_LOCALE_COLLATE USE_LOCALE_CTYPE
USE_LOCALE_NUMERIC USE_LONG_DOUBLE USE_PERLIO
USE_PERL_ATOF
Built under linux
Compiled at Sep 26 2011 13:29:19
%ENV:
PERL5LIB=""
PERL5OPT=""
PERL5_CPANPLUS_IS_RUNNING="9761"
PERL5_CPAN_IS_RUNNING="9761"
PERL5_CPAN_IS_RUNNING_IN_RECURSION="14326,9761"
PERLBREW_HOME="/home/test/.perlbrew"
PERLBREW_PATH="/home/test/perl5/perlbrew/bin:/home/test/perl5/perlbrew/perls/perl-5.15.3/bin"
PERLBREW_PERL="perl-5.15.3"
PERLBREW_ROOT="/home/test/perl5/perlbrew"
PERLBREW_VERSION="0.29"
PERL_CPANM_OPT="--prompt --mirror file:///mirrors/cpan/"
PERL_CR_SMOKER_CURRENT="Class-Value-Net-1.110250"
PERL_EXTUTILS_AUTOINSTALL="--defaultdeps"
PERL_MM_USE_DEFAULT="1"
@INC:
/home/test/perl5/perlbrew/perls/perl-5.15.3/lib/site_perl/5.15.3/x86_64-linux-ld
/home/test/perl5/perlbrew/perls/perl-5.15.3/lib/site_perl/5.15.3
/home/test/perl5/perlbrew/perls/perl-5.15.3/lib/5.15.3/x86_64-linux-ld
/home/test/perl5/perlbrew/perls/perl-5.15.3/lib/5.15.3
.