WWW-Mechanize-Firefox v0.80 Perl 5 v5.28.1 OpenBSD.amd64-openbsd-multi

Status
Pass
From
Alceu Rodrigues de Freitas Junior
Dist
WWW-Mechanize-Firefox v0.80
Platform
Perl 5 v5.28.1 OpenBSD.amd64-openbsd-multi
Date
2019-03-30 18:34:44
ID
7d4898b2-531a-11e9-b74b-c5f737ac362d
This distribution has been tested as part of the CPAN Testers
project, supporting the Perl programming language.  See
http://wiki.cpantesters.org/ for more information or email
questions to cpan-testers-discuss@perl.org


--
Dear Max Maischein,

This is a computer-generated report for WWW-Mechanize-Firefox-0.80
on perl 5.28.1, created by CPAN-Reporter-1.2018.

Thank you for uploading your work to CPAN.  Congratulations!
All tests were successful.

Sections of this report:

    * Tester comments
    * Program output
    * Prerequisites
    * Environment and other context

------------------------------
TESTER COMMENTS
------------------------------

Additional comments from tester:

this report is from an automated smoke testing program
and was not reviewed by a human for accuracy

------------------------------
PROGRAM OUTPUT
------------------------------

Output from '/usr/bin/make test':

PERL_DL_NONLAZY=1 "/home/goku/perl5/perlbrew/perls/perl-5.28.1-no-ithreads/bin/perl" "-MExtUtils::Command::MM" "-MTest::Harness" "-e" "undef *Test::Harness::Switches; test_harness(0, 'blib/lib', 'blib/arch')" t/00-load.t t/01-mech-destroy.t t/47-mech-memleak2.t t/47-mech-ref-memleak.t t/47-mech-simplest.t t/48-mech-launch.t t/49-mech-get-file.t t/49-mech-nav.t t/49-mech-reuse.t t/50-allow-js.t t/50-app-new.t t/50-app-profile.t t/50-click-coordinates-js.t t/50-click-coordinates.t t/50-click.t t/50-follow-link.t t/50-form-with-fields.t t/50-form2.t t/50-load-and-load.t t/50-mech-activateTab.t t/50-mech-bufsize.t t/50-mech-closeTab.t t/50-mech-content.t t/50-mech-ct.t t/50-mech-encoding.t t/50-mech-error.t t/50-mech-event.t t/50-mech-forms.t t/50-mech-get-nocache.t t/50-mech-get.t t/50-mech-multi-event.t t/50-mech-new-dsl.t t/50-mech-new-with-tab.t t/50-mech-new.t t/50-mech-post.t t/50-mech-save-dialog.t t/50-mech-set-fields-875912.t t/50-mech-status.t t/50-popup.t t/50-rt65615.t t/50-tick.t t/51-click_button.t t/51-click_js.t t/51-form-number-blakew.t t/51-mech-field.t t/51-mech-form-with-fields.t t/51-mech-links.t t/51-mech-navigation.t t/51-mech-sandbox.t t/51-mech-set-content.t t/51-mech-submit.t t/52-frame-document.t t/52-frame-event.t t/52-mech-api-find_link-frames.t t/52-mech-api-find_link.t t/52-mech-xpath.t t/52-selector-frames.t t/52-selector-noframes.t t/52-selector-relative.t t/53-mech-capture-js-error.t t/55-basic-auth.t t/60-mech-cookies.t t/60-mech-custom-headers.t t/65-is_visible.t t/65-mech-meta.t t/65-set_visible.t t/70-download-url.t t/70-mech-png.t t/70-real-status.t t/70-rt70106-reload.t t/70-rt71216.t t/70-tag-team.t t/70-two-instances.t t/70-urlbar.t t/75-save_url-cookies.t t/rt65615.t t/rt78706.t t/rt84418.t t/rt88100-continuation.t t/select.t t/mechanize/autocheck.t t/mechanize/content.t
# Testing WWW::Mechanize::Firefox 0.80, Perl 5.028001
# Carp 1.50
# Config 5.028001
# DynaLoader 1.45
# Encode 3.01
# Encode::Alias 2.24
# Encode::Config 2.05
# Encode::Encoding 2.08
# Encode::MIME::Name 1.03
# Exporter 5.73
# Exporter::Heavy 5.73
# Fcntl 1.13
# File::Basename 2.85
# Firefox::Application 0.80
# HTML::Selector::XPath 0.25
# HTTP::Cookies 6.04
# HTTP::Cookies::MozRepl 0.80
# HTTP::Cookies::Netscape 6.04
# HTTP::Date 6.02
# HTTP::Headers 6.20
# HTTP::Headers::Util 6.20
# HTTP::Message 6.20
# HTTP::Request 6.20
# HTTP::Request::Common 6.20
# HTTP::Response 6.20
# HTTP::Status 6.20
# Importer 0.025
# JSON 4.02
# JSON::XS 4.02
# List::Util 1.5
# MIME::Base64 3.15
# MIME::Charset 1.012.2
# MozRepl::RemoteObject 0.40
# MozRepl::RemoteObject::Methods 0.40
# POSIX 1.84
# PerlIO 1.10
# Scalar::Util 1.5
# Storable 3.1204
# Storable::Limit <unknown>
# Sub::Util 1.5
# Term::ReadKey 2.38
# Term::Size::Any 0.002
# Term::Size::Perl 0.031
# Term::Size::Perl::Params 0.031
# Term::Table 0.013
# Term::Table::Cell 0.013
# Term::Table::HashBase 0.003
# Term::Table::LineBreak 0.013
# Term::Table::Util 0.013
# Test::Builder 1.302162
# Test::Builder::Formatter 1.302162
# Test::Builder::Module 1.302162
# Test::Builder::TodoDiag 1.302162
# Test::More 1.302162
# Test2::API 1.302162
# Test2::API::Context 1.302162
# Test2::API::Instance 1.302162
# Test2::API::Stack 1.302162
# Test2::Event 1.302162
# Test2::Event::Bail 1.302162
# Test2::Event::Diag 1.302162
# Test2::Event::Exception 1.302162
# Test2::Event::Fail 1.302162
# Test2::Event::Note 1.302162
# Test2::Event::Ok 1.302162
# Test2::Event::Pass 1.302162
# Test2::Event::Plan 1.302162
# Test2::Event::Skip 1.302162
# Test2::Event::Subtest 1.302162
# Test2::Event::V2 1.302162
# Test2::Event::Waiting 1.302162
# Test2::EventFacet 1.302162
# Test2::EventFacet::About 1.302162
# Test2::EventFacet::Amnesty 1.302162
# Test2::EventFacet::Assert 1.302162
# Test2::EventFacet::Control 1.302162
# Test2::EventFacet::Error 1.302162
# Test2::EventFacet::Hub 1.302162
# Test2::EventFacet::Info 1.302162
# Test2::EventFacet::Meta 1.302162
# Test2::EventFacet::Parent 1.302162
# Test2::EventFacet::Plan 1.302162
# Test2::EventFacet::Trace 1.302162
# Test2::Formatter 1.302162
# Test2::Formatter::TAP 1.302162
# Test2::Hub 1.302162
# Test2::Hub::Interceptor 1.302162
# Test2::Hub::Interceptor::Terminator 1.302162
# Test2::Hub::Subtest 1.302162
# Test2::Util 1.302162
# Test2::Util::ExternalMeta 1.302162
# Test2::Util::Facets2Legacy 1.302162
# Test2::Util::HashBase 1.302162
# Test2::Util::Trace 1.302162
# Tie::Hash 1.05
# Time::HiRes 1.976
# Time::Local 1.28
# Try::Tiny 0.30
# Types::Serialiser 1.0
# URI 1.76
# URI::Escape 3.31
# Unicode::GCString 2013.10
# Unicode::LineBreak 2019.001
# Unicode::LineBreak::Constants <unknown>
# WWW::Mechanize::Firefox 0.80
# WWW::Mechanize::Link 1.91
# XSLoader 0.30
# attributes 0.33
# base 2.27
# bytes 1.06
# common::sense 3.74
# constant 1.33
# mro 1.22
# overload 1.30
# overloading 0.02
# parent 0.236
# re 0.36
# strict 1.11
# vars 1.04
# warnings 1.42
# warnings::register 1.04
t/00-load.t ....................... ok
t/01-mech-destroy.t ............... skipped: Couldn't connect to MozRepl: Failed to connect to , problem connecting to "localhost", port 4242: Connection refused at /home/goku/perl5/perlbrew/perls/perl-5.28.1-no-ithreads/lib/site_perl/5.28.1/MozRepl/Client.pm line 144
t/47-mech-memleak2.t .............. skipped: Couldn't connect to MozRepl: Failed to connect to , problem connecting to "localhost", port 4242: Connection refused at /home/goku/perl5/perlbrew/perls/perl-5.28.1-no-ithreads/lib/site_perl/5.28.1/MozRepl/Client.pm line 144
t/47-mech-ref-memleak.t ........... skipped: Couldn't connect to MozRepl: Failed to connect to , problem connecting to "localhost", port 4242: Connection refused at /home/goku/perl5/perlbrew/perls/perl-5.28.1-no-ithreads/lib/site_perl/5.28.1/MozRepl/Client.pm line 144
t/47-mech-simplest.t .............. skipped: Couldn't connect to MozRepl: Failed to connect to , problem connecting to "localhost", port 4242: Connection refused at /home/goku/perl5/perlbrew/perls/perl-5.28.1-no-ithreads/lib/site_perl/5.28.1/MozRepl/Client.pm line 144
t/48-mech-launch.t ................ skipped: Couldn't connect to MozRepl: file not found: C:/Programme/Mozilla Firefox/firefox at /home/goku/perl5/perlbrew/perls/perl-5.28.1-no-ithreads/lib/site_perl/5.28.1/MozRepl/RemoteObject.pm line 463.
t/49-mech-get-file.t .............. skipped: Couldn't connect to MozRepl: Failed to connect to , problem connecting to "localhost", port 4242: Connection refused at /home/goku/perl5/perlbrew/perls/perl-5.28.1-no-ithreads/lib/site_perl/5.28.1/MozRepl/Client.pm line 144
t/49-mech-nav.t ................... skipped: Couldn't connect to MozRepl: Failed to connect to , problem connecting to "localhost", port 4242: Connection refused at /home/goku/perl5/perlbrew/perls/perl-5.28.1-no-ithreads/lib/site_perl/5.28.1/MozRepl/Client.pm line 144
t/49-mech-reuse.t ................. skipped: Couldn't connect to MozRepl: Failed to connect to , problem connecting to "localhost", port 4242: Connection refused at /home/goku/perl5/perlbrew/perls/perl-5.28.1-no-ithreads/lib/site_perl/5.28.1/MozRepl/Client.pm line 144
t/50-allow-js.t ................... skipped: Couldn't connect to MozRepl: Failed to connect to , problem connecting to "localhost", port 4242: Connection refused at /home/goku/perl5/perlbrew/perls/perl-5.28.1-no-ithreads/lib/site_perl/5.28.1/MozRepl/Client.pm line 144
t/50-app-new.t .................... skipped: Couldn't connect to MozRepl: Failed to connect to , problem connecting to "localhost", port 4242: Connection refused at /home/goku/perl5/perlbrew/perls/perl-5.28.1-no-ithreads/lib/site_perl/5.28.1/MozRepl/Client.pm line 144
t/50-app-profile.t ................ skipped: Couldn't connect to MozRepl: Failed to connect to , problem connecting to "localhost", port 4242: Connection refused at /home/goku/perl5/perlbrew/perls/perl-5.28.1-no-ithreads/lib/site_perl/5.28.1/MozRepl/Client.pm line 144
"my" variable $type masks earlier declaration in same scope at t/50-click-coordinates-js.t line 45.
t/50-click-coordinates-js.t ....... skipped: Couldn't connect to MozRepl: Failed to connect to , problem connecting to "localhost", port 4242: Connection refused at /home/goku/perl5/perlbrew/perls/perl-5.28.1-no-ithreads/lib/site_perl/5.28.1/MozRepl/Client.pm line 144
t/50-click-coordinates.t .......... skipped: ISMAP seems unsupported from Javascript. Need to investigate further.
t/50-click.t ...................... skipped: Couldn't connect to MozRepl: Failed to connect to , problem connecting to "localhost", port 4242: Connection refused at /home/goku/perl5/perlbrew/perls/perl-5.28.1-no-ithreads/lib/site_perl/5.28.1/MozRepl/Client.pm line 144
t/50-follow-link.t ................ skipped: Couldn't connect to MozRepl: Failed to connect to , problem connecting to "localhost", port 4242: Connection refused at /home/goku/perl5/perlbrew/perls/perl-5.28.1-no-ithreads/lib/site_perl/5.28.1/MozRepl/Client.pm line 144
t/50-form-with-fields.t ........... skipped: Couldn't connect to MozRepl: Failed to connect to , problem connecting to "localhost", port 4242: Connection refused at /home/goku/perl5/perlbrew/perls/perl-5.28.1-no-ithreads/lib/site_perl/5.28.1/MozRepl/Client.pm line 144
t/50-form2.t ...................... skipped: Couldn't connect to MozRepl: Failed to connect to , problem connecting to "localhost", port 4242: Connection refused at /home/goku/perl5/perlbrew/perls/perl-5.28.1-no-ithreads/lib/site_perl/5.28.1/MozRepl/Client.pm line 144
t/50-load-and-load.t .............. skipped: Couldn't connect to MozRepl: Failed to connect to , problem connecting to "localhost", port 4242: Connection refused at /home/goku/perl5/perlbrew/perls/perl-5.28.1-no-ithreads/lib/site_perl/5.28.1/MozRepl/Client.pm line 144
t/50-mech-activateTab.t ........... skipped: Couldn't connect to MozRepl: Failed to connect to , problem connecting to "localhost", port 4242: Connection refused at /home/goku/perl5/perlbrew/perls/perl-5.28.1-no-ithreads/lib/site_perl/5.28.1/MozRepl/Client.pm line 144
t/50-mech-bufsize.t ............... skipped: Couldn't connect to MozRepl: Failed to connect to , problem connecting to "localhost", port 4242: Connection refused at /home/goku/perl5/perlbrew/perls/perl-5.28.1-no-ithreads/lib/site_perl/5.28.1/MozRepl/Client.pm line 144
t/50-mech-closeTab.t .............. skipped: Couldn't connect to MozRepl: Failed to connect to , problem connecting to "localhost", port 4242: Connection refused at /home/goku/perl5/perlbrew/perls/perl-5.28.1-no-ithreads/lib/site_perl/5.28.1/MozRepl/Client.pm line 144
t/50-mech-content.t ............... skipped: Couldn't connect to MozRepl: Failed to connect to , problem connecting to "localhost", port 4242: Connection refused at /home/goku/perl5/perlbrew/perls/perl-5.28.1-no-ithreads/lib/site_perl/5.28.1/MozRepl/Client.pm line 144
t/50-mech-ct.t .................... skipped: Couldn't connect to MozRepl: Failed to connect to , problem connecting to "localhost", port 4242: Connection refused at /home/goku/perl5/perlbrew/perls/perl-5.28.1-no-ithreads/lib/site_perl/5.28.1/MozRepl/Client.pm line 144
t/50-mech-encoding.t .............. skipped: Couldn't connect to MozRepl: Failed to connect to , problem connecting to "localhost", port 4242: Connection refused at /home/goku/perl5/perlbrew/perls/perl-5.28.1-no-ithreads/lib/site_perl/5.28.1/MozRepl/Client.pm line 144
t/50-mech-error.t ................. skipped: Couldn't connect to MozRepl: Failed to connect to , problem connecting to "localhost", port 4242: Connection refused at /home/goku/perl5/perlbrew/perls/perl-5.28.1-no-ithreads/lib/site_perl/5.28.1/MozRepl/Client.pm line 144
t/50-mech-event.t ................. skipped: Couldn't connect to MozRepl: Failed to connect to , problem connecting to "localhost", port 4242: Connection refused at /home/goku/perl5/perlbrew/perls/perl-5.28.1-no-ithreads/lib/site_perl/5.28.1/MozRepl/Client.pm line 144
t/50-mech-forms.t ................. skipped: Couldn't connect to MozRepl: Failed to connect to , problem connecting to "localhost", port 4242: Connection refused at /home/goku/perl5/perlbrew/perls/perl-5.28.1-no-ithreads/lib/site_perl/5.28.1/MozRepl/Client.pm line 144
t/50-mech-get-nocache.t ........... skipped: Couldn't connect to MozRepl: Failed to connect to , problem connecting to "localhost", port 4242: Connection refused at /home/goku/perl5/perlbrew/perls/perl-5.28.1-no-ithreads/lib/site_perl/5.28.1/MozRepl/Client.pm line 144
t/50-mech-get.t ................... skipped: Couldn't connect to MozRepl: Failed to connect to , problem connecting to "localhost", port 4242: Connection refused at /home/goku/perl5/perlbrew/perls/perl-5.28.1-no-ithreads/lib/site_perl/5.28.1/MozRepl/Client.pm line 144
t/50-mech-multi-event.t ........... skipped: Couldn't connect to MozRepl: Failed to connect to , problem connecting to "localhost", port 4242: Connection refused at /home/goku/perl5/perlbrew/perls/perl-5.28.1-no-ithreads/lib/site_perl/5.28.1/MozRepl/Client.pm line 144
t/50-mech-new-dsl.t ............... skipped: Couldn't connect to MozRepl: Failed to connect to , problem connecting to "localhost", port 4242: Connection refused at /home/goku/perl5/perlbrew/perls/perl-5.28.1-no-ithreads/lib/site_perl/5.28.1/MozRepl/Client.pm line 144
t/50-mech-new-with-tab.t .......... skipped: Couldn't connect to MozRepl: Failed to connect to , problem connecting to "localhost", port 4242: Connection refused at /home/goku/perl5/perlbrew/perls/perl-5.28.1-no-ithreads/lib/site_perl/5.28.1/MozRepl/Client.pm line 144
t/50-mech-new.t ................... skipped: Couldn't connect to MozRepl: Failed to connect to , problem connecting to "localhost", port 4242: Connection refused at /home/goku/perl5/perlbrew/perls/perl-5.28.1-no-ithreads/lib/site_perl/5.28.1/MozRepl/Client.pm line 144
t/50-mech-post.t .................. skipped: Couldn't connect to MozRepl: Failed to connect to , problem connecting to "localhost", port 4242: Connection refused at /home/goku/perl5/perlbrew/perls/perl-5.28.1-no-ithreads/lib/site_perl/5.28.1/MozRepl/Client.pm line 144
t/50-mech-save-dialog.t ........... skipped: Couldn't connect to MozRepl: Failed to connect to , problem connecting to "localhost", port 4242: Connection refused at /home/goku/perl5/perlbrew/perls/perl-5.28.1-no-ithreads/lib/site_perl/5.28.1/MozRepl/Client.pm line 144
t/50-mech-set-fields-875912.t ..... skipped: Couldn't connect to MozRepl: Failed to connect to , problem connecting to "localhost", port 4242: Connection refused at /home/goku/perl5/perlbrew/perls/perl-5.28.1-no-ithreads/lib/site_perl/5.28.1/MozRepl/Client.pm line 144
t/50-mech-status.t ................ skipped: Couldn't connect to MozRepl: Failed to connect to , problem connecting to "localhost", port 4242: Connection refused at /home/goku/perl5/perlbrew/perls/perl-5.28.1-no-ithreads/lib/site_perl/5.28.1/MozRepl/Client.pm line 144
t/50-popup.t ...................... skipped: Opening windows are not yet tracked
t/50-rt65615.t .................... skipped: Couldn't connect to MozRepl: Failed to connect to , problem connecting to "localhost", port 4242: Connection refused at /home/goku/perl5/perlbrew/perls/perl-5.28.1-no-ithreads/lib/site_perl/5.28.1/MozRepl/Client.pm line 144
t/50-tick.t ....................... skipped: Couldn't connect to MozRepl: Failed to connect to , problem connecting to "localhost", port 4242: Connection refused at /home/goku/perl5/perlbrew/perls/perl-5.28.1-no-ithreads/lib/site_perl/5.28.1/MozRepl/Client.pm line 144
t/51-click_button.t ............... skipped: Couldn't connect to MozRepl: Failed to connect to , problem connecting to "localhost", port 4242: Connection refused at /home/goku/perl5/perlbrew/perls/perl-5.28.1-no-ithreads/lib/site_perl/5.28.1/MozRepl/Client.pm line 144
t/51-click_js.t ................... skipped: Couldn't connect to MozRepl: Failed to connect to , problem connecting to "localhost", port 4242: Connection refused at /home/goku/perl5/perlbrew/perls/perl-5.28.1-no-ithreads/lib/site_perl/5.28.1/MozRepl/Client.pm line 144
t/51-form-number-blakew.t ......... skipped: Couldn't connect to MozRepl: Failed to connect to , problem connecting to "localhost", port 4242: Connection refused at /home/goku/perl5/perlbrew/perls/perl-5.28.1-no-ithreads/lib/site_perl/5.28.1/MozRepl/Client.pm line 144
t/51-mech-field.t ................. skipped: Couldn't connect to MozRepl: Failed to connect to , problem connecting to "localhost", port 4242: Connection refused at /home/goku/perl5/perlbrew/perls/perl-5.28.1-no-ithreads/lib/site_perl/5.28.1/MozRepl/Client.pm line 144
t/51-mech-form-with-fields.t ...... skipped: Couldn't connect to MozRepl: Failed to connect to , problem connecting to "localhost", port 4242: Connection refused at /home/goku/perl5/perlbrew/perls/perl-5.28.1-no-ithreads/lib/site_perl/5.28.1/MozRepl/Client.pm line 144
t/51-mech-links.t ................. skipped: Couldn't connect to MozRepl: Failed to connect to , problem connecting to "localhost", port 4242: Connection refused at /home/goku/perl5/perlbrew/perls/perl-5.28.1-no-ithreads/lib/site_perl/5.28.1/MozRepl/Client.pm line 144
t/51-mech-navigation.t ............ skipped: Couldn't connect to MozRepl: Failed to connect to , problem connecting to "localhost", port 4242: Connection refused at /home/goku/perl5/perlbrew/perls/perl-5.28.1-no-ithreads/lib/site_perl/5.28.1/MozRepl/Client.pm line 144
t/51-mech-sandbox.t ............... skipped: Couldn't connect to MozRepl: Failed to connect to , problem connecting to "localhost", port 4242: Connection refused at /home/goku/perl5/perlbrew/perls/perl-5.28.1-no-ithreads/lib/site_perl/5.28.1/MozRepl/Client.pm line 144
t/51-mech-set-content.t ........... skipped: Couldn't connect to MozRepl: Failed to connect to , problem connecting to "localhost", port 4242: Connection refused at /home/goku/perl5/perlbrew/perls/perl-5.28.1-no-ithreads/lib/site_perl/5.28.1/MozRepl/Client.pm line 144
t/51-mech-submit.t ................ skipped: Couldn't connect to MozRepl: Failed to connect to , problem connecting to "localhost", port 4242: Connection refused at /home/goku/perl5/perlbrew/perls/perl-5.28.1-no-ithreads/lib/site_perl/5.28.1/MozRepl/Client.pm line 144
t/52-frame-document.t ............. skipped: Couldn't connect to MozRepl: Failed to connect to , problem connecting to "localhost", port 4242: Connection refused at /home/goku/perl5/perlbrew/perls/perl-5.28.1-no-ithreads/lib/site_perl/5.28.1/MozRepl/Client.pm line 144
t/52-frame-event.t ................ skipped: Couldn't connect to MozRepl: Failed to connect to , problem connecting to "localhost", port 4242: Connection refused at /home/goku/perl5/perlbrew/perls/perl-5.28.1-no-ithreads/lib/site_perl/5.28.1/MozRepl/Client.pm line 144
t/52-mech-api-find_link-frames.t .. skipped: Couldn't connect to MozRepl: Failed to connect to , problem connecting to "localhost", port 4242: Connection refused at /home/goku/perl5/perlbrew/perls/perl-5.28.1-no-ithreads/lib/site_perl/5.28.1/MozRepl/Client.pm line 144
t/52-mech-api-find_link.t ......... skipped: Couldn't connect to MozRepl: Failed to connect to , problem connecting to "localhost", port 4242: Connection refused at /home/goku/perl5/perlbrew/perls/perl-5.28.1-no-ithreads/lib/site_perl/5.28.1/MozRepl/Client.pm line 144
t/52-mech-xpath.t ................. skipped: Couldn't connect to MozRepl: Failed to connect to , problem connecting to "localhost", port 4242: Connection refused at /home/goku/perl5/perlbrew/perls/perl-5.28.1-no-ithreads/lib/site_perl/5.28.1/MozRepl/Client.pm line 144
t/52-selector-frames.t ............ skipped: Couldn't connect to MozRepl: Failed to connect to , problem connecting to "localhost", port 4242: Connection refused at /home/goku/perl5/perlbrew/perls/perl-5.28.1-no-ithreads/lib/site_perl/5.28.1/MozRepl/Client.pm line 144
t/52-selector-noframes.t .......... skipped: Couldn't connect to MozRepl: Failed to connect to , problem connecting to "localhost", port 4242: Connection refused at /home/goku/perl5/perlbrew/perls/perl-5.28.1-no-ithreads/lib/site_perl/5.28.1/MozRepl/Client.pm line 144
t/52-selector-relative.t .......... skipped: Couldn't connect to MozRepl: Failed to connect to , problem connecting to "localhost", port 4242: Connection refused at /home/goku/perl5/perlbrew/perls/perl-5.28.1-no-ithreads/lib/site_perl/5.28.1/MozRepl/Client.pm line 144
t/53-mech-capture-js-error.t ...... skipped: Couldn't connect to MozRepl: Failed to connect to , problem connecting to "localhost", port 4242: Connection refused at /home/goku/perl5/perlbrew/perls/perl-5.28.1-no-ithreads/lib/site_perl/5.28.1/MozRepl/Client.pm line 144
t/55-basic-auth.t ................. skipped: presetting auth does not work yet
t/60-mech-cookies.t ............... skipped: Couldn't connect to MozRepl: Failed to connect to , problem connecting to "localhost", port 4242: Connection refused at /home/goku/perl5/perlbrew/perls/perl-5.28.1-no-ithreads/lib/site_perl/5.28.1/MozRepl/Client.pm line 144
t/60-mech-custom-headers.t ........ skipped: Couldn't connect to MozRepl: Failed to connect to , problem connecting to "localhost", port 4242: Connection refused at /home/goku/perl5/perlbrew/perls/perl-5.28.1-no-ithreads/lib/site_perl/5.28.1/MozRepl/Client.pm line 144
t/65-is_visible.t ................. skipped: Couldn't connect to MozRepl: Failed to connect to , problem connecting to "localhost", port 4242: Connection refused at /home/goku/perl5/perlbrew/perls/perl-5.28.1-no-ithreads/lib/site_perl/5.28.1/MozRepl/Client.pm line 144
t/65-mech-meta.t .................. skipped: Couldn't connect to MozRepl: Failed to connect to , problem connecting to "localhost", port 4242: Connection refused at /home/goku/perl5/perlbrew/perls/perl-5.28.1-no-ithreads/lib/site_perl/5.28.1/MozRepl/Client.pm line 144
t/65-set_visible.t ................ skipped: Couldn't connect to MozRepl: Failed to connect to , problem connecting to "localhost", port 4242: Connection refused at /home/goku/perl5/perlbrew/perls/perl-5.28.1-no-ithreads/lib/site_perl/5.28.1/MozRepl/Client.pm line 144
t/70-download-url.t ............... skipped: Couldn't connect to MozRepl: Failed to connect to , problem connecting to "localhost", port 4242: Connection refused at /home/goku/perl5/perlbrew/perls/perl-5.28.1-no-ithreads/lib/site_perl/5.28.1/MozRepl/Client.pm line 144
t/70-mech-png.t ................... skipped: Couldn't connect to MozRepl: Failed to connect to , problem connecting to "localhost", port 4242: Connection refused at /home/goku/perl5/perlbrew/perls/perl-5.28.1-no-ithreads/lib/site_perl/5.28.1/MozRepl/Client.pm line 144
t/70-real-status.t ................ skipped: Couldn't connect to MozRepl: Failed to connect to , problem connecting to "localhost", port 4242: Connection refused at /home/goku/perl5/perlbrew/perls/perl-5.28.1-no-ithreads/lib/site_perl/5.28.1/MozRepl/Client.pm line 144
t/70-rt70106-reload.t ............. skipped: Couldn't connect to MozRepl: Failed to connect to , problem connecting to "localhost", port 4242: Connection refused at /home/goku/perl5/perlbrew/perls/perl-5.28.1-no-ithreads/lib/site_perl/5.28.1/MozRepl/Client.pm line 144
t/70-rt71216.t .................... skipped: Couldn't connect to MozRepl: Failed to connect to , problem connecting to "localhost", port 4242: Connection refused at /home/goku/perl5/perlbrew/perls/perl-5.28.1-no-ithreads/lib/site_perl/5.28.1/MozRepl/Client.pm line 144
t/70-tag-team.t ................... skipped: Couldn't connect to MozRepl: Failed to connect to , problem connecting to "localhost", port 4242: Connection refused at /home/goku/perl5/perlbrew/perls/perl-5.28.1-no-ithreads/lib/site_perl/5.28.1/MozRepl/Client.pm line 144
t/70-two-instances.t .............. skipped: Couldn't connect to MozRepl: Failed to connect to , problem connecting to "localhost", port 4242: Connection refused at /home/goku/perl5/perlbrew/perls/perl-5.28.1-no-ithreads/lib/site_perl/5.28.1/MozRepl/Client.pm line 144
t/70-urlbar.t ..................... skipped: Couldn't connect to MozRepl: Failed to connect to , problem connecting to "localhost", port 4242: Connection refused at /home/goku/perl5/perlbrew/perls/perl-5.28.1-no-ithreads/lib/site_perl/5.28.1/MozRepl/Client.pm line 144
t/75-save_url-cookies.t ........... skipped: Couldn't connect to MozRepl: Failed to connect to , problem connecting to "localhost", port 4242: Connection refused at /home/goku/perl5/perlbrew/perls/perl-5.28.1-no-ithreads/lib/site_perl/5.28.1/MozRepl/Client.pm line 144
t/mechanize/autocheck.t ........... skipped: Couldn't connect to MozRepl: Failed to connect to , problem connecting to "localhost", port 4242: Connection refused at /home/goku/perl5/perlbrew/perls/perl-5.28.1-no-ithreads/lib/site_perl/5.28.1/MozRepl/Client.pm line 144
t/mechanize/content.t ............. skipped: Couldn't connect to MozRepl: Failed to connect to , problem connecting to "localhost", port 4242: Connection refused at /home/goku/perl5/perlbrew/perls/perl-5.28.1-no-ithreads/lib/site_perl/5.28.1/MozRepl/Client.pm line 144
t/rt65615.t ....................... skipped: Couldn't connect to MozRepl: Failed to connect to , problem connecting to "localhost", port 4242: Connection refused at /home/goku/perl5/perlbrew/perls/perl-5.28.1-no-ithreads/lib/site_perl/5.28.1/MozRepl/Client.pm line 144
t/rt78706.t ....................... skipped: Couldn't connect to MozRepl: Failed to connect to , problem connecting to "localhost", port 4242: Connection refused at /home/goku/perl5/perlbrew/perls/perl-5.28.1-no-ithreads/lib/site_perl/5.28.1/MozRepl/Client.pm line 144
t/rt84418.t ....................... skipped: Couldn't connect to MozRepl: Failed to connect to , problem connecting to "localhost", port 4242: Connection refused at /home/goku/perl5/perlbrew/perls/perl-5.28.1-no-ithreads/lib/site_perl/5.28.1/MozRepl/Client.pm line 144
t/rt88100-continuation.t .......... skipped: Couldn't connect to MozRepl: Failed to connect to , problem connecting to "localhost", port 4242: Connection refused at /home/goku/perl5/perlbrew/perls/perl-5.28.1-no-ithreads/lib/site_perl/5.28.1/MozRepl/Client.pm line 144
t/select.t ........................ skipped: Couldn't connect to MozRepl: Failed to connect to , problem connecting to "localhost", port 4242: Connection refused at /home/goku/perl5/perlbrew/perls/perl-5.28.1-no-ithreads/lib/site_perl/5.28.1/MozRepl/Client.pm line 144
All tests successful.
Files=82, Tests=1, 27 wallclock secs ( 0.16 usr  0.64 sys + 17.36 cusr  6.51 csys = 24.67 CPU)
Result: PASS

------------------------------
PREREQUISITES
------------------------------

Prerequisite modules loaded:

requires:

    Module                  Need  Have    
    ----------------------- ----- --------
    Cwd                     0     3.75    
    File::Basename          0     2.85    
    HTML::Selector::XPath   0     0.25    
    HTTP::Cookies           0     6.04    
    HTTP::Date              0     6.02    
    HTTP::Request::Common   0     6.20    
    HTTP::Response          0     6.20    
    MIME::Base64            0     3.15    
    MozRepl::RemoteObject   0.39  0.40    
    Object::Import          0     1.005   
    parent                  0     0.236   
    perl                    5.006 5.028001
    Scalar::Util            1.14  1.50    
    Shell::Command          0     0.06    
    URI                     0     1.76    
    URI::data               0     1.76    
    WWW::Mechanize          0     1.91    
    WWW::Mechanize::Link    0     1.91    

build_requires:

    Module                  Need  Have    
    ----------------------- ----- --------
    Data::Dumper            0     2.173   
    ExtUtils::MakeMaker     0     7.35_10 
    Image::Info             0     1.41    
    Test::Deep              0     1.128   
    Test::HTTP::LocalServer 0.61  0.64    
    Test::More              0     1.302162
    URI                     0     1.76    
    URI::file               0     4.21    

configure_requires:

    Module                  Need  Have    
    ----------------------- ----- --------
    ExtUtils::MakeMaker     0     7.35_10 


------------------------------
ENVIRONMENT AND OTHER CONTEXT
------------------------------

Environment variables:

    AUTOMATED_TESTING = 1
    DBD_MYSQL_TESTDB = test
    DBD_MYSQL_TESTHOST = localhost
    DBD_MYSQL_TESTPASSWORD = 
    DBD_MYSQL_TESTPORT = 3306
    DBD_MYSQL_TESTUSER = goku
    EXTENDED_TESTING = 1
    PATH = /home/goku/perl5/perlbrew/bin:/home/goku/perl5/perlbrew/perls/perl-5.28.1-no-ithreads/bin:/home/goku/bin:/usr/bin:/bin:/usr/sbin:/sbin:/usr/X11R6/bin:/usr/local/bin:/usr/local/sbin
    PERL5LIB = 
    PERL5OPT = 
    PERL5_CPANPLUS_IS_RUNNING = 45523
    PERL5_CPAN_IS_RUNNING = 45523
    PERL5_CPAN_IS_RUNNING_IN_RECURSION = 12596,45523
    PERLBREW_HOME = /home/goku/.perlbrew
    PERLBREW_MANPATH = /home/goku/perl5/perlbrew/perls/perl-5.28.1-no-ithreads/man
    PERLBREW_PATH = /home/goku/perl5/perlbrew/bin:/home/goku/perl5/perlbrew/perls/perl-5.28.1-no-ithreads/bin
    PERLBREW_PERL = perl-5.28.1-no-ithreads
    PERLBREW_ROOT = /home/goku/perl5/perlbrew
    PERLBREW_SHELLRC_VERSION = 0.86
    PERLBREW_VERSION = 0.86
    PERL_CR_SMOKER_CURRENT = WWW-Mechanize-Firefox-0.80
    PERL_EXTUTILS_AUTOINSTALL = --defaultdeps
    PERL_MM_USE_DEFAULT = 1
    PERL_USE_UNSAFE_INC = 1
    SHELL = /usr/local/bin/bash
    TERM = xterm

Perl special variables (and OS-specific diagnostics, for MSWin32):

    $^X = /home/goku/perl5/perlbrew/perls/perl-5.28.1-no-ithreads/bin/perl
    $UID/$EUID = 1001 / 1001
    $GID = 999 999 1001
    $EGID = 999 999 1001

Perl module toolchain versions installed:

    Module              Have    
    ------------------- --------
    CPAN                2.26    
    CPAN::Meta          2.150010
    Cwd                 3.75    
    ExtUtils::CBuilder  0.280230
    ExtUtils::Command   7.35_10 
    ExtUtils::Install   2.14    
    ExtUtils::MakeMaker 7.35_10 
    ExtUtils::Manifest  1.72    
    ExtUtils::ParseXS   3.39    
    File::Spec          3.75    
    JSON                4.02    
    JSON::PP            4.02    
    Module::Build       0.4224  
    Module::Signature   n/a     
    Parse::CPAN::Meta   2.150010
    Test::Harness       3.42    
    Test::More          1.302162
    YAML                1.27    
    YAML::Syck          n/a     
    version             0.9924  


--

Summary of my perl5 (revision 5 version 28 subversion 1) configuration:
   
  Platform:
    osname=openbsd
    osvers=6.4
    archname=OpenBSD.amd64-openbsd-multi
    uname='openbsd cpan-smoker-openbsd 6.4 generic.mp#364 amd64 '
    config_args='-de -Dprefix=/home/goku/perl5/perlbrew/perls/perl-5.28.1-no-ithreads -Dman1dir=none -Dman3dir=none -Dusemultiplicity -Duse64bitint -Duse64bitall -Aeval:scriptdir=/home/goku/perl5/perlbrew/perls/perl-5.28.1-no-ithreads/bin'
    hint=recommended
    useposix=true
    d_sigaction=define
    useithreads=undef
    usemultiplicity=define
    use64bitint=define
    use64bitall=define
    uselongdouble=undef
    usemymalloc=n
    default_inc_excludes_dot=define
    bincompat5005=undef
  Compiler:
    cc='cc'
    ccflags ='-fno-strict-aliasing -pipe -fstack-protector-strong -I/usr/local/include -D_FORTIFY_SOURCE=2'
    optimize='-O2'
    cppflags='-fno-strict-aliasing -pipe -fstack-protector-strong -I/usr/local/include'
    ccversion=''
    gccversion='4.2.1 Compatible OpenBSD Clang 6.0.0 (tags/RELEASE_600/final)'
    gccosandvers=''
    intsize=4
    longsize=8
    ptrsize=8
    doublesize=8
    byteorder=12345678
    doublekind=3
    d_longlong=define
    longlongsize=8
    d_longdbl=define
    longdblsize=16
    longdblkind=3
    ivtype='long'
    ivsize=8
    nvtype='double'
    nvsize=8
    Off_t='off_t'
    lseeksize=8
    alignbytes=8
    prototype=define
  Linker and Libraries:
    ld='cc'
    ldflags ='-Wl,-E  -fstack-protector-strong -L/usr/local/lib'
    libpth=/usr/lib /usr/local/lib
    libs=-lpthread -lm -lutil -lc
    perllibs=-lpthread -lm -lutil -lc
    libc=/usr/lib/libc.so.92.5
    so=so
    useshrplib=false
    libperl=libperl.a
    gnulibc_version=''
  Dynamic Linking:
    dlsrc=dl_dlopen.xs
    dlext=so
    d_dlsymun=undef
    ccdlflags=' '
    cccdlflags='-DPIC -fPIC '
    lddlflags='-shared -fPIC  -L/usr/local/lib -fstack-protector-strong'


Characteristics of this binary (from libperl): 
  Compile-time options:
    HAS_TIMES
    MULTIPLICITY
    PERLIO_LAYERS
    PERL_COPY_ON_WRITE
    PERL_DONT_CREATE_GVSV
    PERL_IMPLICIT_CONTEXT
    PERL_MALLOC_WRAP
    PERL_OP_PARENT
    PERL_PRESERVE_IVUV
    USE_64_BIT_ALL
    USE_64_BIT_INT
    USE_LARGE_FILES
    USE_LOCALE
    USE_LOCALE_COLLATE
    USE_LOCALE_CTYPE
    USE_LOCALE_NUMERIC
    USE_LOCALE_TIME
    USE_PERLIO
    USE_PERL_ATOF
  Locally applied patches:
    Devel::PatchPerl 1.52
  Built under openbsd
  Compiled at Mar 22 2019 12:28:09
  %ENV:
    PERL5LIB=""
    PERL5OPT=""
    PERL5_CPANPLUS_IS_RUNNING="45523"
    PERL5_CPAN_IS_RUNNING="45523"
    PERL5_CPAN_IS_RUNNING_IN_RECURSION="12596,45523"
    PERLBREW_HOME="/home/goku/.perlbrew"
    PERLBREW_MANPATH="/home/goku/perl5/perlbrew/perls/perl-5.28.1-no-ithreads/man"
    PERLBREW_PATH="/home/goku/perl5/perlbrew/bin:/home/goku/perl5/perlbrew/perls/perl-5.28.1-no-ithreads/bin"
    PERLBREW_PERL="perl-5.28.1-no-ithreads"
    PERLBREW_ROOT="/home/goku/perl5/perlbrew"
    PERLBREW_SHELLRC_VERSION="0.86"
    PERLBREW_VERSION="0.86"
    PERL_CR_SMOKER_CURRENT="WWW-Mechanize-Firefox-0.80"
    PERL_EXTUTILS_AUTOINSTALL="--defaultdeps"
    PERL_MM_USE_DEFAULT="1"
    PERL_USE_UNSAFE_INC="1"
  @INC:
    /home/goku/perl5/perlbrew/perls/perl-5.28.1-no-ithreads/lib/site_perl/5.28.1/OpenBSD.amd64-openbsd-multi
    /home/goku/perl5/perlbrew/perls/perl-5.28.1-no-ithreads/lib/site_perl/5.28.1
    /home/goku/perl5/perlbrew/perls/perl-5.28.1-no-ithreads/lib/5.28.1/OpenBSD.amd64-openbsd-multi
    /home/goku/perl5/perlbrew/perls/perl-5.28.1-no-ithreads/lib/5.28.1
    .