Report for Jedi-Plugin-Session-0.05

Back
From: metabase:user:314402c4-2aae-11df-837a-5e0a49663a4f
Subject: PASS Jedi-Plugin-Session-0.05 v5.20.1 RC1 GNU/Linux
Date: 2014-08-31T16:40:16Z

This distribution has been tested as part of the CPAN Testers
project, supporting the Perl programming language.  See
http://wiki.cpantesters.org/ for more information or email
questions to cpan-testers-discuss@perl.org


--
Dear celogeek,

This is a computer-generated report for Jedi-Plugin-Session-0.05
on perl 5.20.1, created by CPAN-Reporter-1.2011.

Thank you for uploading your work to CPAN.  Congratulations!
All tests were successful.

Sections of this report:

    * Tester comments
    * Program output
    * Prerequisites
    * Environment and other context

------------------------------
TESTER COMMENTS
------------------------------

Additional comments from tester:

none provided

------------------------------
PROGRAM OUTPUT
------------------------------

Output from './Build test':

t/00-compile.t ........... ok
# Testing with Perl 5.020001, /bbbike/perl-5.20.1-RC1/bin/perl
#     B::Hooks::EndOfScope version is 0.13
#     CGI::Cookie version is 1.31
#     Cache::LRU::WithExpires version is 0.03
#     Carp version is 1.3301
#     DBIx::Class::Core version is undefined
#     DBIx::Class::Migration version is 0.044
#     DBIx::Class::Schema version is undefined
#     Digest::SHA1 version is 2.13
#     File::ShareDir version is 1.102
#     File::Spec version is 3.48
#     HTTP::Request::Common version is 6.04
#     IO::Handle version is 1.35
#     IPC::Open3 version is 1.16
#     Import::Into version is 1.002004
#     Jedi version is 1.004
#     Jedi::App version is 1.004
#     Module::Build version is 0.4208
#     Module::Runtime version is 0.014
#     Moo version is 1.006
#     Moo::Role version is 1.006
#     Path::Class version is 0.34
#     Plack::Test version is undefined
#     Redis version is 1.975
#     Scalar::Util version is 1.39
#     Sereal version is 3.002
#     Test::File::ShareDir version is 1.000005
#     Test::More version is 1.001003
#     Test::Most version is 0.34
#     Time::Duration::Parse version is 0.11
#     base version is 2.18
#     strict version is 1.08
#     warnings version is 1.23
t/000-report-versions.t .. ok
t/author-critic.t ........ skipped: these tests are for testing by the author
t/release-kwalitee.t ..... skipped: these tests are for release candidate testing
t/release-unused-vars.t .. skipped: these tests are for release candidate testing
# Redis not found, skipping redis tests
# Expiration t::lib::session : Waiting 3 s ...
[DBICDH] [warn] no need to run upgrade
[DBICDH] [warn] no need to run upgrade
# Expiration t::lib::session_sqlite : Waiting 3 s ...
t/session.t .............. ok
All tests successful.
Files=6, Tests=74, 10 wallclock secs ( 0.03 usr  0.04 sys +  2.64 cusr  0.48 csys =  3.19 CPU)
Result: PASS

------------------------------
PREREQUISITES
------------------------------

Prerequisite modules loaded:

requires:

    Module                  Need   Have    
    ----------------------- ------ --------
    B::Hooks::EndOfScope    0      0.13    
    base                    0      2.18    
    Cache::LRU::WithExpires 0      0.03    
    Carp                    0      1.3301  
    CGI::Cookie             0      1.31    
    DBIx::Class::Core       0      0       
    DBIx::Class::Migration  0      0.044   
    DBIx::Class::Schema     0      0       
    Digest::SHA1            0      2.13    
    File::ShareDir          1.00   1.102   
    Import::Into            0      1.002004
    Jedi                    1.002  1.004   
    Module::Runtime         0      0.014   
    Moo                     0      1.006000
    Moo::Role               0      1.006000
    Path::Class             0.33   0.34    
    perl                    5.010  5.020001
    Redis                   0      1.975   
    Sereal                  0      3.002   
    strict                  0      1.08    
    Time::Duration::Parse   0      0.11    
    warnings                0      1.23    

build_requires:

    Module                  Need   Have    
    ----------------------- ------ --------
    File::Spec              0      3.48    
    HTTP::Request::Common   0      6.04    
    IO::Handle              0      1.35    
    IPC::Open3              0      1.16    
    Jedi                    1.002  1.004   
    Jedi::App               0      1.004   
    Module::Build           0.3601 0.4208  
    Path::Class             0.33   0.34    
    perl                    5.010  5.020001
    Plack::Test             0      0       
    Scalar::Util            0      1.39    
    Test::File::ShareDir    0      1.000005
    Test::More              0.94   1.001003
    Test::Most              0      0.34    

configure_requires:

    Module                  Need   Have    
    ----------------------- ------ --------
    Module::Build           0.3601 0.4208  


------------------------------
ENVIRONMENT AND OTHER CONTEXT
------------------------------

Environment variables:

    DBIC_NO_WARN_BAD_PERL = 1
    LANG = C
    LC_ALL = de_DE.UTF-8
    PATH = /usr/local/bin:/usr/bin:/bin:/usr/local/sbin:/usr/sbin:/sbin:/home/eserte/bin/linux-gnu:/home/eserte/bin/sh:/home/eserte/bin:/usr/games:/home/eserte/devel:/home/eserte/src/srezic-misc/scripts
    PERL5LIB = 
    PERL5OPT = 
    PERL5_CPANPLUS_IS_RUNNING = 30592
    PERL5_CPAN_IS_RUNNING = 30592
    PERL5_CPAN_IS_RUNNING_IN_RECURSION = 15107,30592
    PERLDOC = -MPod::Perldoc::ToTextOverstrike
    PERL_BATCH = yes
    PERL_CPAN_REPORTER_CONFIG = /var/tmp/cpansmoker-1001/bLqFK87rx6_config.ini
    PERL_EXTUTILS_AUTOINSTALL = --defaultdeps
    PERL_HTML_DISPLAY_CLASS = HTML::Display::Mozilla
    PERL_PARALLEL_SMOKER = yes
    SHELL = /bin/zsh
    TERM = screen
    TMPDIR = /var/tmp/cpansmoker-1001

Perl special variables (and OS-specific diagnostics, for MSWin32):

    $^X = /bbbike/perl-5.20.1-RC1/bin/perl
    $UID/$EUID = 1001 / 1001
    $GID = 1001 109 1001
    $EGID = 1001 109 1001

Perl module toolchain versions installed:

    Module              Have    
    ------------------- --------
    CPAN                2.05    
    CPAN::Meta          2.140640
    Cwd                 3.48    
    ExtUtils::CBuilder  0.280217
    ExtUtils::Command   1.18    
    ExtUtils::Install   1.67    
    ExtUtils::MakeMaker 6.98    
    ExtUtils::Manifest  1.66    
    ExtUtils::ParseXS   3.24    
    File::Spec          3.48    
    JSON                2.90    
    JSON::PP            2.27203 
    Module::Build       0.4208  
    Module::Signature   0.73    
    Parse::CPAN::Meta   1.4414  
    Test::Harness       3.33    
    Test::More          1.001003
    YAML                1.11    
    YAML::Syck          1.27    
    version             0.9909  


--

Summary of my perl5 (revision 5 version 20 subversion 1) configuration:
   
  Platform:
    osname=linux, osvers=3.2.0-4-amd64, archname=x86_64-linux
    uname='linux eserte 3.2.0-4-amd64 #1 smp debian 3.2.60-1+deb7u3 x86_64 gnulinux '
    config_args='-ds -e -Dprefix=/opt/perl-5.20.1-RC1'
    hint=recommended, useposix=true, d_sigaction=define
    useithreads=undef, usemultiplicity=undef
    use64bitint=define, use64bitall=define, uselongdouble=undef
    usemymalloc=n, bincompat5005=undef
  Compiler:
    cc='cc', ccflags ='-fwrapv -fno-strict-aliasing -pipe -fstack-protector -I/usr/local/include -D_LARGEFILE_SOURCE -D_FILE_OFFSET_BITS=64',
    optimize='-O2',
    cppflags='-fwrapv -fno-strict-aliasing -pipe -fstack-protector -I/usr/local/include'
    ccversion='', gccversion='4.7.2', gccosandvers=''
    intsize=4, longsize=8, ptrsize=8, doublesize=8, byteorder=12345678
    d_longlong=define, longlongsize=8, d_longdbl=define, longdblsize=16
    ivtype='long', ivsize=8, nvtype='double', nvsize=8, Off_t='off_t', lseeksize=8
    alignbytes=8, prototype=define
  Linker and Libraries:
    ld='cc', ldflags =' -fstack-protector -L/usr/local/lib'
    libpth=/usr/local/lib /usr/lib/gcc/x86_64-linux-gnu/4.7/include-fixed /usr/include/x86_64-linux-gnu /usr/lib /lib/x86_64-linux-gnu /lib/../lib /usr/lib/x86_64-linux-gnu /usr/lib/../lib /lib
    libs=-lnsl -ldb -ldl -lm -lcrypt -lutil -lc
    perllibs=-lnsl -ldl -lm -lcrypt -lutil -lc
    libc=libc-2.13.so, so=so, useshrplib=false, libperl=libperl.a
    gnulibc_version='2.13'
  Dynamic Linking:
    dlsrc=dl_dlopen.xs, dlext=so, d_dlsymun=undef, ccdlflags='-Wl,-E'
    cccdlflags='-fPIC', lddlflags='-shared -O2 -L/usr/local/lib -fstack-protector'


Characteristics of this binary (from libperl): 
  Compile-time options: HAS_TIMES PERLIO_LAYERS PERL_DONT_CREATE_GVSV
                        PERL_HASH_FUNC_ONE_AT_A_TIME_HARD PERL_MALLOC_WRAP
                        PERL_NEW_COPY_ON_WRITE PERL_PRESERVE_IVUV
                        USE_64_BIT_ALL USE_64_BIT_INT USE_LARGE_FILES
                        USE_LOCALE USE_LOCALE_COLLATE USE_LOCALE_CTYPE
                        USE_LOCALE_NUMERIC USE_PERLIO USE_PERL_ATOF
  Locally applied patches:
	RC1
  Built under linux
  Compiled at Aug 25 2014 19:48:42
  %ENV:
    PERL5LIB=""
    PERL5OPT=""
    PERL5_CPANPLUS_IS_RUNNING="30592"
    PERL5_CPAN_IS_RUNNING="30592"
    PERL5_CPAN_IS_RUNNING_IN_RECURSION="15107,30592"
    PERLDOC="-MPod::Perldoc::ToTextOverstrike"
    PERL_BATCH="yes"
    PERL_CPAN_REPORTER_CONFIG="/var/tmp/cpansmoker-1001/bLqFK87rx6_config.ini"
    PERL_EXTUTILS_AUTOINSTALL="--defaultdeps"
    PERL_HTML_DISPLAY_CLASS="HTML::Display::Mozilla"
    PERL_PARALLEL_SMOKER="yes"
  @INC:
    /opt/perl-5.20.1-RC1/lib/site_perl/5.20.1/x86_64-linux
    /opt/perl-5.20.1-RC1/lib/site_perl/5.20.1
    /opt/perl-5.20.1-RC1/lib/5.20.1/x86_64-linux
    /opt/perl-5.20.1-RC1/lib/5.20.1
    .