Module-Install v1.21 Perl 5 v5.14.4 darwin-2level

Status
Pass
From
Stanislaw Pusep
Dist
Module-Install v1.21
Platform
Perl 5 v5.14.4 darwin-2level
Date
2023-04-29 08:11:48
ID
7cfe9ed2-e665-11ed-b51c-b2aa3ecc2507
This distribution has been tested as part of the CPAN Testers
project, supporting the Perl programming language.  See
http://wiki.cpantesters.org/ for more information or email
questions to cpan-testers-discuss@perl.org


--
Dear ETHER,

This is a computer-generated report for Module-Install-1.21
on perl 5.14.4, created by App::cpanminus::reporter 0.18 (1.7044).

Thank you for uploading your work to CPAN.  Congratulations!
All tests were successful.

Sections of this report:

    * Tester comments
    * Program output
    * Prerequisites
    * Environment and other context

------------------------------
TESTER COMMENTS
------------------------------

Additional comments from tester:

none provided

------------------------------
PROGRAM OUTPUT
------------------------------

Output from '':

Building and testing Module-Install-1.21
cp lib/Module/Install/Admin/Bundle.pm blib/lib/Module/Install/Admin/Bundle.pm
cp lib/Module/Install/AutoInstall.pm blib/lib/Module/Install/AutoInstall.pm
cp lib/Module/Install/With.pm blib/lib/Module/Install/With.pm
cp lib/Module/Install/Run.pm blib/lib/Module/Install/Run.pm
cp lib/Module/Install/Can.pm blib/lib/Module/Install/Can.pm
cp lib/Module/Install/Admin.pm blib/lib/Module/Install/Admin.pm
cp lib/Module/Install/PAR.pm blib/lib/Module/Install/PAR.pm
cp lib/Module/Install/Fetch.pm blib/lib/Module/Install/Fetch.pm
cp lib/Module/Install/Admin/Compiler.pm blib/lib/Module/Install/Admin/Compiler.pm
cp lib/Module/Install/Admin/ScanDeps.pm blib/lib/Module/Install/Admin/ScanDeps.pm
cp lib/Module/Install/Deprecated.pm blib/lib/Module/Install/Deprecated.pm
cp lib/Module/Install/Admin/Find.pm blib/lib/Module/Install/Admin/Find.pm
cp lib/Module/Install/Metadata.pm blib/lib/Module/Install/Metadata.pm
cp lib/Module/Install/Bundle.pm blib/lib/Module/Install/Bundle.pm
cp lib/Module/Install/Makefile.pm blib/lib/Module/Install/Makefile.pm
cp lib/inc/Module/Install.pm blib/lib/inc/Module/Install.pm
cp lib/Module/Install/Admin/WriteAll.pm blib/lib/Module/Install/Admin/WriteAll.pm
cp lib/Module/Install/Compiler.pm blib/lib/Module/Install/Compiler.pm
cp lib/Module/Install/WriteAll.pm blib/lib/Module/Install/WriteAll.pm
cp lib/Module/Install.pm blib/lib/Module/Install.pm
cp lib/Module/Install/Include.pm blib/lib/Module/Install/Include.pm
cp lib/Module/Install/Scripts.pm blib/lib/Module/Install/Scripts.pm
cp lib/Module/AutoInstall.pm blib/lib/Module/AutoInstall.pm
cp lib/Module/Install/API.pod blib/lib/Module/Install/API.pod
cp lib/Module/Install/External.pm blib/lib/Module/Install/External.pm
cp lib/Module/Install/Win32.pm blib/lib/Module/Install/Win32.pm
cp lib/Module/Install/Admin/Include.pm blib/lib/Module/Install/Admin/Include.pm
cp lib/Module/Install/Admin/Makefile.pm blib/lib/Module/Install/Admin/Makefile.pm
cp lib/Module/Install/Share.pm blib/lib/Module/Install/Share.pm
cp lib/Module/Install/Admin/Manifest.pm blib/lib/Module/Install/Admin/Manifest.pm
cp lib/Module/Install/FAQ.pod blib/lib/Module/Install/FAQ.pod
cp lib/Module/Install/Base.pm blib/lib/Module/Install/Base.pm
cp lib/Module/Install/Admin/Metadata.pm blib/lib/Module/Install/Admin/Metadata.pm
cp lib/Module/Install/MakeMaker.pm blib/lib/Module/Install/MakeMaker.pm
cp lib/Module/Install/Inline.pm blib/lib/Module/Install/Inline.pm
cp lib/Module/Install/Philosophy.pod blib/lib/Module/Install/Philosophy.pod
cp lib/Module/Install.pod blib/lib/Module/Install.pod
Manifying 19 pod documents
PERL_DL_NONLAZY=1 "/Users/stan/perl5/perlbrew/perls/perl-5.14.4/bin/perl" "-MExtUtils::Command::MM" "-MTest::Harness" "-e" "undef *Test::Harness::Switches; test_harness(0, 'inc', 'blib/lib', 'blib/arch')" t/*.t t/recursive/*.t
t/01_compile.t .......................... ok
t/02_mymeta.t ........................... skipped: New EU::MM has own MYMETA support
t/03_autoinstall.t ...................... skipped: Skipping dangerous test
t/04_version.t .......................... ok
t/05_share.t ............................ ok
t/06_ppport.t ........................... ok
t/07_perl_version.t ..................... ok
t/09_read.t ............................. ok
t/10_test.t ............................. ok
t/11_extraction.t ....................... ok
t/12_eumm_params.t ...................... ok
t/13_author_tests.t ..................... ok
t/13_author_tests_ext.t ................. skipped: requires Module::Install::AuthorTests
t/13_author_tests_ext2.t ................ skipped: requires Module::Install::ExtraTests 0.007
t/14_auto_include_deps_with_version.t ... skipped: your perl is new enough to have File::Spec 3.30 in core
t/15_wrong_usage.t ...................... ok
t/16_require.t .......................... ok
t/17_sign.t ............................. ok
t/18_all_from.t ......................... ok
t/19_authors.t .......................... ok
t/20_authors_with_special_characters.t .. ok
t/21_makemaker_args.t ................... ok
Use of uninitialized value $cmd in substitution (s///) at /Users/stan/perl5/perlbrew/perls/perl-5.14.4/lib/site_perl/5.14.4/ExtUtils/MM_Any.pm line 347.
Use of uninitialized value $mandir in pattern match (m//) at /Users/stan/perl5/perlbrew/perls/perl-5.14.4/lib/site_perl/5.14.4/ExtUtils/MM_Unix.pm line 1530.
Use of uninitialized value $mandir in pattern match (m//) at /Users/stan/perl5/perlbrew/perls/perl-5.14.4/lib/site_perl/5.14.4/ExtUtils/MM_Unix.pm line 1530.
Use of uninitialized value $mandir in pattern match (m//) at /Users/stan/perl5/perlbrew/perls/perl-5.14.4/lib/site_perl/5.14.4/ExtUtils/MM_Unix.pm line 1530.
Use of uninitialized value $mandir in pattern match (m//) at /Users/stan/perl5/perlbrew/perls/perl-5.14.4/lib/site_perl/5.14.4/ExtUtils/MM_Unix.pm line 1530.
Use of uninitialized value $mandir in pattern match (m//) at /Users/stan/perl5/perlbrew/perls/perl-5.14.4/lib/site_perl/5.14.4/ExtUtils/MM_Unix.pm line 1530.
Use of uninitialized value $mandir in pattern match (m//) at /Users/stan/perl5/perlbrew/perls/perl-5.14.4/lib/site_perl/5.14.4/ExtUtils/MM_Unix.pm line 1530.
Use of uninitialized value $mandir in pattern match (m//) at /Users/stan/perl5/perlbrew/perls/perl-5.14.4/lib/site_perl/5.14.4/ExtUtils/MM_Unix.pm line 1530.
Use of uninitialized value $mandir in pattern match (m//) at /Users/stan/perl5/perlbrew/perls/perl-5.14.4/lib/site_perl/5.14.4/ExtUtils/MM_Unix.pm line 1530.
Use of uninitialized value $mandir in pattern match (m//) at /Users/stan/perl5/perlbrew/perls/perl-5.14.4/lib/site_perl/5.14.4/ExtUtils/MM_Unix.pm line 1530.
Use of uninitialized value $cmd in substitution (s///) at /Users/stan/perl5/perlbrew/perls/perl-5.14.4/lib/site_perl/5.14.4/ExtUtils/MM_Any.pm line 347.
Use of uninitialized value $mandir in pattern match (m//) at /Users/stan/perl5/perlbrew/perls/perl-5.14.4/lib/site_perl/5.14.4/ExtUtils/MM_Unix.pm line 1530.
Use of uninitialized value $mandir in pattern match (m//) at /Users/stan/perl5/perlbrew/perls/perl-5.14.4/lib/site_perl/5.14.4/ExtUtils/MM_Unix.pm line 1530.
Use of uninitialized value $mandir in pattern match (m//) at /Users/stan/perl5/perlbrew/perls/perl-5.14.4/lib/site_perl/5.14.4/ExtUtils/MM_Unix.pm line 1530.
Use of uninitialized value $mandir in pattern match (m//) at /Users/stan/perl5/perlbrew/perls/perl-5.14.4/lib/site_perl/5.14.4/ExtUtils/MM_Unix.pm line 1530.
Use of uninitialized value $mandir in pattern match (m//) at /Users/stan/perl5/perlbrew/perls/perl-5.14.4/lib/site_perl/5.14.4/ExtUtils/MM_Unix.pm line 1530.
Use of uninitialized value $mandir in pattern match (m//) at /Users/stan/perl5/perlbrew/perls/perl-5.14.4/lib/site_perl/5.14.4/ExtUtils/MM_Unix.pm line 1530.
Use of uninitialized value $mandir in pattern match (m//) at /Users/stan/perl5/perlbrew/perls/perl-5.14.4/lib/site_perl/5.14.4/ExtUtils/MM_Unix.pm line 1530.
Use of uninitialized value $mandir in pattern match (m//) at /Users/stan/perl5/perlbrew/perls/perl-5.14.4/lib/site_perl/5.14.4/ExtUtils/MM_Unix.pm line 1530.
Use of uninitialized value $mandir in pattern match (m//) at /Users/stan/perl5/perlbrew/perls/perl-5.14.4/lib/site_perl/5.14.4/ExtUtils/MM_Unix.pm line 1530.
Use of uninitialized value $cmd in substitution (s///) at /Users/stan/perl5/perlbrew/perls/perl-5.14.4/lib/site_perl/5.14.4/ExtUtils/MM_Any.pm line 347.
Use of uninitialized value $mandir in pattern match (m//) at /Users/stan/perl5/perlbrew/perls/perl-5.14.4/lib/site_perl/5.14.4/ExtUtils/MM_Unix.pm line 1530.
Use of uninitialized value $mandir in pattern match (m//) at /Users/stan/perl5/perlbrew/perls/perl-5.14.4/lib/site_perl/5.14.4/ExtUtils/MM_Unix.pm line 1530.
Use of uninitialized value $mandir in pattern match (m//) at /Users/stan/perl5/perlbrew/perls/perl-5.14.4/lib/site_perl/5.14.4/ExtUtils/MM_Unix.pm line 1530.
Use of uninitialized value $mandir in pattern match (m//) at /Users/stan/perl5/perlbrew/perls/perl-5.14.4/lib/site_perl/5.14.4/ExtUtils/MM_Unix.pm line 1530.
Use of uninitialized value $mandir in pattern match (m//) at /Users/stan/perl5/perlbrew/perls/perl-5.14.4/lib/site_perl/5.14.4/ExtUtils/MM_Unix.pm line 1530.
Use of uninitialized value $mandir in pattern match (m//) at /Users/stan/perl5/perlbrew/perls/perl-5.14.4/lib/site_perl/5.14.4/ExtUtils/MM_Unix.pm line 1530.
Use of uninitialized value $mandir in pattern match (m//) at /Users/stan/perl5/perlbrew/perls/perl-5.14.4/lib/site_perl/5.14.4/ExtUtils/MM_Unix.pm line 1530.
Use of uninitialized value $mandir in pattern match (m//) at /Users/stan/perl5/perlbrew/perls/perl-5.14.4/lib/site_perl/5.14.4/ExtUtils/MM_Unix.pm line 1530.
Use of uninitialized value $mandir in pattern match (m//) at /Users/stan/perl5/perlbrew/perls/perl-5.14.4/lib/site_perl/5.14.4/ExtUtils/MM_Unix.pm line 1530.
Use of uninitialized value $cmd in substitution (s///) at /Users/stan/perl5/perlbrew/perls/perl-5.14.4/lib/site_perl/5.14.4/ExtUtils/MM_Any.pm line 347.
Use of uninitialized value $mandir in pattern match (m//) at /Users/stan/perl5/perlbrew/perls/perl-5.14.4/lib/site_perl/5.14.4/ExtUtils/MM_Unix.pm line 1530.
Use of uninitialized value $mandir in pattern match (m//) at /Users/stan/perl5/perlbrew/perls/perl-5.14.4/lib/site_perl/5.14.4/ExtUtils/MM_Unix.pm line 1530.
Use of uninitialized value $mandir in pattern match (m//) at /Users/stan/perl5/perlbrew/perls/perl-5.14.4/lib/site_perl/5.14.4/ExtUtils/MM_Unix.pm line 1530.
Use of uninitialized value $mandir in pattern match (m//) at /Users/stan/perl5/perlbrew/perls/perl-5.14.4/lib/site_perl/5.14.4/ExtUtils/MM_Unix.pm line 1530.
Use of uninitialized value $mandir in pattern match (m//) at /Users/stan/perl5/perlbrew/perls/perl-5.14.4/lib/site_perl/5.14.4/ExtUtils/MM_Unix.pm line 1530.
Use of uninitialized value $mandir in pattern match (m//) at /Users/stan/perl5/perlbrew/perls/perl-5.14.4/lib/site_perl/5.14.4/ExtUtils/MM_Unix.pm line 1530.
Use of uninitialized value $mandir in pattern match (m//) at /Users/stan/perl5/perlbrew/perls/perl-5.14.4/lib/site_perl/5.14.4/ExtUtils/MM_Unix.pm line 1530.
Use of uninitialized value $mandir in pattern match (m//) at /Users/stan/perl5/perlbrew/perls/perl-5.14.4/lib/site_perl/5.14.4/ExtUtils/MM_Unix.pm line 1530.
Use of uninitialized value $mandir in pattern match (m//) at /Users/stan/perl5/perlbrew/perls/perl-5.14.4/lib/site_perl/5.14.4/ExtUtils/MM_Unix.pm line 1530.
old INSTALLDIRS (probably set by makemaker_args) is overriden by installdirs
Use of uninitialized value $cmd in substitution (s///) at /Users/stan/perl5/perlbrew/perls/perl-5.14.4/lib/site_perl/5.14.4/ExtUtils/MM_Any.pm line 347.
Use of uninitialized value $mandir in pattern match (m//) at /Users/stan/perl5/perlbrew/perls/perl-5.14.4/lib/site_perl/5.14.4/ExtUtils/MM_Unix.pm line 1530.
Use of uninitialized value $mandir in pattern match (m//) at /Users/stan/perl5/perlbrew/perls/perl-5.14.4/lib/site_perl/5.14.4/ExtUtils/MM_Unix.pm line 1530.
Use of uninitialized value $mandir in pattern match (m//) at /Users/stan/perl5/perlbrew/perls/perl-5.14.4/lib/site_perl/5.14.4/ExtUtils/MM_Unix.pm line 1530.
Use of uninitialized value $mandir in pattern match (m//) at /Users/stan/perl5/perlbrew/perls/perl-5.14.4/lib/site_perl/5.14.4/ExtUtils/MM_Unix.pm line 1530.
Use of uninitialized value $mandir in pattern match (m//) at /Users/stan/perl5/perlbrew/perls/perl-5.14.4/lib/site_perl/5.14.4/ExtUtils/MM_Unix.pm line 1530.
Use of uninitialized value $mandir in pattern match (m//) at /Users/stan/perl5/perlbrew/perls/perl-5.14.4/lib/site_perl/5.14.4/ExtUtils/MM_Unix.pm line 1530.
Use of uninitialized value $mandir in pattern match (m//) at /Users/stan/perl5/perlbrew/perls/perl-5.14.4/lib/site_perl/5.14.4/ExtUtils/MM_Unix.pm line 1530.
Use of uninitialized value $mandir in pattern match (m//) at /Users/stan/perl5/perlbrew/perls/perl-5.14.4/lib/site_perl/5.14.4/ExtUtils/MM_Unix.pm line 1530.
Use of uninitialized value $mandir in pattern match (m//) at /Users/stan/perl5/perlbrew/perls/perl-5.14.4/lib/site_perl/5.14.4/ExtUtils/MM_Unix.pm line 1530.
Use of uninitialized value $cmd in substitution (s///) at /Users/stan/perl5/perlbrew/perls/perl-5.14.4/lib/site_perl/5.14.4/ExtUtils/MM_Any.pm line 347.
Use of uninitialized value $mandir in pattern match (m//) at /Users/stan/perl5/perlbrew/perls/perl-5.14.4/lib/site_perl/5.14.4/ExtUtils/MM_Unix.pm line 1530.
Use of uninitialized value $mandir in pattern match (m//) at /Users/stan/perl5/perlbrew/perls/perl-5.14.4/lib/site_perl/5.14.4/ExtUtils/MM_Unix.pm line 1530.
Use of uninitialized value $mandir in pattern match (m//) at /Users/stan/perl5/perlbrew/perls/perl-5.14.4/lib/site_perl/5.14.4/ExtUtils/MM_Unix.pm line 1530.
Use of uninitialized value $mandir in pattern match (m//) at /Users/stan/perl5/perlbrew/perls/perl-5.14.4/lib/site_perl/5.14.4/ExtUtils/MM_Unix.pm line 1530.
Use of uninitialized value $mandir in pattern match (m//) at /Users/stan/perl5/perlbrew/perls/perl-5.14.4/lib/site_perl/5.14.4/ExtUtils/MM_Unix.pm line 1530.
Use of uninitialized value $mandir in pattern match (m//) at /Users/stan/perl5/perlbrew/perls/perl-5.14.4/lib/site_perl/5.14.4/ExtUtils/MM_Unix.pm line 1530.
Use of uninitialized value $mandir in pattern match (m//) at /Users/stan/perl5/perlbrew/perls/perl-5.14.4/lib/site_perl/5.14.4/ExtUtils/MM_Unix.pm line 1530.
Use of uninitialized value $mandir in pattern match (m//) at /Users/stan/perl5/perlbrew/perls/perl-5.14.4/lib/site_perl/5.14.4/ExtUtils/MM_Unix.pm line 1530.
Use of uninitialized value $mandir in pattern match (m//) at /Users/stan/perl5/perlbrew/perls/perl-5.14.4/lib/site_perl/5.14.4/ExtUtils/MM_Unix.pm line 1530.
t/22_installdirs.t ...................... ok
t/23_pl_files.t ......................... ok
t/24_multiple_license_blocks.t .......... ok
t/25_perl_version_from.t ................ ok
t/26_unknown_func.t ..................... ok
Warning: prerequisite Test::More 9999 not found. We have 1.302194.
t/27_build_requires_and_include.t ....... ok
t/28_makemaker_args.t ................... ok
t/29_requires_from.t .................... ok
t/30_build_subdirs.t .................... ok
t/31_add_metadata.t ..................... ok
t/32_module_name.t ...................... ok
t/33_copy.t ............................. ok
t/34_readwrite.t ........................ ok
t/recursive/test.t ...................... ok
All tests successful.
Files=36, Tests=547, 16 wallclock secs ( 0.12 usr  0.05 sys + 11.86 cusr  3.38 csys = 15.41 CPU)
Result: PASS

------------------------------
PREREQUISITES
------------------------------

Prerequisite modules loaded:

runtime:

    Module              Need   Have      
    ------------------- ------ ----------
    Devel::PPPort       3.16   3.68      
    ExtUtils::Install   1.52   2.22      
    ExtUtils::MakeMaker 6.59   7.70      
    ExtUtils::ParseXS   2.19   3.44      
    File::Path          0      2.18      
    File::Remove        1.42   1.61      
    File::Spec          3.28   3.75      
    Module::Build       0.29   0.4234    
    Module::CoreList    2.17   5.20230423
    Module::ScanDeps    1.09   1.31      
    Parse::CPAN::Meta   1.4413 2.150010  
    perl                5.006  5.014004  
    YAML::Tiny          1.38   1.74      

build:

    Module              Need   Have      
    ------------------- ------ ----------
    autodie             0      2.36      
    ExtUtils::MakeMaker 6.59   7.70      
    Test::Harness       3.13   3.44      
    Test::More          0.86   1.302195  
    YAML::Tiny          1.33   1.74      

configure:

    Module              Need   Have      
    ------------------- ------ ----------
    ExtUtils::MakeMaker 0      7.70      


------------------------------
ENVIRONMENT AND OTHER CONTEXT
------------------------------

Environment variables:

    LANG = en_US.UTF-8
    LC_ALL = en_US.UTF-8
    LC_CTYPE = UTF-8
    LC_TERMINAL = iTerm2
    LC_TERMINAL_VERSION = 3.4.19
    LDFLAGS = -L/usr/local/opt/curl/lib
    PATH = /Users/stan/perl5/perlbrew/bin:/Users/stan/perl5/perlbrew/perls/perl-5.14.4/bin:/Users/stan/perl5/perlbrew/bin:/Users/stan/perl5/perlbrew/perls/perl-5.36.0/bin:/usr/local/opt/mysql-client/bin:/usr/local/opt/curl/bin:/usr/local/bin:/usr/local/sbin:/usr/local/bin:/System/Cryptexes/App/usr/bin:/usr/bin:/bin:/usr/sbin:/sbin:/Applications/Little Snitch.app/Contents/Components:/opt/X11/bin:/var/run/com.apple.security.cryptexd/codex.system/bootstrap/usr/local/bin:/var/run/com.apple.security.cryptexd/codex.system/bootstrap/usr/bin:/var/run/com.apple.security.cryptexd/codex.system/bootstrap/usr/appleinternal/bin:/Users/stan/.vim/bin:/Users/stan/bin:/Users/stan/node_modules/.bin:/usr/local/sbin:/usr/local/opt/mysql-client/bin:/usr/local/opt/curl/bin
    PERL5LIB = 
    PERLBREW_HOME = /Users/stan/.perlbrew
    PERLBREW_LIB = 
    PERLBREW_MANPATH = /Users/stan/perl5/perlbrew/perls/perl-5.14.4/man
    PERLBREW_PATH = /Users/stan/perl5/perlbrew/bin:/Users/stan/perl5/perlbrew/perls/perl-5.14.4/bin
    PERLBREW_PERL = perl-5.14.4
    PERLBREW_ROOT = /Users/stan/perl5/perlbrew
    PERLBREW_SHELLRC_VERSION = 0.92
    PERLBREW_VERSION = 0.92
    PERL_LOCAL_LIB_ROOT = 
    PERL_MM_USE_DEFAULT = 1
    SHELL = /usr/local/bin/zsh
    TERM = screen-256color
    TMPDIR = /var/folders/tk/hx6fvpsj3yzbyd1k1br945mc0000gn/T/

Perl special variables (and OS-specific diagnostics, for MSWin32):

    EGID = 20 20 12 61 79 80 81 98 701 33 100 204 250 395 398 101 400
    EUID = 501
    EXECUTABLE_NAME = /Users/stan/perl5/perlbrew/perls/perl-5.14.4/bin/perl
    GID = 20 20 12 61 79 80 81 98 701 33 100 204 250 395 398 101 400
    UID = 501

Perl module toolchain versions installed:

    Module              Have    
    ------------------- --------
    CPAN                2.35    
    CPAN::Meta          2.150010
    Cwd                 3.75    
    ExtUtils::CBuilder  0.280236
    ExtUtils::Command   7.70    
    ExtUtils::Install   2.22    
    ExtUtils::MakeMaker 7.70    
    ExtUtils::Manifest  1.74    
    ExtUtils::ParseXS   3.44    
    File::Spec          3.75    
    JSON                4.10    
    JSON::PP            4.16    
    Module::Build       0.4234  
    Module::Signature   n/a     
    Parse::CPAN::Meta   2.150010
    Test::Harness       3.44    
    Test::More          1.302195
    YAML                1.30    
    YAML::Syck          n/a     
    version             0.9929  


--

Summary of my perl5 (revision 5 version 14 subversion 4) configuration:
   
  Platform:
    osname=darwin, osvers=21.3.0, archname=darwin-2level
    uname='darwin imac.fritz.box 21.3.0 darwin kernel version 21.3.0: wed jan 5 21:37:58 pst 2022; root:xnu-8019.80.24~20release_x86_64 x86_64 '
    config_args='-de -Dprefix=/Users/stan/perl5/perlbrew/perls/perl-5.14.4 -Aeval:scriptdir=/Users/stan/perl5/perlbrew/perls/perl-5.14.4/bin'
    hint=recommended, useposix=true, d_sigaction=define
    useithreads=undef, usemultiplicity=undef
    useperlio=define, d_sfio=undef, uselargefiles=define, usesocks=undef
    use64bitint=define, use64bitall=define, uselongdouble=undef
    usemymalloc=n, bincompat5005=undef
  Compiler:
    cc='cc', ccflags ='-fno-common -DPERL_DARWIN -mmacosx-version-min=12.2 -fno-strict-aliasing -pipe -fstack-protector -I/usr/local/include -DPERL_USE_SAFE_PUTENV',
    optimize='-O3',
    cppflags='-fno-common -DPERL_DARWIN -mmacosx-version-min=12.2 -fno-strict-aliasing -pipe -fstack-protector -I/usr/local/include'
    ccversion='', gccversion='Apple LLVM 13.0.0 (clang-1300.0.29.30)', gccosandvers=''
    intsize=4, longsize=8, ptrsize=8, doublesize=8, byteorder=12345678
    d_longlong=define, longlongsize=8, d_longdbl=define, longdblsize=16
    ivtype='long', ivsize=8, nvtype='double', nvsize=8, Off_t='off_t', lseeksize=8
    alignbytes=8, prototype=define
  Linker and Libraries:
    ld='cc', ldflags =' -mmacosx-version-min=12.2 -fstack-protector -L/usr/local/lib'
    libpth=/usr/local/lib /usr/lib
    libs=-lgdbm -ldb
    perllibs=
    libc=, so=dylib, useshrplib=false, libperl=libperl.a
    gnulibc_version=''
  Dynamic Linking:
    dlsrc=dl_dlopen.xs, dlext=bundle, d_dlsymun=undef, ccdlflags=' '
    cccdlflags=' ', lddlflags=' -mmacosx-version-min=12.2 -bundle -undefined dynamic_lookup -L/usr/local/lib -fstack-protector'


Characteristics of this binary (from libperl): 
  Compile-time options: PERL_DONT_CREATE_GVSV PERL_MALLOC_WRAP
                        PERL_PRESERVE_IVUV PERL_USE_SAFE_PUTENV
                        USE_64_BIT_ALL USE_64_BIT_INT USE_LARGE_FILES
                        USE_PERLIO USE_PERL_ATOF
  Locally applied patches:
	Devel::PatchPerl 2.08
  Built under darwin
  Compiled at Feb 10 2022 22:59:08
  %ENV:
    PERL5LIB=""
    PERLBREW_HOME="/Users/stan/.perlbrew"
    PERLBREW_LIB=""
    PERLBREW_MANPATH="/Users/stan/perl5/perlbrew/perls/perl-5.14.4/man"
    PERLBREW_PATH="/Users/stan/perl5/perlbrew/bin:/Users/stan/perl5/perlbrew/perls/perl-5.14.4/bin"
    PERLBREW_PERL="perl-5.14.4"
    PERLBREW_ROOT="/Users/stan/perl5/perlbrew"
    PERLBREW_SHELLRC_VERSION="0.92"
    PERLBREW_VERSION="0.92"
    PERL_LOCAL_LIB_ROOT=""
    PERL_MM_USE_DEFAULT="1"
  @INC:
    /Users/stan/perl5/perlbrew/perls/perl-5.14.4/lib/site_perl/5.14.4/darwin-2level
    /Users/stan/perl5/perlbrew/perls/perl-5.14.4/lib/site_perl/5.14.4
    /Users/stan/perl5/perlbrew/perls/perl-5.14.4/lib/5.14.4/darwin-2level
    /Users/stan/perl5/perlbrew/perls/perl-5.14.4/lib/5.14.4
    .