Crypt-SMIME v0.31 Perl 5 v5.18.2 x86_64-linux
- Status
- Pass
- From
- Slaven Rezić
- Dist
-
Crypt-SMIME v0.31
- Platform
- Perl 5 v5.18.2 x86_64-linux
- Date
- 2025-03-30 17:29:09
- ID
- 7ce433ee-0d8c-11f0-9121-06ee6d8775ea
This distribution has been tested as part of the CPAN Testers
project, supporting the Perl programming language. See
http://wiki.cpantesters.org/ for more information or email
questions to cpan-testers-discuss@perl.org
--
Dear SANO Taku,
This is a computer-generated report for Crypt-SMIME-0.31
on perl 5.18.2, created by CPAN-Reporter-1.2018.
Thank you for uploading your work to CPAN. Congratulations!
All tests were successful.
Sections of this report:
* Tester comments
* Program output
* Prerequisites
* Environment and other context
------------------------------
TESTER COMMENTS
------------------------------
Additional comments from tester:
none provided
------------------------------
PROGRAM OUTPUT
------------------------------
Output from '/usr/bin/make test':
"/opt/perl-5.18.2/bin/perl" -MExtUtils::Command::MM -e 'cp_nonempty' -- SMIME.bs blib/arch/auto/Crypt/SMIME/SMIME.bs 644
PERL_DL_NONLAZY=1 "/opt/perl-5.18.2/bin/perl" "-MExtUtils::Command::MM" "-MTest::Harness" "-e" "undef *Test::Harness::Switches; test_harness(0, 'blib/lib', 'blib/arch')" t/*.t
# Testing Crypt::SMIME 0.31, Perl 5.018002, /opt/perl-5.18.2/bin/perl
t/00-load.t ........... ok
# Using `/usr/bin/openssl' to generate a keypair
t/01-smime.t .......... ok
# Using `/usr/bin/openssl' to generate a keypair
t/02-smime.more.t ..... ok
# Using `/usr/bin/openssl' to generate a keypair
t/03-chained-certs.t .. ok
t/04-taint.t .......... skipped: Test::Taint 1.06 required for testing behaviors on tainted inputs
t/boilerplate.t ....... ok
t/manifest.t .......... ok
t/pod-coverage.t ...... ok
t/pod.t ............... ok
All tests successful.
Files=9, Tests=67, 2 wallclock secs ( 0.02 usr 0.02 sys + 1.70 cusr 0.16 csys = 1.90 CPU)
Result: PASS
------------------------------
PREREQUISITES
------------------------------
Prerequisite modules loaded:
requires:
Module Need Have
------------------- ---- --------
XSLoader 0 0.16
build_requires:
Module Need Have
------------------- ---- --------
ExtUtils::PkgConfig 0 1.16
Test::Exception 0 0.43
Test::More 0 1.302162
configure_requires:
Module Need Have
------------------- ---- --------
ExtUtils::CChecker 0 0.12
ExtUtils::Constant 0.23 0.23
ExtUtils::MakeMaker 0 7.24
ExtUtils::PkgConfig 0 1.16
------------------------------
ENVIRONMENT AND OTHER CONTEXT
------------------------------
Environment variables:
LANG = en_US.UTF-8
LANGUAGE = en_US:en
PATH = /usr/local/bin:/usr/bin:/bin:/usr/local/sbin:/usr/sbin:/sbin:/home/cpansand/bin/linux-gnu:/home/cpansand/bin/sh:/home/cpansand/bin:/usr/games:/home/cpansand/devel:/home/eserte/src/srezic-misc/scripts
PERL5LIB = /home/cpansand/.cpan/build/2025033019/ExtUtils-PkgConfig-1.16-0/blib/arch:/home/cpansand/.cpan/build/2025033019/ExtUtils-PkgConfig-1.16-0/blib/lib:/home/cpansand/.cpan/build/2025033019/ExtUtils-CChecker-0.12-0/blib/arch:/home/cpansand/.cpan/build/2025033019/ExtUtils-CChecker-0.12-0/blib/lib
PERL5OPT =
PERL5_CPANPLUS_IS_RUNNING = 32076
PERL5_CPAN_IS_RUNNING = 32076
PERL5_CPAN_IS_RUNNING_IN_RECURSION = 32055,32076
PERLDOC = -MPod::Perldoc::ToTextOverstrike
PERL_BATCH = yes
PERL_CANARY_STABILITY_NOPROMPT = 1
PERL_CPAN_REPORTER_CONFIG = /var/tmp/cpansmoker-1023/2025033019/cpanreporter_000_config.ini
PERL_EXTUTILS_AUTOINSTALL = --defaultdeps
SHELL = /bin/zsh
TERM = screen
TMPDIR = /var/tmp/cpansmoker-1023/2025033019
Perl special variables (and OS-specific diagnostics, for MSWin32):
$^X = /opt/perl-5.18.2/bin/perl
$UID/$EUID = 1023 / 1023
$GID = 1023 1023
$EGID = 1023 1023
Perl module toolchain versions installed:
Module Have
------------------- --------
CPAN 2.14
CPAN::Meta 2.150010
Cwd 3.40
ExtUtils::CBuilder 0.280210
ExtUtils::Command 7.24
ExtUtils::Install 1.59
ExtUtils::MakeMaker 7.24
ExtUtils::Manifest 1.70
ExtUtils::ParseXS 3.18
File::Spec 3.40
JSON 2.90
JSON::PP 2.27400
Module::Build 0.4224
Module::Signature 0.83
Parse::CPAN::Meta 2.150010
Test::Harness 3.33
Test::More 1.302162
YAML 0.88
YAML::Syck 1.27
version 0.9902
--
Summary of my perl5 (revision 5 version 18 subversion 2) configuration:
Platform:
osname=linux, osvers=3.2.0-4-amd64, archname=x86_64-linux
uname='linux cvrsnica-wheezy 3.2.0-4-amd64 #1 smp debian 3.2.51-1 x86_64 gnulinux '
config_args='-ds -e -Dprefix=/opt/perl-5.18.2'
hint=recommended, useposix=true, d_sigaction=define
useithreads=undef, usemultiplicity=undef
useperlio=define, d_sfio=undef, uselargefiles=define, usesocks=undef
use64bitint=define, use64bitall=define, uselongdouble=undef
usemymalloc=n, bincompat5005=undef
Compiler:
cc='cc', ccflags ='-fno-strict-aliasing -pipe -fstack-protector -I/usr/local/include -D_LARGEFILE_SOURCE -D_FILE_OFFSET_BITS=64',
optimize='-O2',
cppflags='-fno-strict-aliasing -pipe -fstack-protector -I/usr/local/include'
ccversion='', gccversion='4.7.2', gccosandvers=''
intsize=4, longsize=8, ptrsize=8, doublesize=8, byteorder=12345678
d_longlong=define, longlongsize=8, d_longdbl=define, longdblsize=16
ivtype='long', ivsize=8, nvtype='double', nvsize=8, Off_t='off_t', lseeksize=8
alignbytes=8, prototype=define
Linker and Libraries:
ld='cc', ldflags =' -fstack-protector -L/usr/local/lib'
libpth=/usr/local/lib /lib/x86_64-linux-gnu /lib/../lib /usr/lib/x86_64-linux-gnu /usr/lib/../lib /lib /usr/lib
libs=-lnsl -ldb -ldl -lm -lcrypt -lutil -lc
perllibs=-lnsl -ldl -lm -lcrypt -lutil -lc
libc=, so=so, useshrplib=false, libperl=libperl.a
gnulibc_version='2.13'
Dynamic Linking:
dlsrc=dl_dlopen.xs, dlext=so, d_dlsymun=undef, ccdlflags='-Wl,-E'
cccdlflags='-fPIC', lddlflags='-shared -O2 -L/usr/local/lib -fstack-protector'
Characteristics of this binary (from libperl):
Compile-time options: HAS_TIMES PERLIO_LAYERS PERL_DONT_CREATE_GVSV
PERL_HASH_FUNC_ONE_AT_A_TIME_HARD PERL_MALLOC_WRAP
PERL_PRESERVE_IVUV PERL_SAWAMPERSAND USE_64_BIT_ALL
USE_64_BIT_INT USE_LARGE_FILES USE_LOCALE
USE_LOCALE_COLLATE USE_LOCALE_CTYPE
USE_LOCALE_NUMERIC USE_PERLIO USE_PERL_ATOF
Built under linux
Compiled at Feb 2 2014 18:47:50
%ENV:
PERL5LIB="/home/cpansand/.cpan/build/2025033019/ExtUtils-PkgConfig-1.16-0/blib/arch:/home/cpansand/.cpan/build/2025033019/ExtUtils-PkgConfig-1.16-0/blib/lib:/home/cpansand/.cpan/build/2025033019/ExtUtils-CChecker-0.12-0/blib/arch:/home/cpansand/.cpan/build/2025033019/ExtUtils-CChecker-0.12-0/blib/lib"
PERL5OPT=""
PERL5_CPANPLUS_IS_RUNNING="32076"
PERL5_CPAN_IS_RUNNING="32076"
PERL5_CPAN_IS_RUNNING_IN_RECURSION="32055,32076"
PERLDOC="-MPod::Perldoc::ToTextOverstrike"
PERL_BATCH="yes"
PERL_CANARY_STABILITY_NOPROMPT="1"
PERL_CPAN_REPORTER_CONFIG="/var/tmp/cpansmoker-1023/2025033019/cpanreporter_000_config.ini"
PERL_EXTUTILS_AUTOINSTALL="--defaultdeps"
@INC:
/home/cpansand/.cpan/build/2025033019/ExtUtils-PkgConfig-1.16-0/blib/arch
/home/cpansand/.cpan/build/2025033019/ExtUtils-PkgConfig-1.16-0/blib/lib
/home/cpansand/.cpan/build/2025033019/ExtUtils-CChecker-0.12-0/blib/arch
/home/cpansand/.cpan/build/2025033019/ExtUtils-CChecker-0.12-0/blib/lib
/opt/perl-5.18.2/lib/site_perl/5.18.2/x86_64-linux
/opt/perl-5.18.2/lib/site_perl/5.18.2
/opt/perl-5.18.2/lib/5.18.2/x86_64-linux
/opt/perl-5.18.2/lib/5.18.2
.